BEGIN:VCALENDAR
VERSION:2.0
PRODID:-//GCRCLA - ECPv6.15.20//NONSGML v1.0//EN
CALSCALE:GREGORIAN
METHOD:PUBLISH
X-ORIGINAL-URL:https://gcrcla.org
X-WR-CALDESC:Events for GCRCLA
REFRESH-INTERVAL;VALUE=DURATION:PT1H
X-Robots-Tag:noindex
X-PUBLISHED-TTL:PT1H
BEGIN:VTIMEZONE
TZID:UTC
BEGIN:STANDARD
TZOFFSETFROM:+0000
TZOFFSETTO:+0000
TZNAME:UTC
DTSTART:20240101T000000
END:STANDARD
END:VTIMEZONE
BEGIN:VEVENT
DTSTART;TZID=UTC:20250203T090000
DTEND;TZID=UTC:20250203T160000
DTSTAMP:20260423T225347
CREATED:20250127T144846Z
LAST-MODIFIED:20250207T014251Z
UID:10000006-1738573200-1738598400@gcrcla.org
SUMMARY:Every Monday
DESCRIPTION:Blood Pressure Screenings\n\n\n\n\nClothing Distribution\n\n\n\n\nFood Distribution
URL:https://gcrcla.org/event/every-monday/
LOCATION:GCRCLA\, 4126 Arlington Ave\, Los Angeles\, CA\, CA\, United States
CATEGORIES:Event,Every Monday,The Wilcox
ATTACH;FMTTYPE=image/jpeg:https://gcrcla.org/wp-content/uploads/2025/01/Every-Monday.jpg
ORGANIZER;CN="GCRCLA":MAILTO:info@gcrcla.org, ywanderson@gcrcla.org
END:VEVENT
END:VCALENDAR