BEGIN:VCALENDAR
VERSION:2.0
PRODID:-//GCRCLA - ECPv6.15.20//NONSGML v1.0//EN
CALSCALE:GREGORIAN
METHOD:PUBLISH
X-ORIGINAL-URL:https://gcrcla.org
X-WR-CALDESC:Events for GCRCLA
REFRESH-INTERVAL;VALUE=DURATION:PT1H
X-Robots-Tag:noindex
X-PUBLISHED-TTL:PT1H
BEGIN:VTIMEZONE
TZID:UTC
BEGIN:STANDARD
TZOFFSETFROM:+0000
TZOFFSETTO:+0000
TZNAME:UTC
DTSTART:20240101T000000
END:STANDARD
END:VTIMEZONE
BEGIN:VEVENT
DTSTART;TZID=UTC:20250217T090000
DTEND;TZID=UTC:20250217T150000
DTSTAMP:20260423T225315
CREATED:20250127T152311Z
LAST-MODIFIED:20250214T000749Z
UID:10000007-1739782800-1739804400@gcrcla.org
SUMMARY:Third Mondays
DESCRIPTION:La Regional Food Bank Box Distribution
URL:https://gcrcla.org/event/third-mondays/
LOCATION:GCRCLA\, 4126 Arlington Ave\, Los Angeles\, CA\, CA\, United States
CATEGORIES:Event,The Wilcox,Third Mondays
ATTACH;FMTTYPE=image/jpeg:https://gcrcla.org/wp-content/uploads/2025/01/Third-Monday.jpg
END:VEVENT
END:VCALENDAR