BEGIN:VCALENDAR
VERSION:2.0
PRODID:-//GCRCLA - ECPv6.15.20//NONSGML v1.0//EN
CALSCALE:GREGORIAN
METHOD:PUBLISH
X-WR-CALNAME:GCRCLA
X-ORIGINAL-URL:https://gcrcla.org
X-WR-CALDESC:Events for GCRCLA
REFRESH-INTERVAL;VALUE=DURATION:PT1H
X-Robots-Tag:noindex
X-PUBLISHED-TTL:PT1H
BEGIN:VTIMEZONE
TZID:UTC
BEGIN:STANDARD
TZOFFSETFROM:+0000
TZOFFSETTO:+0000
TZNAME:UTC
DTSTART:20240101T000000
END:STANDARD
END:VTIMEZONE
BEGIN:VEVENT
DTSTART;TZID=UTC:20250219T100000
DTEND;TZID=UTC:20250219T150000
DTSTAMP:20260423T225218
CREATED:20250128T225733Z
LAST-MODIFIED:20250207T014515Z
UID:10000013-1739959200-1739977200@gcrcla.org
SUMMARY:Third Wednesday
DESCRIPTION:La Regional Food Bank Box Distribution
URL:https://gcrcla.org/event/third-wednesday/
LOCATION:Metro@Buckingham\, 4018 Buckingham Rd\, Los Angeles\, CA\, 90008\, United States
CATEGORIES:Event,Metro@Buckingham,Third Wednesday
ATTACH;FMTTYPE=image/jpeg:https://gcrcla.org/wp-content/uploads/2025/01/Third-Wednesday.jpg
END:VEVENT
END:VCALENDAR