BEGIN:VCALENDAR
VERSION:2.0
PRODID:-//GCRCLA - ECPv6.15.20//NONSGML v1.0//EN
CALSCALE:GREGORIAN
METHOD:PUBLISH
X-ORIGINAL-URL:https://gcrcla.org
X-WR-CALDESC:Events for GCRCLA
REFRESH-INTERVAL;VALUE=DURATION:PT1H
X-Robots-Tag:noindex
X-PUBLISHED-TTL:PT1H
BEGIN:VTIMEZONE
TZID:UTC
BEGIN:STANDARD
TZOFFSETFROM:+0000
TZOFFSETTO:+0000
TZNAME:UTC
DTSTART:20240101T000000
END:STANDARD
END:VTIMEZONE
BEGIN:VEVENT
DTSTART;TZID=UTC:20250311T100000
DTEND;TZID=UTC:20250311T100000
DTSTAMP:20260424T003630
CREATED:20250222T011216Z
LAST-MODIFIED:20250225T001041Z
UID:10000048-1741687200-1741687200@gcrcla.org
SUMMARY:Every Tuesday
DESCRIPTION:FOOD DISTRIBUTION
URL:https://gcrcla.org/event/every-tuesday-3/
LOCATION:The Quincy\, 2652 West Pico Blvd\, Los Angeles\, CA\, 90006\, United States
CATEGORIES:Food Distribution
ATTACH;FMTTYPE=image/jpeg:https://gcrcla.org/wp-content/uploads/2025/02/Every-Tuesday-Food-Distribution.jpg
ORGANIZER;CN="GCRCLA":MAILTO:info@gcrcla.org, ywanderson@gcrcla.org
END:VEVENT
BEGIN:VEVENT
DTSTART;TZID=UTC:20250311T100000
DTEND;TZID=UTC:20250311T100000
DTSTAMP:20260424T003630
CREATED:20250222T011301Z
LAST-MODIFIED:20250225T004218Z
UID:10000054-1741687200-1741687200@gcrcla.org
SUMMARY:Second Tuesday
DESCRIPTION:(NEW) FOOD BAG DISTRIBUTION – NEW PARTNER
URL:https://gcrcla.org/event/second-tuesday/
LOCATION:The Chesterfield\, 4723 So. Normandie Ave.\, Los Angeles\, CA\, 90062\, United States
CATEGORIES:(NEW) FOOD BAG DISTRIBUTION - NEW PARTNER
ATTACH;FMTTYPE=image/jpeg:https://gcrcla.org/wp-content/uploads/2025/02/Second-Tuesday-Chesterfield.jpg
ORGANIZER;CN="GCRCLA":MAILTO:info@gcrcla.org, ywanderson@gcrcla.org
END:VEVENT
END:VCALENDAR