BEGIN:VCALENDAR
VERSION:2.0
PRODID:-//GCRCLA - ECPv6.15.20//NONSGML v1.0//EN
CALSCALE:GREGORIAN
METHOD:PUBLISH
X-ORIGINAL-URL:https://gcrcla.org
X-WR-CALDESC:Events for GCRCLA
REFRESH-INTERVAL;VALUE=DURATION:PT1H
X-Robots-Tag:noindex
X-PUBLISHED-TTL:PT1H
BEGIN:VTIMEZONE
TZID:UTC
BEGIN:STANDARD
TZOFFSETFROM:+0000
TZOFFSETTO:+0000
TZNAME:UTC
DTSTART:20240101T000000
END:STANDARD
END:VTIMEZONE
BEGIN:VEVENT
DTSTART;TZID=UTC:20250314T100000
DTEND;TZID=UTC:20250314T100000
DTSTAMP:20260424T003629
CREATED:20250222T011505Z
LAST-MODIFIED:20250226T001603Z
UID:10000070-1741946400-1741946400@gcrcla.org
SUMMARY:Second Friday
DESCRIPTION:EXERCISE CLASS
URL:https://gcrcla.org/event/second-friday-2/
LOCATION:The Chesterfield\, 4723 So. Normandie Ave.\, Los Angeles\, CA\, 90062\, United States
CATEGORIES:EXERCISE CLASS
ATTACH;FMTTYPE=image/jpeg:https://gcrcla.org/wp-content/uploads/2025/02/Second-Friday-Exercise-Class-Chesterfiels.jpg
ORGANIZER;CN="GCRCLA":MAILTO:info@gcrcla.org, ywanderson@gcrcla.org
END:VEVENT
END:VCALENDAR