BEGIN:VCALENDAR
VERSION:2.0
PRODID:-//GCRCLA - ECPv6.15.20//NONSGML v1.0//EN
CALSCALE:GREGORIAN
METHOD:PUBLISH
X-ORIGINAL-URL:https://gcrcla.org
X-WR-CALDESC:Events for GCRCLA
REFRESH-INTERVAL;VALUE=DURATION:PT1H
X-Robots-Tag:noindex
X-PUBLISHED-TTL:PT1H
BEGIN:VTIMEZONE
TZID:UTC
BEGIN:STANDARD
TZOFFSETFROM:+0000
TZOFFSETTO:+0000
TZNAME:UTC
DTSTART:20240101T000000
END:STANDARD
END:VTIMEZONE
BEGIN:VEVENT
DTSTART;TZID=UTC:20250326T100000
DTEND;TZID=UTC:20250326T100000
DTSTAMP:20260424T003630
CREATED:20250222T011402Z
LAST-MODIFIED:20250225T234539Z
UID:10000059-1742983200-1742983200@gcrcla.org
SUMMARY:Every Wednesday
DESCRIPTION:BLOOD PRESSURE SCREENING
URL:https://gcrcla.org/event/every-wednesday-5/
LOCATION:Metro@Buckingham\, 4018 Buckingham Rd\, Los Angeles\, CA\, 90008\, United States
CATEGORIES:Blood Pressure Screening
ATTACH;FMTTYPE=image/jpeg:https://gcrcla.org/wp-content/uploads/2025/02/Every-Wednesday-BLOOD-PRESSURE-SCREENING.jpg
ORGANIZER;CN="GCRCLA":MAILTO:info@gcrcla.org, ywanderson@gcrcla.org
END:VEVENT
BEGIN:VEVENT
DTSTART;TZID=UTC:20250326T100000
DTEND;TZID=UTC:20250326T100000
DTSTAMP:20260424T003630
CREATED:20250222T011402Z
LAST-MODIFIED:20250225T235254Z
UID:10000061-1742983200-1742983200@gcrcla.org
SUMMARY:Fourth Wednesday
DESCRIPTION:POP UP CLOTHING DISTRIBUTION\, RAFFLES FOR BLOOD PRESSURE PARTICIPATION
URL:https://gcrcla.org/event/fourth-wednesday-2/
LOCATION:Metro@Buckingham\, 4018 Buckingham Rd\, Los Angeles\, CA\, 90008\, United States
CATEGORIES:POP UP CLOTHING DISTRIBUTION,RAFFLES FOR BLOOD PRESSURE PARTICIPATION
ATTACH;FMTTYPE=image/jpeg:https://gcrcla.org/wp-content/uploads/2025/02/Fourth-Wednesday-POP-UP-CLOTHING-DISTRIBUTION-RAFFLES-FOR-BLOOD-PRESSURE-PARTICIPATION.jpg
ORGANIZER;CN="GCRCLA":MAILTO:info@gcrcla.org, ywanderson@gcrcla.org
END:VEVENT
END:VCALENDAR