BEGIN:VCALENDAR
VERSION:2.0
PRODID:-//GCRCLA - ECPv6.15.20//NONSGML v1.0//EN
CALSCALE:GREGORIAN
METHOD:PUBLISH
X-ORIGINAL-URL:https://gcrcla.org
X-WR-CALDESC:Events for GCRCLA
REFRESH-INTERVAL;VALUE=DURATION:PT1H
X-Robots-Tag:noindex
X-PUBLISHED-TTL:PT1H
BEGIN:VTIMEZONE
TZID:UTC
BEGIN:STANDARD
TZOFFSETFROM:+0000
TZOFFSETTO:+0000
TZNAME:UTC
DTSTART:20240101T000000
END:STANDARD
END:VTIMEZONE
BEGIN:VEVENT
DTSTART;TZID=UTC:20250327T100000
DTEND;TZID=UTC:20250327T100000
DTSTAMP:20260424T003143
CREATED:20250222T011403Z
LAST-MODIFIED:20250225T235952Z
UID:10000062-1743069600-1743069600@gcrcla.org
SUMMARY:Fourth Thursday
DESCRIPTION:PRODUCE\, MEAT\, BEVERAGE\, DRY GOOD BOX DISTRIBUTION
URL:https://gcrcla.org/event/fourth-thursday-2/
LOCATION:Metro@Buckingham\, 4018 Buckingham Rd\, Los Angeles\, CA\, 90008\, United States
CATEGORIES:BEVERAGE,DRY GOOD BOX DISTRIBUTION,MEAT,PRODUCE
ATTACH;FMTTYPE=image/jpeg:https://gcrcla.org/wp-content/uploads/2025/02/Fourth-Thursday-PRODUCE-MEAT-BEVERAGE-DRY-GOOD-BOX-DISTRIBUTION.jpg
ORGANIZER;CN="GCRCLA":MAILTO:info@gcrcla.org, ywanderson@gcrcla.org
END:VEVENT
END:VCALENDAR