BEGIN:VCALENDAR
VERSION:2.0
PRODID:-//GCRCLA - ECPv6.15.20//NONSGML v1.0//EN
CALSCALE:GREGORIAN
METHOD:PUBLISH
X-ORIGINAL-URL:https://gcrcla.org
X-WR-CALDESC:Events for GCRCLA
REFRESH-INTERVAL;VALUE=DURATION:PT1H
X-Robots-Tag:noindex
X-PUBLISHED-TTL:PT1H
BEGIN:VTIMEZONE
TZID:UTC
BEGIN:STANDARD
TZOFFSETFROM:+0000
TZOFFSETTO:+0000
TZNAME:UTC
DTSTART:20240101T000000
END:STANDARD
END:VTIMEZONE
BEGIN:VEVENT
DTSTART;TZID=UTC:20250404T100000
DTEND;TZID=UTC:20250404T130000
DTSTAMP:20260424T003633
CREATED:20250329T130844Z
LAST-MODIFIED:20250329T154810Z
UID:10000079-1743760800-1743771600@gcrcla.org
SUMMARY:First Friday
DESCRIPTION:PRODUCE GIVE AWAY
URL:https://gcrcla.org/event/first-friday-4/
LOCATION:The Chesterfield\, 4723 So. Normandie Ave.\, Los Angeles\, CA\, 90062\, United States
CATEGORIES:PRODUCE GIVE AWAY
ATTACH;FMTTYPE=image/jpeg:https://gcrcla.org/wp-content/uploads/2025/01/First-Friday.jpg
ORGANIZER;CN="GCRCLA":MAILTO:info@gcrcla.org, ywanderson@gcrcla.org
END:VEVENT
BEGIN:VEVENT
DTSTART;TZID=UTC:20250404T100000
DTEND;TZID=UTC:20250404T130000
DTSTAMP:20260424T003633
CREATED:20250329T130844Z
LAST-MODIFIED:20250329T144449Z
UID:10000083-1743760800-1743771600@gcrcla.org
SUMMARY:First Friday
DESCRIPTION:PRODUCE GIVE AWAY
URL:https://gcrcla.org/event/first-friday-5/
LOCATION:The Quincy\, 2652 West Pico Blvd\, Los Angeles\, CA\, 90006\, United States
CATEGORIES:PRODUCE GIVE AWAY
ATTACH;FMTTYPE=image/jpeg:https://gcrcla.org/wp-content/uploads/2025/02/First-Friday-Produce-Give-Away-The-Wilcox.jpg
ORGANIZER;CN="GCRCLA":MAILTO:info@gcrcla.org, ywanderson@gcrcla.org
END:VEVENT
BEGIN:VEVENT
DTSTART;TZID=UTC:20250404T100000
DTEND;TZID=UTC:20250404T130000
DTSTAMP:20260424T003633
CREATED:20250329T131437Z
LAST-MODIFIED:20250329T144705Z
UID:10000099-1743760800-1743771600@gcrcla.org
SUMMARY:Every Friday
DESCRIPTION:BLOOD PRESSURE SCREENING\, Clothing Distribution
URL:https://gcrcla.org/event/every-friday-6/
LOCATION:The Chesterfield\, 4723 So. Normandie Ave.\, Los Angeles\, CA\, 90062\, United States
CATEGORIES:Blood Pressure Screening,Clothing Distribution
ATTACH;FMTTYPE=image/jpeg:https://gcrcla.org/wp-content/uploads/2025/02/Every-Friday-BLOOD-PRESSURE-SCREENING-Clothing-Distribution-Chesterfield.jpg
ORGANIZER;CN="GCRCLA":MAILTO:info@gcrcla.org, ywanderson@gcrcla.org
END:VEVENT
END:VCALENDAR