BEGIN:VCALENDAR
VERSION:2.0
PRODID:-//GCRCLA - ECPv6.15.20//NONSGML v1.0//EN
CALSCALE:GREGORIAN
METHOD:PUBLISH
X-WR-CALNAME:GCRCLA
X-ORIGINAL-URL:https://gcrcla.org
X-WR-CALDESC:Events for GCRCLA
REFRESH-INTERVAL;VALUE=DURATION:PT1H
X-Robots-Tag:noindex
X-PUBLISHED-TTL:PT1H
BEGIN:VTIMEZONE
TZID:UTC
BEGIN:STANDARD
TZOFFSETFROM:+0000
TZOFFSETTO:+0000
TZNAME:UTC
DTSTART:20250101T000000
END:STANDARD
END:VTIMEZONE
BEGIN:VEVENT
DTSTART;TZID=UTC:20260113T080000
DTEND;TZID=UTC:20260113T170000
DTSTAMP:20260423T194431
CREATED:20250731T202023Z
LAST-MODIFIED:20250809T034013Z
UID:10000796-1768291200-1768323600@gcrcla.org
SUMMARY:Every Tuesday\, Clothing Distribution\, Food Distribution\, Blood Pressure Screens
DESCRIPTION:Every Tuesday\, Clothing Distribution\, Food Distribution\, Blood Pressure Screens\, The Quincy
URL:https://gcrcla.org/event/every-tuesday-clothing-distribution-food-distribution-blood-pressure-screens/2026-01-13/
LOCATION:The Quincy\, 2652 West Pico Blvd\, Los Angeles\, CA\, 90006\, United States
CATEGORIES:Blood Pressure Screening,Clothing Distribution,Every Tuesday,Food Distribution,The Quincy
ORGANIZER;CN="GCRCLA":MAILTO:info@gcrcla.org, ywanderson@gcrcla.org
END:VEVENT
END:VCALENDAR