BEGIN:VCALENDAR
VERSION:2.0
PRODID:-//GCRCLA - ECPv6.15.20//NONSGML v1.0//EN
CALSCALE:GREGORIAN
METHOD:PUBLISH
X-ORIGINAL-URL:https://gcrcla.org
X-WR-CALDESC:Events for GCRCLA
REFRESH-INTERVAL;VALUE=DURATION:PT1H
X-Robots-Tag:noindex
X-PUBLISHED-TTL:PT1H
BEGIN:VTIMEZONE
TZID:UTC
BEGIN:STANDARD
TZOFFSETFROM:+0000
TZOFFSETTO:+0000
TZNAME:UTC
DTSTART:20250101T000000
END:STANDARD
END:VTIMEZONE
BEGIN:VEVENT
DTSTART;TZID=UTC:20260531T130000
DTEND;TZID=UTC:20260531T140000
DTSTAMP:20260423T164405
CREATED:20260422T153542Z
LAST-MODIFIED:20260422T153554Z
UID:10001897-1780232400-1780236000@gcrcla.org
SUMMARY:Elder Care: Is He or She Being Abused?
DESCRIPTION:Is He or She Being Abused?\nSgt Clarence Williams III\, LASD\n1pm – 2pm PST
URL:https://gcrcla.org/event/elder-care-is-he-or-she-being-abused/
LOCATION:Lincoln UCC\, 4126 Arlington Ave\, Los Angeles\, CA\, 90008\, United States
CATEGORIES:Elder Care,Event
ATTACH;FMTTYPE=image/png:https://gcrcla.org/wp-content/uploads/2026/04/Elder-Abuse.png
ORGANIZER;CN="GCRCLA":MAILTO:info@gcrcla.org, ywanderson@gcrcla.org
END:VEVENT
END:VCALENDAR