BEGIN:VCALENDAR
VERSION:2.0
PRODID:-//GCRCLA - ECPv6.15.20//NONSGML v1.0//EN
CALSCALE:GREGORIAN
METHOD:PUBLISH
X-WR-CALNAME:GCRCLA
X-ORIGINAL-URL:https://gcrcla.org
X-WR-CALDESC:Events for GCRCLA
REFRESH-INTERVAL;VALUE=DURATION:PT1H
X-Robots-Tag:noindex
X-PUBLISHED-TTL:PT1H
BEGIN:VTIMEZONE
TZID:UTC
BEGIN:STANDARD
TZOFFSETFROM:+0000
TZOFFSETTO:+0000
TZNAME:UTC
DTSTART:20240101T000000
END:STANDARD
END:VTIMEZONE
BEGIN:VEVENT
DTSTART;TZID=UTC:20250512T100000
DTEND;TZID=UTC:20250512T100000
DTSTAMP:20260425T112410
CREATED:20250429T160737Z
LAST-MODIFIED:20250429T160737Z
UID:10000122-1747044000-1747044000@gcrcla.org
SUMMARY:Every Monday
DESCRIPTION:Blood Pressure Screening\, Clothing Distribution\, Food Distribution
URL:https://gcrcla.org/event/every-monday-17/
LOCATION:The Wilcox\, 1040 N Kenmore Ave\, Los Angeles\, CA\, 90029\, United States
CATEGORIES:Blood Pressure Screening,Clothing Distribution,Food Distribution
ORGANIZER;CN="GCRCLA":MAILTO:info@gcrcla.org, ywanderson@gcrcla.org
END:VEVENT
BEGIN:VEVENT
DTSTART;TZID=UTC:20250509T130000
DTEND;TZID=UTC:20250509T150000
DTSTAMP:20260425T112410
CREATED:20250509T024101Z
LAST-MODIFIED:20250509T024101Z
UID:10000155-1746795600-1746802800@gcrcla.org
SUMMARY:First Friday
DESCRIPTION:Mother’s Day Celebration – Westmont 1:00 to 3:00
URL:https://gcrcla.org/event/first-friday-7/
LOCATION:Westmont Apartments\, 4126 Arlington Ave\, Los Angeles\, CA\, United States
CATEGORIES:First Friday
ORGANIZER;CN="GCRCLA":MAILTO:info@gcrcla.org, ywanderson@gcrcla.org
END:VEVENT
BEGIN:VEVENT
DTSTART;TZID=UTC:20250509T100000
DTEND;TZID=UTC:20250509T100000
DTSTAMP:20260425T112410
CREATED:20250429T160723Z
LAST-MODIFIED:20250429T160723Z
UID:10000121-1746784800-1746784800@gcrcla.org
SUMMARY:Second Friday
DESCRIPTION:EXERCISE CLASS
URL:https://gcrcla.org/event/second-friday-4/
LOCATION:The Chesterfield\, 4723 So. Normandie Ave.\, Los Angeles\, CA\, 90062\, United States
CATEGORIES:EXERCISE CLASS
ORGANIZER;CN="GCRCLA":MAILTO:info@gcrcla.org, ywanderson@gcrcla.org
END:VEVENT
BEGIN:VEVENT
DTSTART;TZID=UTC:20250509T100000
DTEND;TZID=UTC:20250509T100000
DTSTAMP:20260425T112410
CREATED:20250429T160723Z
LAST-MODIFIED:20250429T160723Z
UID:10000120-1746784800-1746784800@gcrcla.org
SUMMARY:Every Friday
DESCRIPTION:BLOOD PRESSURE SCREENING\, Clothing Distribution
URL:https://gcrcla.org/event/every-friday-11/
LOCATION:The Chesterfield\, 4723 So. Normandie Ave.\, Los Angeles\, CA\, 90062\, United States
CATEGORIES:Blood Pressure Screening,Clothing Distribution
ORGANIZER;CN="GCRCLA":MAILTO:info@gcrcla.org, ywanderson@gcrcla.org
END:VEVENT
BEGIN:VEVENT
DTSTART;TZID=UTC:20250508T100000
DTEND;TZID=UTC:20250508T100000
DTSTAMP:20260425T112410
CREATED:20250429T160723Z
LAST-MODIFIED:20250429T160723Z
UID:10000119-1746698400-1746698400@gcrcla.org
SUMMARY:Every Thursday
DESCRIPTION:BLOOD PRESSURE SCREENING\, Clothing Distribution
URL:https://gcrcla.org/event/every-thursday-2/
LOCATION:The Chesterfield\, 4723 So. Normandie Ave.\, Los Angeles\, CA\, 90062\, United States
CATEGORIES:Blood Pressure Screening,Clothing Distribution
ORGANIZER;CN="GCRCLA":MAILTO:info@gcrcla.org, ywanderson@gcrcla.org
END:VEVENT
BEGIN:VEVENT
DTSTART;TZID=UTC:20250508T100000
DTEND;TZID=UTC:20250508T100000
DTSTAMP:20260425T112410
CREATED:20250429T160722Z
LAST-MODIFIED:20250429T160722Z
UID:10000118-1746698400-1746698400@gcrcla.org
SUMMARY:Second Thursday
DESCRIPTION:PRODUCE\, MEAT\, BEVERAGE\, DRY GOOD BOX DISTRIBUTION
URL:https://gcrcla.org/event/second-thursday-4/
LOCATION:The Chesterfield\, 4723 So. Normandie Ave.\, Los Angeles\, CA\, 90062\, United States
CATEGORIES:BEVERAGE,DRY GOOD BOX DISTRIBUTION,MEAT,PRODUCE
ORGANIZER;CN="GCRCLA":MAILTO:info@gcrcla.org, ywanderson@gcrcla.org
END:VEVENT
BEGIN:VEVENT
DTSTART;TZID=UTC:20250507T130000
DTEND;TZID=UTC:20250507T150000
DTSTAMP:20260425T112410
CREATED:20250509T023544Z
LAST-MODIFIED:20250509T023847Z
UID:10000154-1746622800-1746630000@gcrcla.org
SUMMARY:First Wednesday
DESCRIPTION:First Wednesday Depot – Crafts 1:00 to 3:00
URL:https://gcrcla.org/event/11747/
LOCATION:Westmont Apartments\, 4126 Arlington Ave\, Los Angeles\, CA\, United States
CATEGORIES:First Wednesday
ORGANIZER;CN="GCRCLA":MAILTO:info@gcrcla.org, ywanderson@gcrcla.org
END:VEVENT
BEGIN:VEVENT
DTSTART;TZID=UTC:20250507T100000
DTEND;TZID=UTC:20250507T100000
DTSTAMP:20260425T112410
CREATED:20250429T160722Z
LAST-MODIFIED:20250429T160722Z
UID:10000117-1746612000-1746612000@gcrcla.org
SUMMARY:Every Wednesday
DESCRIPTION:BLOOD PRESSURE SCREENING
URL:https://gcrcla.org/event/every-wednesday-10/
LOCATION:Metro@Buckingham\, 4018 Buckingham Rd\, Los Angeles\, CA\, 90008\, United States
CATEGORIES:Blood Pressure Screening
ORGANIZER;CN="GCRCLA":MAILTO:info@gcrcla.org, ywanderson@gcrcla.org
END:VEVENT
BEGIN:VEVENT
DTSTART;TZID=UTC:20250506T110000
DTEND;TZID=UTC:20250506T120000
DTSTAMP:20260425T112410
CREATED:20250509T023258Z
LAST-MODIFIED:20250509T023258Z
UID:10000153-1746529200-1746532800@gcrcla.org
SUMMARY:First Tuesday
DESCRIPTION:Tenant Meeting – Westmont 11:00 -12:00
URL:https://gcrcla.org/event/first-tuesday/
LOCATION:Westmont Apartments\, 4126 Arlington Ave\, Los Angeles\, CA\, United States
CATEGORIES:First Tuesday
ORGANIZER;CN="GCRCLA":MAILTO:info@gcrcla.org, ywanderson@gcrcla.org
END:VEVENT
BEGIN:VEVENT
DTSTART;TZID=UTC:20250506T100000
DTEND;TZID=UTC:20250506T100000
DTSTAMP:20260425T112410
CREATED:20250429T160707Z
LAST-MODIFIED:20250429T160707Z
UID:10000114-1746525600-1746525600@gcrcla.org
SUMMARY:Every Tuesday
DESCRIPTION:BLOOD PRESSURE SCREENING
URL:https://gcrcla.org/event/every-tuesday-12/
LOCATION:The Quincy\, 2652 West Pico Blvd\, Los Angeles\, CA\, 90006\, United States
CATEGORIES:Blood Pressure Screening
ORGANIZER;CN="GCRCLA":MAILTO:info@gcrcla.org, ywanderson@gcrcla.org
END:VEVENT
BEGIN:VEVENT
DTSTART;TZID=UTC:20250506T100000
DTEND;TZID=UTC:20250506T100000
DTSTAMP:20260425T112410
CREATED:20250429T160707Z
LAST-MODIFIED:20250429T160707Z
UID:10000115-1746525600-1746525600@gcrcla.org
SUMMARY:Every Tuesday
DESCRIPTION:CLOTHING DISTRIBUTION
URL:https://gcrcla.org/event/every-tuesday-13/
LOCATION:The Quincy\, 2652 West Pico Blvd\, Los Angeles\, CA\, 90006\, United States
CATEGORIES:Clothing Distribution
ORGANIZER;CN="GCRCLA":MAILTO:info@gcrcla.org, ywanderson@gcrcla.org
END:VEVENT
BEGIN:VEVENT
DTSTART;TZID=UTC:20250506T100000
DTEND;TZID=UTC:20250506T100000
DTSTAMP:20260425T112410
CREATED:20250429T160707Z
LAST-MODIFIED:20250429T160707Z
UID:10000116-1746525600-1746525600@gcrcla.org
SUMMARY:Every Tuesday
DESCRIPTION:FOOD DISTRIBUTION
URL:https://gcrcla.org/event/every-tuesday-14/
LOCATION:The Quincy\, 2652 West Pico Blvd\, Los Angeles\, CA\, 90006\, United States
CATEGORIES:Food Distribution
ORGANIZER;CN="GCRCLA":MAILTO:info@gcrcla.org, ywanderson@gcrcla.org
END:VEVENT
BEGIN:VEVENT
DTSTART;TZID=UTC:20250505T100000
DTEND;TZID=UTC:20250505T100000
DTSTAMP:20260425T112410
CREATED:20250429T160707Z
LAST-MODIFIED:20250429T160707Z
UID:10000113-1746439200-1746439200@gcrcla.org
SUMMARY:Every Monday
DESCRIPTION:Blood Pressure Screening\, Clothing Distribution\, Food Distribution
URL:https://gcrcla.org/event/every-monday-16/
LOCATION:The Wilcox\, 1040 N Kenmore Ave\, Los Angeles\, CA\, 90029\, United States
CATEGORIES:Blood Pressure Screening,Clothing Distribution,Food Distribution
ORGANIZER;CN="GCRCLA":MAILTO:info@gcrcla.org, ywanderson@gcrcla.org
END:VEVENT
BEGIN:VEVENT
DTSTART;TZID=UTC:20250504T123000
DTEND;TZID=UTC:20250504T140000
DTSTAMP:20260425T112410
CREATED:20250411T024440Z
LAST-MODIFIED:20250411T025102Z
UID:10000109-1746361800-1746367200@gcrcla.org
SUMMARY:Live! An In-Person Health Equity Presentation!
DESCRIPTION:Sunday\, My 4\, 2025\, 12:45 PM to 2:00 PM\n“Promoting Black Women’s Brain Health:\nInsights from the Black Women’s Inflammation and Tau Study (B-WITS)”\nRegister Here: https://bit.ly/3RDbTvZ
URL:https://gcrcla.org/event/live-an-in-person-health-equity-presentation/
LOCATION:Lincoln UCC\, 4126 Arlington Ave\, Los Angeles\, CA\, 90008\, United States
CATEGORIES:In-Person Health Equity Presentation
ATTACH;FMTTYPE=image/jpeg:https://gcrcla.org/wp-content/uploads/2025/04/Health-Equity-Presentation-New.jpg
ORGANIZER;CN="GCRCLA":MAILTO:info@gcrcla.org, ywanderson@gcrcla.org
END:VEVENT
BEGIN:VEVENT
DTSTART;TZID=UTC:20250502T100000
DTEND;TZID=UTC:20250502T100000
DTSTAMP:20260425T112410
CREATED:20250429T160705Z
LAST-MODIFIED:20250429T160707Z
UID:10000111-1746180000-1746180000@gcrcla.org
SUMMARY:First Friday
DESCRIPTION:PRODUCE GIVE AWAY
URL:https://gcrcla.org/event/first-friday-6/
LOCATION:The Wilcox\, 1040 N Kenmore Ave\, Los Angeles\, CA\, 90029\, United States
CATEGORIES:PRODUCE GIVE AWAY
ORGANIZER;CN="GCRCLA":MAILTO:info@gcrcla.org, ywanderson@gcrcla.org
END:VEVENT
BEGIN:VEVENT
DTSTART;TZID=UTC:20250502T100000
DTEND;TZID=UTC:20250502T100000
DTSTAMP:20260425T112410
CREATED:20250429T160705Z
LAST-MODIFIED:20250429T160705Z
UID:10000112-1746180000-1746180000@gcrcla.org
SUMMARY:Every Friday
DESCRIPTION:BLOOD PRESSURE SCREENING\, Clothing Distribution
URL:https://gcrcla.org/event/every-friday-10/
LOCATION:The Chesterfield\, 4723 So. Normandie Ave.\, Los Angeles\, CA\, 90062\, United States
CATEGORIES:Blood Pressure Screening,Clothing Distribution
ORGANIZER;CN="GCRCLA":MAILTO:info@gcrcla.org, ywanderson@gcrcla.org
END:VEVENT
BEGIN:VEVENT
DTSTART;TZID=UTC:20250501T100000
DTEND;TZID=UTC:20250501T100000
DTSTAMP:20260425T112410
CREATED:20250429T160705Z
LAST-MODIFIED:20250429T160705Z
UID:10000110-1746093600-1746093600@gcrcla.org
SUMMARY:Every Thursday
DESCRIPTION:BLOOD PRESSURE SCREENING\, Clothing Distribution
URL:https://gcrcla.org/event/every-thursday/
LOCATION:The Chesterfield\, 4723 So. Normandie Ave.\, Los Angeles\, CA\, 90062\, United States
CATEGORIES:Blood Pressure Screening,Clothing Distribution
ORGANIZER;CN="GCRCLA":MAILTO:info@gcrcla.org, ywanderson@gcrcla.org
END:VEVENT
BEGIN:VEVENT
DTSTART;TZID=UTC:20250429T100000
DTEND;TZID=UTC:20250429T130000
DTSTAMP:20260425T112410
CREATED:20250329T130900Z
LAST-MODIFIED:20250329T145951Z
UID:10000088-1745920800-1745931600@gcrcla.org
SUMMARY:Every Tuesday
DESCRIPTION:FOOD DISTRIBUTION
URL:https://gcrcla.org/event/every-tuesday-11/
LOCATION:The Quincy\, 2652 West Pico Blvd\, Los Angeles\, CA\, 90006\, United States
CATEGORIES:Food Distribution
ATTACH;FMTTYPE=image/jpeg:https://gcrcla.org/wp-content/uploads/2025/02/Every-Tuesday-Food-Distribution.jpg
ORGANIZER;CN="GCRCLA":MAILTO:info@gcrcla.org, ywanderson@gcrcla.org
END:VEVENT
BEGIN:VEVENT
DTSTART;TZID=UTC:20250428T100000
DTEND;TZID=UTC:20250428T130000
DTSTAMP:20260425T112410
CREATED:20250329T130844Z
LAST-MODIFIED:20250329T154541Z
UID:10000081-1745834400-1745845200@gcrcla.org
SUMMARY:Fourth Monday
DESCRIPTION:RAFFLES FOR BLOOD PRESSURE\, BINGO PARTICIPATION
URL:https://gcrcla.org/event/fourth-monday-3/
LOCATION:The Wilcox\, 1040 N Kenmore Ave\, Los Angeles\, CA\, 90029\, United States
CATEGORIES:BINGO PARTICIPATION,RAFFLES FOR BLOOD PRESSURE
ATTACH;FMTTYPE=image/jpeg:https://gcrcla.org/wp-content/uploads/2025/01/Fourth-Monday.jpg
ORGANIZER;CN="GCRCLA":MAILTO:info@gcrcla.org, ywanderson@gcrcla.org
END:VEVENT
BEGIN:VEVENT
DTSTART;TZID=UTC:20250428T100000
DTEND;TZID=UTC:20250428T130000
DTSTAMP:20260425T112410
CREATED:20250329T130844Z
LAST-MODIFIED:20250329T154353Z
UID:10000082-1745834400-1745845200@gcrcla.org
SUMMARY:Fourth Monday
DESCRIPTION:BINGO WITH PRIZES
URL:https://gcrcla.org/event/fourth-monday-4/
LOCATION:The Wilcox\, 1040 N Kenmore Ave\, Los Angeles\, CA\, 90029\, United States
CATEGORIES:BINGO WITH PRIZES
ATTACH;FMTTYPE=image/jpeg:https://gcrcla.org/wp-content/uploads/2025/01/Fourth-Friday.jpg
ORGANIZER;CN="GCRCLA":MAILTO:info@gcrcla.org, ywanderson@gcrcla.org
END:VEVENT
BEGIN:VEVENT
DTSTART;TZID=UTC:20250428T100000
DTEND;TZID=UTC:20250428T130000
DTSTAMP:20260425T112410
CREATED:20250329T130841Z
LAST-MODIFIED:20250329T153937Z
UID:10000078-1745834400-1745845200@gcrcla.org
SUMMARY:Every Monday
DESCRIPTION:Blood Pressure Screening\, Clothing Distribution\, Food Distribution
URL:https://gcrcla.org/event/every-monday-15/
LOCATION:The Wilcox\, 1040 N Kenmore Ave\, Los Angeles\, CA\, 90029\, United States
CATEGORIES:Blood Pressure Screening,Clothing Distribution,Food Distribution
ATTACH;FMTTYPE=image/jpeg:https://gcrcla.org/wp-content/uploads/2025/02/Every-Monday.jpg
ORGANIZER;CN="GCRCLA":MAILTO:info@gcrcla.org, ywanderson@gcrcla.org
END:VEVENT
BEGIN:VEVENT
DTSTART;TZID=UTC:20250427T140000
DTEND;TZID=UTC:20250427T150000
DTSTAMP:20260425T112410
CREATED:20250403T234952Z
LAST-MODIFIED:20250403T235358Z
UID:10000108-1745762400-1745766000@gcrcla.org
SUMMARY:Wellnes Sunday | A Virtual Event | Participate in Groundbreaking Nutrition Research
DESCRIPTION:A Virtual Presentation\nUnlock Nutrition’s Potential: Join the Movement for Inclusive Trials.\nYour Voice Matters: Participate in Groundbreaking Nutrition Research\nRegistration Required
URL:https://gcrcla.org/event/11572/
LOCATION:VIrtual
ATTACH;FMTTYPE=image/jpeg:https://gcrcla.org/wp-content/uploads/2025/04/Wellness-Sunday-5125-scaled.jpg
ORGANIZER;CN="GCRCLA":MAILTO:info@gcrcla.org, ywanderson@gcrcla.org
END:VEVENT
BEGIN:VEVENT
DTSTART;TZID=UTC:20250425T100000
DTEND;TZID=UTC:20250425T130000
DTSTAMP:20260425T112410
CREATED:20250329T131519Z
LAST-MODIFIED:20250329T154047Z
UID:10000107-1745575200-1745586000@gcrcla.org
SUMMARY:Fourth Friday
DESCRIPTION:BINGO WITH PRIZES\, Raffles For Blood Pressure Participation
URL:https://gcrcla.org/event/fourth-friday-3/
LOCATION:The Chesterfield\, 4723 So. Normandie Ave.\, Los Angeles\, CA\, 90062\, United States
CATEGORIES:BINGO WITH PRIZES,RAFFLES FOR BLOOD PRESSURE PARTICIPATION
ATTACH;FMTTYPE=image/jpeg:https://gcrcla.org/wp-content/uploads/2025/01/Fourth-Friday.jpg
ORGANIZER;CN="GCRCLA":MAILTO:info@gcrcla.org, ywanderson@gcrcla.org
END:VEVENT
BEGIN:VEVENT
DTSTART;TZID=UTC:20250425T100000
DTEND;TZID=UTC:20250425T130000
DTSTAMP:20260425T112410
CREATED:20250329T131437Z
LAST-MODIFIED:20250329T155026Z
UID:10000102-1745575200-1745586000@gcrcla.org
SUMMARY:Every Friday
DESCRIPTION:BLOOD PRESSURE SCREENING\, Clothing Distribution
URL:https://gcrcla.org/event/every-friday-9/
LOCATION:The Chesterfield\, 4723 So. Normandie Ave.\, Los Angeles\, CA\, 90062\, United States
CATEGORIES:Blood Pressure Screening,Clothing Distribution
ATTACH;FMTTYPE=image/jpeg:https://gcrcla.org/wp-content/uploads/2025/01/Every-Friday.jpg
ORGANIZER;CN="GCRCLA":MAILTO:info@gcrcla.org, ywanderson@gcrcla.org
END:VEVENT
BEGIN:VEVENT
DTSTART;TZID=UTC:20250424T100000
DTEND;TZID=UTC:20250424T130000
DTSTAMP:20260425T112410
CREATED:20250329T131422Z
LAST-MODIFIED:20250329T153834Z
UID:10000098-1745488800-1745499600@gcrcla.org
SUMMARY:Fourth Thursday
DESCRIPTION:PRODUCE\, MEAT\, BEVERAGE\, DRY GOOD BOX DISTRIBUTION
URL:https://gcrcla.org/event/fourth-thursday-3/
LOCATION:Metro@Buckingham\, 4018 Buckingham Rd\, Los Angeles\, CA\, 90008\, United States
CATEGORIES:BEVERAGE,DRY GOOD BOX DISTRIBUTION,MEAT,PRODUCE
ATTACH;FMTTYPE=image/jpeg:https://gcrcla.org/wp-content/uploads/2025/02/Fourth-Thursday-PRODUCE-MEAT-BEVERAGE-DRY-GOOD-BOX-DISTRIBUTION.jpg
ORGANIZER;CN="GCRCLA":MAILTO:info@gcrcla.org, ywanderson@gcrcla.org
END:VEVENT
BEGIN:VEVENT
DTSTART;TZID=UTC:20250423T100000
DTEND;TZID=UTC:20250423T130000
DTSTAMP:20260425T112410
CREATED:20250329T131422Z
LAST-MODIFIED:20250329T153708Z
UID:10000097-1745402400-1745413200@gcrcla.org
SUMMARY:Fourth Wednesday
DESCRIPTION:POP UP CLOTHING DISTRIBUTION\, RAFFLES FOR BLOOD PRESSURE PARTICIPATION
URL:https://gcrcla.org/event/fourth-wednesday-3/
LOCATION:Metro@Buckingham\, 4018 Buckingham Rd\, Los Angeles\, CA\, 90008\, United States
CATEGORIES:POP UP CLOTHING DISTRIBUTION,RAFFLES FOR BLOOD PRESSURE PARTICIPATION
ATTACH;FMTTYPE=image/jpeg:https://gcrcla.org/wp-content/uploads/2025/01/Fourth-Wednesday.jpg
ORGANIZER;CN="GCRCLA":MAILTO:info@gcrcla.org, ywanderson@gcrcla.org
END:VEVENT
BEGIN:VEVENT
DTSTART;TZID=UTC:20250423T100000
DTEND;TZID=UTC:20250423T130000
DTSTAMP:20260425T112410
CREATED:20250329T131422Z
LAST-MODIFIED:20250329T151138Z
UID:10000095-1745402400-1745413200@gcrcla.org
SUMMARY:Every Wednesday
DESCRIPTION:BLOOD PRESSURE SCREENING
URL:https://gcrcla.org/event/every-wednesday-9/
LOCATION:Metro@Buckingham\, 4018 Buckingham Rd\, Los Angeles\, CA\, 90008\, United States
CATEGORIES:Blood Pressure Screening
ATTACH;FMTTYPE=image/jpeg:https://gcrcla.org/wp-content/uploads/2025/01/Every-Wednesday.jpg
ORGANIZER;CN="GCRCLA":MAILTO:info@gcrcla.org, ywanderson@gcrcla.org
END:VEVENT
BEGIN:VEVENT
DTSTART;TZID=UTC:20250422T100000
DTEND;TZID=UTC:20250422T130000
DTSTAMP:20260425T112410
CREATED:20250329T131302Z
LAST-MODIFIED:20250329T153601Z
UID:10000090-1745316000-1745326800@gcrcla.org
SUMMARY:Fourth Tuesday
DESCRIPTION:(NEW) FOOD BAG DISTRIBUTION – NEW PARTNER
URL:https://gcrcla.org/event/fourth-tuesday-4/
LOCATION:Metro@Buckingham\, 4018 Buckingham Rd\, Los Angeles\, CA\, 90008\, United States
CATEGORIES:(NEW) FOOD BAG DISTRIBUTION - NEW PARTNER
ATTACH;FMTTYPE=image/jpeg:https://gcrcla.org/wp-content/uploads/2025/02/Fourth-Tuesday-Metro@Buckingham.jpg
ORGANIZER;CN="GCRCLA":MAILTO:info@gcrcla.org, ywanderson@gcrcla.org
END:VEVENT
BEGIN:VEVENT
DTSTART;TZID=UTC:20250422T100000
DTEND;TZID=UTC:20250422T100000
DTSTAMP:20260425T112410
CREATED:20250329T130900Z
LAST-MODIFIED:20250329T131101Z
UID:10000087-1745316000-1745316000@gcrcla.org
SUMMARY:Every Tuesday
DESCRIPTION:FOOD DISTRIBUTION
URL:https://gcrcla.org/event/every-tuesday-10/
LOCATION:The Quincy\, 2652 West Pico Blvd\, Los Angeles\, CA\, 90006\, United States
CATEGORIES:Food Distribution
ORGANIZER;CN="GCRCLA":MAILTO:info@gcrcla.org, ywanderson@gcrcla.org
END:VEVENT
BEGIN:VEVENT
DTSTART;TZID=UTC:20250421T100000
DTEND;TZID=UTC:20250421T100000
DTSTAMP:20260425T112410
CREATED:20250329T130844Z
LAST-MODIFIED:20250329T130844Z
UID:10000080-1745229600-1745229600@gcrcla.org
SUMMARY:Third Monday
DESCRIPTION:LA REGIONAL FOOD BANK BOX DISTRIBUTION
URL:https://gcrcla.org/event/third-monday-2/
LOCATION:The Wilcox\, 1040 N Kenmore Ave\, Los Angeles\, CA\, 90029\, United States
CATEGORIES:BINGO PARTICIPATION,RAFFLES FOR BLOOD PRESSURE
ORGANIZER;CN="GCRCLA":MAILTO:info@gcrcla.org, ywanderson@gcrcla.org
END:VEVENT
END:VCALENDAR