BEGIN:VCALENDAR
VERSION:2.0
PRODID:-//GCRCLA - ECPv6.15.20//NONSGML v1.0//EN
CALSCALE:GREGORIAN
METHOD:PUBLISH
X-WR-CALNAME:GCRCLA
X-ORIGINAL-URL:https://gcrcla.org
X-WR-CALDESC:Events for GCRCLA
REFRESH-INTERVAL;VALUE=DURATION:PT1H
X-Robots-Tag:noindex
X-PUBLISHED-TTL:PT1H
BEGIN:VTIMEZONE
TZID:UTC
BEGIN:STANDARD
TZOFFSETFROM:+0000
TZOFFSETTO:+0000
TZNAME:UTC
DTSTART:20250101T000000
END:STANDARD
END:VTIMEZONE
BEGIN:VEVENT
DTSTART;TZID=UTC:20260409T053000
DTEND;TZID=UTC:20260409T193000
DTSTAMP:20260423T213658
CREATED:20260409T185330Z
LAST-MODIFIED:20260409T190259Z
UID:10001841-1775712600-1775763000@gcrcla.org
SUMMARY:BE WELL NEWSLETTER Community Impact | April 2026
DESCRIPTION:BE WELL NEWSLETTER Community Impact | April 2026\,\nFinancial Literacy Workshops\nApril 9\, 16\, 23\, 30\, 2026\n5:30 – 7:30 PM\n4126 Arlington Avenue\, Los Angeles\, CA 90008\nFinancial Literacy Workshops\,\nFinancial Literacy for the Middle Class\,\nCommunity Share\,\nSee’s Candy Fundraiser\,\n 
URL:https://gcrcla.org/event/be-well-newsletter-community-impact-april-2026/2026-04-09/
LOCATION:Lincoln UCC\, 4126 Arlington Ave\, Los Angeles\, CA\, 90008\, United States
CATEGORIES:Community Impact,Event
ATTACH;FMTTYPE=image/jpeg:https://gcrcla.org/wp-content/uploads/2026/04/GCRCs-Newsletter-April-2026-jpg_Page_1.jpg
ORGANIZER;CN="GCRCLA":MAILTO:info@gcrcla.org, ywanderson@gcrcla.org
END:VEVENT
BEGIN:VEVENT
DTSTART;TZID=UTC:20260408T100000
DTEND;TZID=UTC:20260408T150000
DTSTAMP:20260423T213658
CREATED:20250731T210025Z
LAST-MODIFIED:20250809T040032Z
UID:10001070-1775642400-1775660400@gcrcla.org
SUMMARY:Every Wednesday\, BLOOD PRESSURE SCREENS\, CLOTHING & HOUSEWARE DISTRIBUTION\, FOOD BANK LAX FOOD BAG DISTRIBUTION
DESCRIPTION:Every Wednesday\, BLOOD PRESSURE SCREENS\, CLOTHING & HOUSEWARE DISTRIBUTION\, LAX FOOD BAG DISTRIBUTION
URL:https://gcrcla.org/event/every-wednesday-blood-pressure-screens-clothing-houseware-distribution-lax-food-bag-distribution/2026-04-08/
LOCATION:Metro@Buckingham\, 4018 Buckingham Rd\, Los Angeles\, CA\, 90008\, United States
CATEGORIES:Blood Pressure Screening,Clothing Distribution,First Wednesday,LAX Food Bag Distribution,Metro@Buckingham
ORGANIZER;CN="GCRCLA":MAILTO:info@gcrcla.org, ywanderson@gcrcla.org
END:VEVENT
BEGIN:VEVENT
DTSTART;TZID=UTC:20260407T080000
DTEND;TZID=UTC:20260407T170000
DTSTAMP:20260423T213658
CREATED:20250731T202023Z
LAST-MODIFIED:20250809T034013Z
UID:10000808-1775548800-1775581200@gcrcla.org
SUMMARY:Every Tuesday\, Clothing Distribution\, Food Distribution\, Blood Pressure Screens
DESCRIPTION:Every Tuesday\, Clothing Distribution\, Food Distribution\, Blood Pressure Screens\, The Quincy
URL:https://gcrcla.org/event/every-tuesday-clothing-distribution-food-distribution-blood-pressure-screens/2026-04-07/
LOCATION:The Quincy\, 2652 West Pico Blvd\, Los Angeles\, CA\, 90006\, United States
CATEGORIES:Blood Pressure Screening,Clothing Distribution,Every Tuesday,Food Distribution,The Quincy
ORGANIZER;CN="GCRCLA":MAILTO:info@gcrcla.org, ywanderson@gcrcla.org
END:VEVENT
BEGIN:VEVENT
DTSTART;TZID=UTC:20260406T100000
DTEND;TZID=UTC:20260406T150000
DTSTAMP:20260423T213658
CREATED:20250809T032115Z
LAST-MODIFIED:20250809T032115Z
UID:10000546-1775469600-1775487600@gcrcla.org
SUMMARY:Every Monday\, Blood Pressure Screening\, Food Distribution\, Clothing/Housing Distribution
DESCRIPTION:Every Monday\, Blood Pressure Screening\, Food Distribution\, Clothing/Housing Distribution
URL:https://gcrcla.org/event/every-monday-blood-pressure-screening-food-distribution-clothing-housing-distribution/2026-04-06/
LOCATION:The Wilcox\, 1040 N Kenmore Ave\, Los Angeles\, CA\, 90029\, United States
CATEGORIES:Blood Pressure Screening,Clothing Distribution,Food Distribution,Houseware Distribution,The Wilcox
ORGANIZER;CN="GCRCLA":MAILTO:info@gcrcla.org, ywanderson@gcrcla.org
END:VEVENT
BEGIN:VEVENT
DTSTART;TZID=UTC:20260403T100000
DTEND;TZID=UTC:20260403T150000
DTSTAMP:20260423T213658
CREATED:20250809T044320Z
LAST-MODIFIED:20250809T044432Z
UID:10001598-1775210400-1775228400@gcrcla.org
SUMMARY:Every Friday\, Clothing/Houseware Distribution\, at The Chesterfield
DESCRIPTION:Every Friday\, Clothing/Houseware Distribution\, at The Chesterfield
URL:https://gcrcla.org/event/every-friday-clothing-houseware-distribution-at-the-chesterfield/2026-04-03/
LOCATION:The Chesterfield\, 4723 So. Normandie Ave.\, Los Angeles\, CA\, 90062\, United States
CATEGORIES:Chesterfield,Clothing Distribution,Every Friday,Houseware Distribution
ORGANIZER;CN="GCRCLA":MAILTO:info@gcrcla.org, ywanderson@gcrcla.org
END:VEVENT
BEGIN:VEVENT
DTSTART;TZID=UTC:20260403T100000
DTEND;TZID=UTC:20260403T140000
DTSTAMP:20260423T213658
CREATED:20250809T043316Z
LAST-MODIFIED:20250809T043350Z
UID:10001334-1775210400-1775224800@gcrcla.org
SUMMARY:Every Friday\, BLOOD PRESSURE SCREENS\, at The Chesterfield
DESCRIPTION:Every Friday\, BLOOD PRESSURE SCREENS\, at The Chesterfield
URL:https://gcrcla.org/event/every-friday-blood-pressure-screens-at-the-chesterfield/2026-04-03/
LOCATION:The Chesterfield\, 4723 So. Normandie Ave.\, Los Angeles\, CA\, 90062\, United States
CATEGORIES:Blood Pressure Screening,Chesterfield,Every Friday
ORGANIZER;CN="GCRCLA":MAILTO:info@gcrcla.org, ywanderson@gcrcla.org
END:VEVENT
BEGIN:VEVENT
DTSTART;TZID=UTC:20260401T100000
DTEND;TZID=UTC:20260401T150000
DTSTAMP:20260423T213658
CREATED:20250731T210025Z
LAST-MODIFIED:20250809T040032Z
UID:10001069-1775037600-1775055600@gcrcla.org
SUMMARY:Every Wednesday\, BLOOD PRESSURE SCREENS\, CLOTHING & HOUSEWARE DISTRIBUTION\, FOOD BANK LAX FOOD BAG DISTRIBUTION
DESCRIPTION:Every Wednesday\, BLOOD PRESSURE SCREENS\, CLOTHING & HOUSEWARE DISTRIBUTION\, LAX FOOD BAG DISTRIBUTION
URL:https://gcrcla.org/event/every-wednesday-blood-pressure-screens-clothing-houseware-distribution-lax-food-bag-distribution/2026-04-01/
LOCATION:Metro@Buckingham\, 4018 Buckingham Rd\, Los Angeles\, CA\, 90008\, United States
CATEGORIES:Blood Pressure Screening,Clothing Distribution,First Wednesday,LAX Food Bag Distribution,Metro@Buckingham
ORGANIZER;CN="GCRCLA":MAILTO:info@gcrcla.org, ywanderson@gcrcla.org
END:VEVENT
BEGIN:VEVENT
DTSTART;TZID=UTC:20260331T080000
DTEND;TZID=UTC:20260331T170000
DTSTAMP:20260423T213658
CREATED:20250731T202023Z
LAST-MODIFIED:20250809T034013Z
UID:10000807-1774944000-1774976400@gcrcla.org
SUMMARY:Every Tuesday\, Clothing Distribution\, Food Distribution\, Blood Pressure Screens
DESCRIPTION:Every Tuesday\, Clothing Distribution\, Food Distribution\, Blood Pressure Screens\, The Quincy
URL:https://gcrcla.org/event/every-tuesday-clothing-distribution-food-distribution-blood-pressure-screens/2026-03-31/
LOCATION:The Quincy\, 2652 West Pico Blvd\, Los Angeles\, CA\, 90006\, United States
CATEGORIES:Blood Pressure Screening,Clothing Distribution,Every Tuesday,Food Distribution,The Quincy
ORGANIZER;CN="GCRCLA":MAILTO:info@gcrcla.org, ywanderson@gcrcla.org
END:VEVENT
BEGIN:VEVENT
DTSTART;TZID=UTC:20260330T100000
DTEND;TZID=UTC:20260330T150000
DTSTAMP:20260423T213658
CREATED:20250809T032115Z
LAST-MODIFIED:20250809T032115Z
UID:10000545-1774864800-1774882800@gcrcla.org
SUMMARY:Every Monday\, Blood Pressure Screening\, Food Distribution\, Clothing/Housing Distribution
DESCRIPTION:Every Monday\, Blood Pressure Screening\, Food Distribution\, Clothing/Housing Distribution
URL:https://gcrcla.org/event/every-monday-blood-pressure-screening-food-distribution-clothing-housing-distribution/2026-03-30/
LOCATION:The Wilcox\, 1040 N Kenmore Ave\, Los Angeles\, CA\, 90029\, United States
CATEGORIES:Blood Pressure Screening,Clothing Distribution,Food Distribution,Houseware Distribution,The Wilcox
ORGANIZER;CN="GCRCLA":MAILTO:info@gcrcla.org, ywanderson@gcrcla.org
END:VEVENT
BEGIN:VEVENT
DTSTART;TZID=UTC:20260327T100000
DTEND;TZID=UTC:20260327T150000
DTSTAMP:20260423T213658
CREATED:20250809T044320Z
LAST-MODIFIED:20250809T044432Z
UID:10001597-1774605600-1774623600@gcrcla.org
SUMMARY:Every Friday\, Clothing/Houseware Distribution\, at The Chesterfield
DESCRIPTION:Every Friday\, Clothing/Houseware Distribution\, at The Chesterfield
URL:https://gcrcla.org/event/every-friday-clothing-houseware-distribution-at-the-chesterfield/2026-03-27/
LOCATION:The Chesterfield\, 4723 So. Normandie Ave.\, Los Angeles\, CA\, 90062\, United States
CATEGORIES:Chesterfield,Clothing Distribution,Every Friday,Houseware Distribution
ORGANIZER;CN="GCRCLA":MAILTO:info@gcrcla.org, ywanderson@gcrcla.org
END:VEVENT
BEGIN:VEVENT
DTSTART;TZID=UTC:20260327T100000
DTEND;TZID=UTC:20260327T140000
DTSTAMP:20260423T213658
CREATED:20250809T043316Z
LAST-MODIFIED:20250809T043350Z
UID:10001333-1774605600-1774620000@gcrcla.org
SUMMARY:Every Friday\, BLOOD PRESSURE SCREENS\, at The Chesterfield
DESCRIPTION:Every Friday\, BLOOD PRESSURE SCREENS\, at The Chesterfield
URL:https://gcrcla.org/event/every-friday-blood-pressure-screens-at-the-chesterfield/2026-03-27/
LOCATION:The Chesterfield\, 4723 So. Normandie Ave.\, Los Angeles\, CA\, 90062\, United States
CATEGORIES:Blood Pressure Screening,Chesterfield,Every Friday
ORGANIZER;CN="GCRCLA":MAILTO:info@gcrcla.org, ywanderson@gcrcla.org
END:VEVENT
BEGIN:VEVENT
DTSTART;TZID=UTC:20260325T100000
DTEND;TZID=UTC:20260325T150000
DTSTAMP:20260423T213658
CREATED:20250731T210025Z
LAST-MODIFIED:20250809T040032Z
UID:10001068-1774432800-1774450800@gcrcla.org
SUMMARY:Every Wednesday\, BLOOD PRESSURE SCREENS\, CLOTHING & HOUSEWARE DISTRIBUTION\, FOOD BANK LAX FOOD BAG DISTRIBUTION
DESCRIPTION:Every Wednesday\, BLOOD PRESSURE SCREENS\, CLOTHING & HOUSEWARE DISTRIBUTION\, LAX FOOD BAG DISTRIBUTION
URL:https://gcrcla.org/event/every-wednesday-blood-pressure-screens-clothing-houseware-distribution-lax-food-bag-distribution/2026-03-25/
LOCATION:Metro@Buckingham\, 4018 Buckingham Rd\, Los Angeles\, CA\, 90008\, United States
CATEGORIES:Blood Pressure Screening,Clothing Distribution,First Wednesday,LAX Food Bag Distribution,Metro@Buckingham
ORGANIZER;CN="GCRCLA":MAILTO:info@gcrcla.org, ywanderson@gcrcla.org
END:VEVENT
BEGIN:VEVENT
DTSTART;TZID=UTC:20260324T080000
DTEND;TZID=UTC:20260324T170000
DTSTAMP:20260423T213658
CREATED:20250731T202023Z
LAST-MODIFIED:20250809T034013Z
UID:10000806-1774339200-1774371600@gcrcla.org
SUMMARY:Every Tuesday\, Clothing Distribution\, Food Distribution\, Blood Pressure Screens
DESCRIPTION:Every Tuesday\, Clothing Distribution\, Food Distribution\, Blood Pressure Screens\, The Quincy
URL:https://gcrcla.org/event/every-tuesday-clothing-distribution-food-distribution-blood-pressure-screens/2026-03-24/
LOCATION:The Quincy\, 2652 West Pico Blvd\, Los Angeles\, CA\, 90006\, United States
CATEGORIES:Blood Pressure Screening,Clothing Distribution,Every Tuesday,Food Distribution,The Quincy
ORGANIZER;CN="GCRCLA":MAILTO:info@gcrcla.org, ywanderson@gcrcla.org
END:VEVENT
BEGIN:VEVENT
DTSTART;TZID=UTC:20260323T100000
DTEND;TZID=UTC:20260323T150000
DTSTAMP:20260423T213658
CREATED:20250809T032115Z
LAST-MODIFIED:20250809T032115Z
UID:10000544-1774260000-1774278000@gcrcla.org
SUMMARY:Every Monday\, Blood Pressure Screening\, Food Distribution\, Clothing/Housing Distribution
DESCRIPTION:Every Monday\, Blood Pressure Screening\, Food Distribution\, Clothing/Housing Distribution
URL:https://gcrcla.org/event/every-monday-blood-pressure-screening-food-distribution-clothing-housing-distribution/2026-03-23/
LOCATION:The Wilcox\, 1040 N Kenmore Ave\, Los Angeles\, CA\, 90029\, United States
CATEGORIES:Blood Pressure Screening,Clothing Distribution,Food Distribution,Houseware Distribution,The Wilcox
ORGANIZER;CN="GCRCLA":MAILTO:info@gcrcla.org, ywanderson@gcrcla.org
END:VEVENT
BEGIN:VEVENT
DTSTART;TZID=UTC:20260320T100000
DTEND;TZID=UTC:20260320T150000
DTSTAMP:20260423T213658
CREATED:20250809T044320Z
LAST-MODIFIED:20250809T044432Z
UID:10001596-1774000800-1774018800@gcrcla.org
SUMMARY:Every Friday\, Clothing/Houseware Distribution\, at The Chesterfield
DESCRIPTION:Every Friday\, Clothing/Houseware Distribution\, at The Chesterfield
URL:https://gcrcla.org/event/every-friday-clothing-houseware-distribution-at-the-chesterfield/2026-03-20/
LOCATION:The Chesterfield\, 4723 So. Normandie Ave.\, Los Angeles\, CA\, 90062\, United States
CATEGORIES:Chesterfield,Clothing Distribution,Every Friday,Houseware Distribution
ORGANIZER;CN="GCRCLA":MAILTO:info@gcrcla.org, ywanderson@gcrcla.org
END:VEVENT
BEGIN:VEVENT
DTSTART;TZID=UTC:20260320T100000
DTEND;TZID=UTC:20260320T140000
DTSTAMP:20260423T213658
CREATED:20250809T043316Z
LAST-MODIFIED:20250809T043350Z
UID:10001332-1774000800-1774015200@gcrcla.org
SUMMARY:Every Friday\, BLOOD PRESSURE SCREENS\, at The Chesterfield
DESCRIPTION:Every Friday\, BLOOD PRESSURE SCREENS\, at The Chesterfield
URL:https://gcrcla.org/event/every-friday-blood-pressure-screens-at-the-chesterfield/2026-03-20/
LOCATION:The Chesterfield\, 4723 So. Normandie Ave.\, Los Angeles\, CA\, 90062\, United States
CATEGORIES:Blood Pressure Screening,Chesterfield,Every Friday
ORGANIZER;CN="GCRCLA":MAILTO:info@gcrcla.org, ywanderson@gcrcla.org
END:VEVENT
BEGIN:VEVENT
DTSTART;TZID=UTC:20260318T100000
DTEND;TZID=UTC:20260318T150000
DTSTAMP:20260423T213658
CREATED:20250731T210025Z
LAST-MODIFIED:20250809T040032Z
UID:10001067-1773828000-1773846000@gcrcla.org
SUMMARY:Every Wednesday\, BLOOD PRESSURE SCREENS\, CLOTHING & HOUSEWARE DISTRIBUTION\, FOOD BANK LAX FOOD BAG DISTRIBUTION
DESCRIPTION:Every Wednesday\, BLOOD PRESSURE SCREENS\, CLOTHING & HOUSEWARE DISTRIBUTION\, LAX FOOD BAG DISTRIBUTION
URL:https://gcrcla.org/event/every-wednesday-blood-pressure-screens-clothing-houseware-distribution-lax-food-bag-distribution/2026-03-18/
LOCATION:Metro@Buckingham\, 4018 Buckingham Rd\, Los Angeles\, CA\, 90008\, United States
CATEGORIES:Blood Pressure Screening,Clothing Distribution,First Wednesday,LAX Food Bag Distribution,Metro@Buckingham
ORGANIZER;CN="GCRCLA":MAILTO:info@gcrcla.org, ywanderson@gcrcla.org
END:VEVENT
BEGIN:VEVENT
DTSTART;TZID=UTC:20260317T080000
DTEND;TZID=UTC:20260317T170000
DTSTAMP:20260423T213658
CREATED:20250731T202023Z
LAST-MODIFIED:20250809T034013Z
UID:10000805-1773734400-1773766800@gcrcla.org
SUMMARY:Every Tuesday\, Clothing Distribution\, Food Distribution\, Blood Pressure Screens
DESCRIPTION:Every Tuesday\, Clothing Distribution\, Food Distribution\, Blood Pressure Screens\, The Quincy
URL:https://gcrcla.org/event/every-tuesday-clothing-distribution-food-distribution-blood-pressure-screens/2026-03-17/
LOCATION:The Quincy\, 2652 West Pico Blvd\, Los Angeles\, CA\, 90006\, United States
CATEGORIES:Blood Pressure Screening,Clothing Distribution,Every Tuesday,Food Distribution,The Quincy
ORGANIZER;CN="GCRCLA":MAILTO:info@gcrcla.org, ywanderson@gcrcla.org
END:VEVENT
BEGIN:VEVENT
DTSTART;TZID=UTC:20260316T100000
DTEND;TZID=UTC:20260316T150000
DTSTAMP:20260423T213658
CREATED:20250809T032115Z
LAST-MODIFIED:20250809T032115Z
UID:10000543-1773655200-1773673200@gcrcla.org
SUMMARY:Every Monday\, Blood Pressure Screening\, Food Distribution\, Clothing/Housing Distribution
DESCRIPTION:Every Monday\, Blood Pressure Screening\, Food Distribution\, Clothing/Housing Distribution
URL:https://gcrcla.org/event/every-monday-blood-pressure-screening-food-distribution-clothing-housing-distribution/2026-03-16/
LOCATION:The Wilcox\, 1040 N Kenmore Ave\, Los Angeles\, CA\, 90029\, United States
CATEGORIES:Blood Pressure Screening,Clothing Distribution,Food Distribution,Houseware Distribution,The Wilcox
ORGANIZER;CN="GCRCLA":MAILTO:info@gcrcla.org, ywanderson@gcrcla.org
END:VEVENT
BEGIN:VEVENT
DTSTART;TZID=UTC:20260313T100000
DTEND;TZID=UTC:20260313T150000
DTSTAMP:20260423T213658
CREATED:20250809T044320Z
LAST-MODIFIED:20250809T044432Z
UID:10001595-1773396000-1773414000@gcrcla.org
SUMMARY:Every Friday\, Clothing/Houseware Distribution\, at The Chesterfield
DESCRIPTION:Every Friday\, Clothing/Houseware Distribution\, at The Chesterfield
URL:https://gcrcla.org/event/every-friday-clothing-houseware-distribution-at-the-chesterfield/2026-03-13/
LOCATION:The Chesterfield\, 4723 So. Normandie Ave.\, Los Angeles\, CA\, 90062\, United States
CATEGORIES:Chesterfield,Clothing Distribution,Every Friday,Houseware Distribution
ORGANIZER;CN="GCRCLA":MAILTO:info@gcrcla.org, ywanderson@gcrcla.org
END:VEVENT
BEGIN:VEVENT
DTSTART;TZID=UTC:20260313T100000
DTEND;TZID=UTC:20260313T140000
DTSTAMP:20260423T213658
CREATED:20250809T043316Z
LAST-MODIFIED:20250809T043350Z
UID:10001331-1773396000-1773410400@gcrcla.org
SUMMARY:Every Friday\, BLOOD PRESSURE SCREENS\, at The Chesterfield
DESCRIPTION:Every Friday\, BLOOD PRESSURE SCREENS\, at The Chesterfield
URL:https://gcrcla.org/event/every-friday-blood-pressure-screens-at-the-chesterfield/2026-03-13/
LOCATION:The Chesterfield\, 4723 So. Normandie Ave.\, Los Angeles\, CA\, 90062\, United States
CATEGORIES:Blood Pressure Screening,Chesterfield,Every Friday
ORGANIZER;CN="GCRCLA":MAILTO:info@gcrcla.org, ywanderson@gcrcla.org
END:VEVENT
BEGIN:VEVENT
DTSTART;TZID=UTC:20260311T100000
DTEND;TZID=UTC:20260311T150000
DTSTAMP:20260423T213658
CREATED:20250731T210025Z
LAST-MODIFIED:20250809T040032Z
UID:10001066-1773223200-1773241200@gcrcla.org
SUMMARY:Every Wednesday\, BLOOD PRESSURE SCREENS\, CLOTHING & HOUSEWARE DISTRIBUTION\, FOOD BANK LAX FOOD BAG DISTRIBUTION
DESCRIPTION:Every Wednesday\, BLOOD PRESSURE SCREENS\, CLOTHING & HOUSEWARE DISTRIBUTION\, LAX FOOD BAG DISTRIBUTION
URL:https://gcrcla.org/event/every-wednesday-blood-pressure-screens-clothing-houseware-distribution-lax-food-bag-distribution/2026-03-11/
LOCATION:Metro@Buckingham\, 4018 Buckingham Rd\, Los Angeles\, CA\, 90008\, United States
CATEGORIES:Blood Pressure Screening,Clothing Distribution,First Wednesday,LAX Food Bag Distribution,Metro@Buckingham
ORGANIZER;CN="GCRCLA":MAILTO:info@gcrcla.org, ywanderson@gcrcla.org
END:VEVENT
BEGIN:VEVENT
DTSTART;TZID=UTC:20260310T080000
DTEND;TZID=UTC:20260310T170000
DTSTAMP:20260423T213658
CREATED:20250731T202023Z
LAST-MODIFIED:20250809T034013Z
UID:10000804-1773129600-1773162000@gcrcla.org
SUMMARY:Every Tuesday\, Clothing Distribution\, Food Distribution\, Blood Pressure Screens
DESCRIPTION:Every Tuesday\, Clothing Distribution\, Food Distribution\, Blood Pressure Screens\, The Quincy
URL:https://gcrcla.org/event/every-tuesday-clothing-distribution-food-distribution-blood-pressure-screens/2026-03-10/
LOCATION:The Quincy\, 2652 West Pico Blvd\, Los Angeles\, CA\, 90006\, United States
CATEGORIES:Blood Pressure Screening,Clothing Distribution,Every Tuesday,Food Distribution,The Quincy
ORGANIZER;CN="GCRCLA":MAILTO:info@gcrcla.org, ywanderson@gcrcla.org
END:VEVENT
BEGIN:VEVENT
DTSTART;TZID=UTC:20260309T100000
DTEND;TZID=UTC:20260309T150000
DTSTAMP:20260423T213658
CREATED:20250809T032115Z
LAST-MODIFIED:20250809T032115Z
UID:10000542-1773050400-1773068400@gcrcla.org
SUMMARY:Every Monday\, Blood Pressure Screening\, Food Distribution\, Clothing/Housing Distribution
DESCRIPTION:Every Monday\, Blood Pressure Screening\, Food Distribution\, Clothing/Housing Distribution
URL:https://gcrcla.org/event/every-monday-blood-pressure-screening-food-distribution-clothing-housing-distribution/2026-03-09/
LOCATION:The Wilcox\, 1040 N Kenmore Ave\, Los Angeles\, CA\, 90029\, United States
CATEGORIES:Blood Pressure Screening,Clothing Distribution,Food Distribution,Houseware Distribution,The Wilcox
ORGANIZER;CN="GCRCLA":MAILTO:info@gcrcla.org, ywanderson@gcrcla.org
END:VEVENT
BEGIN:VEVENT
DTSTART;TZID=UTC:20260306T100000
DTEND;TZID=UTC:20260306T150000
DTSTAMP:20260423T213658
CREATED:20250809T044320Z
LAST-MODIFIED:20250809T044432Z
UID:10001594-1772791200-1772809200@gcrcla.org
SUMMARY:Every Friday\, Clothing/Houseware Distribution\, at The Chesterfield
DESCRIPTION:Every Friday\, Clothing/Houseware Distribution\, at The Chesterfield
URL:https://gcrcla.org/event/every-friday-clothing-houseware-distribution-at-the-chesterfield/2026-03-06/
LOCATION:The Chesterfield\, 4723 So. Normandie Ave.\, Los Angeles\, CA\, 90062\, United States
CATEGORIES:Chesterfield,Clothing Distribution,Every Friday,Houseware Distribution
ORGANIZER;CN="GCRCLA":MAILTO:info@gcrcla.org, ywanderson@gcrcla.org
END:VEVENT
BEGIN:VEVENT
DTSTART;TZID=UTC:20260306T100000
DTEND;TZID=UTC:20260306T140000
DTSTAMP:20260423T213658
CREATED:20250809T043316Z
LAST-MODIFIED:20250809T043350Z
UID:10001330-1772791200-1772805600@gcrcla.org
SUMMARY:Every Friday\, BLOOD PRESSURE SCREENS\, at The Chesterfield
DESCRIPTION:Every Friday\, BLOOD PRESSURE SCREENS\, at The Chesterfield
URL:https://gcrcla.org/event/every-friday-blood-pressure-screens-at-the-chesterfield/2026-03-06/
LOCATION:The Chesterfield\, 4723 So. Normandie Ave.\, Los Angeles\, CA\, 90062\, United States
CATEGORIES:Blood Pressure Screening,Chesterfield,Every Friday
ORGANIZER;CN="GCRCLA":MAILTO:info@gcrcla.org, ywanderson@gcrcla.org
END:VEVENT
BEGIN:VEVENT
DTSTART;TZID=UTC:20260304T100000
DTEND;TZID=UTC:20260304T150000
DTSTAMP:20260423T213658
CREATED:20250731T210025Z
LAST-MODIFIED:20250809T040032Z
UID:10001065-1772618400-1772636400@gcrcla.org
SUMMARY:Every Wednesday\, BLOOD PRESSURE SCREENS\, CLOTHING & HOUSEWARE DISTRIBUTION\, FOOD BANK LAX FOOD BAG DISTRIBUTION
DESCRIPTION:Every Wednesday\, BLOOD PRESSURE SCREENS\, CLOTHING & HOUSEWARE DISTRIBUTION\, LAX FOOD BAG DISTRIBUTION
URL:https://gcrcla.org/event/every-wednesday-blood-pressure-screens-clothing-houseware-distribution-lax-food-bag-distribution/2026-03-04/
LOCATION:Metro@Buckingham\, 4018 Buckingham Rd\, Los Angeles\, CA\, 90008\, United States
CATEGORIES:Blood Pressure Screening,Clothing Distribution,First Wednesday,LAX Food Bag Distribution,Metro@Buckingham
ORGANIZER;CN="GCRCLA":MAILTO:info@gcrcla.org, ywanderson@gcrcla.org
END:VEVENT
BEGIN:VEVENT
DTSTART;TZID=UTC:20260303T080000
DTEND;TZID=UTC:20260303T170000
DTSTAMP:20260423T213658
CREATED:20250731T202023Z
LAST-MODIFIED:20250809T034013Z
UID:10000803-1772524800-1772557200@gcrcla.org
SUMMARY:Every Tuesday\, Clothing Distribution\, Food Distribution\, Blood Pressure Screens
DESCRIPTION:Every Tuesday\, Clothing Distribution\, Food Distribution\, Blood Pressure Screens\, The Quincy
URL:https://gcrcla.org/event/every-tuesday-clothing-distribution-food-distribution-blood-pressure-screens/2026-03-03/
LOCATION:The Quincy\, 2652 West Pico Blvd\, Los Angeles\, CA\, 90006\, United States
CATEGORIES:Blood Pressure Screening,Clothing Distribution,Every Tuesday,Food Distribution,The Quincy
ORGANIZER;CN="GCRCLA":MAILTO:info@gcrcla.org, ywanderson@gcrcla.org
END:VEVENT
BEGIN:VEVENT
DTSTART;TZID=UTC:20260302T100000
DTEND;TZID=UTC:20260302T150000
DTSTAMP:20260423T213658
CREATED:20250809T032115Z
LAST-MODIFIED:20250809T032115Z
UID:10000541-1772445600-1772463600@gcrcla.org
SUMMARY:Every Monday\, Blood Pressure Screening\, Food Distribution\, Clothing/Housing Distribution
DESCRIPTION:Every Monday\, Blood Pressure Screening\, Food Distribution\, Clothing/Housing Distribution
URL:https://gcrcla.org/event/every-monday-blood-pressure-screening-food-distribution-clothing-housing-distribution/2026-03-02/
LOCATION:The Wilcox\, 1040 N Kenmore Ave\, Los Angeles\, CA\, 90029\, United States
CATEGORIES:Blood Pressure Screening,Clothing Distribution,Food Distribution,Houseware Distribution,The Wilcox
ORGANIZER;CN="GCRCLA":MAILTO:info@gcrcla.org, ywanderson@gcrcla.org
END:VEVENT
BEGIN:VEVENT
DTSTART;TZID=UTC:20260227T100000
DTEND;TZID=UTC:20260227T150000
DTSTAMP:20260423T213658
CREATED:20250809T044320Z
LAST-MODIFIED:20250809T044432Z
UID:10001593-1772186400-1772204400@gcrcla.org
SUMMARY:Every Friday\, Clothing/Houseware Distribution\, at The Chesterfield
DESCRIPTION:Every Friday\, Clothing/Houseware Distribution\, at The Chesterfield
URL:https://gcrcla.org/event/every-friday-clothing-houseware-distribution-at-the-chesterfield/2026-02-27/
LOCATION:The Chesterfield\, 4723 So. Normandie Ave.\, Los Angeles\, CA\, 90062\, United States
CATEGORIES:Chesterfield,Clothing Distribution,Every Friday,Houseware Distribution
ORGANIZER;CN="GCRCLA":MAILTO:info@gcrcla.org, ywanderson@gcrcla.org
END:VEVENT
END:VCALENDAR