BEGIN:VCALENDAR
VERSION:2.0
PRODID:-//GCRCLA - ECPv6.15.20//NONSGML v1.0//EN
CALSCALE:GREGORIAN
METHOD:PUBLISH
X-WR-CALNAME:GCRCLA
X-ORIGINAL-URL:https://gcrcla.org
X-WR-CALDESC:Events for GCRCLA
REFRESH-INTERVAL;VALUE=DURATION:PT1H
X-Robots-Tag:noindex
X-PUBLISHED-TTL:PT1H
BEGIN:VTIMEZONE
TZID:UTC
BEGIN:STANDARD
TZOFFSETFROM:+0000
TZOFFSETTO:+0000
TZNAME:UTC
DTSTART:20240101T000000
END:STANDARD
END:VTIMEZONE
BEGIN:VEVENT
DTSTART;TZID=UTC:20250423T100000
DTEND;TZID=UTC:20250423T130000
DTSTAMP:20260425T124043
CREATED:20250329T131422Z
LAST-MODIFIED:20250329T153708Z
UID:10000097-1745402400-1745413200@gcrcla.org
SUMMARY:Fourth Wednesday
DESCRIPTION:POP UP CLOTHING DISTRIBUTION\, RAFFLES FOR BLOOD PRESSURE PARTICIPATION
URL:https://gcrcla.org/event/fourth-wednesday-3/
LOCATION:Metro@Buckingham\, 4018 Buckingham Rd\, Los Angeles\, CA\, 90008\, United States
CATEGORIES:POP UP CLOTHING DISTRIBUTION,RAFFLES FOR BLOOD PRESSURE PARTICIPATION
ATTACH;FMTTYPE=image/jpeg:https://gcrcla.org/wp-content/uploads/2025/01/Fourth-Wednesday.jpg
ORGANIZER;CN="GCRCLA":MAILTO:info@gcrcla.org, ywanderson@gcrcla.org
END:VEVENT
BEGIN:VEVENT
DTSTART;TZID=UTC:20250423T100000
DTEND;TZID=UTC:20250423T130000
DTSTAMP:20260425T124043
CREATED:20250329T131422Z
LAST-MODIFIED:20250329T151138Z
UID:10000095-1745402400-1745413200@gcrcla.org
SUMMARY:Every Wednesday
DESCRIPTION:BLOOD PRESSURE SCREENING
URL:https://gcrcla.org/event/every-wednesday-9/
LOCATION:Metro@Buckingham\, 4018 Buckingham Rd\, Los Angeles\, CA\, 90008\, United States
CATEGORIES:Blood Pressure Screening
ATTACH;FMTTYPE=image/jpeg:https://gcrcla.org/wp-content/uploads/2025/01/Every-Wednesday.jpg
ORGANIZER;CN="GCRCLA":MAILTO:info@gcrcla.org, ywanderson@gcrcla.org
END:VEVENT
BEGIN:VEVENT
DTSTART;TZID=UTC:20250422T100000
DTEND;TZID=UTC:20250422T130000
DTSTAMP:20260425T124043
CREATED:20250329T131302Z
LAST-MODIFIED:20250329T153601Z
UID:10000090-1745316000-1745326800@gcrcla.org
SUMMARY:Fourth Tuesday
DESCRIPTION:(NEW) FOOD BAG DISTRIBUTION – NEW PARTNER
URL:https://gcrcla.org/event/fourth-tuesday-4/
LOCATION:Metro@Buckingham\, 4018 Buckingham Rd\, Los Angeles\, CA\, 90008\, United States
CATEGORIES:(NEW) FOOD BAG DISTRIBUTION - NEW PARTNER
ATTACH;FMTTYPE=image/jpeg:https://gcrcla.org/wp-content/uploads/2025/02/Fourth-Tuesday-Metro@Buckingham.jpg
ORGANIZER;CN="GCRCLA":MAILTO:info@gcrcla.org, ywanderson@gcrcla.org
END:VEVENT
BEGIN:VEVENT
DTSTART;TZID=UTC:20250422T100000
DTEND;TZID=UTC:20250422T100000
DTSTAMP:20260425T124043
CREATED:20250329T130900Z
LAST-MODIFIED:20250329T131101Z
UID:10000087-1745316000-1745316000@gcrcla.org
SUMMARY:Every Tuesday
DESCRIPTION:FOOD DISTRIBUTION
URL:https://gcrcla.org/event/every-tuesday-10/
LOCATION:The Quincy\, 2652 West Pico Blvd\, Los Angeles\, CA\, 90006\, United States
CATEGORIES:Food Distribution
ORGANIZER;CN="GCRCLA":MAILTO:info@gcrcla.org, ywanderson@gcrcla.org
END:VEVENT
BEGIN:VEVENT
DTSTART;TZID=UTC:20250421T100000
DTEND;TZID=UTC:20250421T100000
DTSTAMP:20260425T124043
CREATED:20250329T130844Z
LAST-MODIFIED:20250329T130844Z
UID:10000080-1745229600-1745229600@gcrcla.org
SUMMARY:Third Monday
DESCRIPTION:LA REGIONAL FOOD BANK BOX DISTRIBUTION
URL:https://gcrcla.org/event/third-monday-2/
LOCATION:The Wilcox\, 1040 N Kenmore Ave\, Los Angeles\, CA\, 90029\, United States
CATEGORIES:BINGO PARTICIPATION,RAFFLES FOR BLOOD PRESSURE
ORGANIZER;CN="GCRCLA":MAILTO:info@gcrcla.org, ywanderson@gcrcla.org
END:VEVENT
BEGIN:VEVENT
DTSTART;TZID=UTC:20250421T100000
DTEND;TZID=UTC:20250421T100000
DTSTAMP:20260425T124043
CREATED:20250329T130841Z
LAST-MODIFIED:20250329T130841Z
UID:10000077-1745229600-1745229600@gcrcla.org
SUMMARY:Every Monday
DESCRIPTION:Blood Pressure Screening\, Clothing Distribution\, Food Distribution
URL:https://gcrcla.org/event/every-monday-14/
LOCATION:The Wilcox\, 1040 N Kenmore Ave\, Los Angeles\, CA\, 90029\, United States
CATEGORIES:Blood Pressure Screening,Clothing Distribution,Food Distribution
ORGANIZER;CN="GCRCLA":MAILTO:info@gcrcla.org, ywanderson@gcrcla.org
END:VEVENT
BEGIN:VEVENT
DTSTART;TZID=UTC:20250418T100000
DTEND;TZID=UTC:20250418T130000
DTSTAMP:20260425T124043
CREATED:20250329T131453Z
LAST-MODIFIED:20250329T155811Z
UID:10000106-1744970400-1744981200@gcrcla.org
SUMMARY:Third Friday
DESCRIPTION:LA REGIONAL FOOD BANK BOX DISTRIBUTION
URL:https://gcrcla.org/event/third-friday-3/
LOCATION:The Chesterfield\, 4723 So. Normandie Ave.\, Los Angeles\, CA\, 90062\, United States
CATEGORIES:LA REGIONAL FOOD BANK BOX DISTRIBUTION
ATTACH;FMTTYPE=image/jpeg:https://gcrcla.org/wp-content/uploads/2025/02/Third-Friday-LA-REGIONAL-FOOD-BANK-BOX-DISTRIBUTION-Chesterfield.jpg
ORGANIZER;CN="GCRCLA":MAILTO:info@gcrcla.org, ywanderson@gcrcla.org
END:VEVENT
BEGIN:VEVENT
DTSTART;TZID=UTC:20250418T100000
DTEND;TZID=UTC:20250418T130000
DTSTAMP:20260425T124043
CREATED:20250329T131437Z
LAST-MODIFIED:20250329T160257Z
UID:10000101-1744970400-1744981200@gcrcla.org
SUMMARY:Every Friday
DESCRIPTION:BLOOD PRESSURE SCREENING\, Clothing Distribution
URL:https://gcrcla.org/event/every-friday-8/
LOCATION:The Chesterfield\, 4723 So. Normandie Ave.\, Los Angeles\, CA\, 90062\, United States
CATEGORIES:Blood Pressure Screening,Clothing Distribution
ATTACH;FMTTYPE=image/jpeg:https://gcrcla.org/wp-content/uploads/2025/02/Every-Friday-BLOOD-PRESSURE-SCREENING-Clothing-Distribution-Chesterfield.jpg
ORGANIZER;CN="GCRCLA":MAILTO:info@gcrcla.org, ywanderson@gcrcla.org
END:VEVENT
BEGIN:VEVENT
DTSTART;TZID=UTC:20250416T100000
DTEND;TZID=UTC:20250416T100000
DTSTAMP:20260425T124043
CREATED:20250329T131422Z
LAST-MODIFIED:20250329T131422Z
UID:10000096-1744797600-1744797600@gcrcla.org
SUMMARY:Third Wednesday
DESCRIPTION:LA REGIONAL FOOD BANK BOX DISTRIBUTION
URL:https://gcrcla.org/event/third-wednesday-3/
LOCATION:Metro@Buckingham\, 4018 Buckingham Rd\, Los Angeles\, CA\, 90008\, United States
CATEGORIES:LA REGIONAL FOOD BANK BOX DISTRIBUTION
ORGANIZER;CN="GCRCLA":MAILTO:info@gcrcla.org, ywanderson@gcrcla.org
END:VEVENT
BEGIN:VEVENT
DTSTART;TZID=UTC:20250416T100000
DTEND;TZID=UTC:20250416T100000
DTSTAMP:20260425T124043
CREATED:20250329T131410Z
LAST-MODIFIED:20250329T131410Z
UID:10000094-1744797600-1744797600@gcrcla.org
SUMMARY:Every Wednesday
DESCRIPTION:BLOOD PRESSURE SCREENING
URL:https://gcrcla.org/event/every-wednesday-8/
LOCATION:Metro@Buckingham\, 4018 Buckingham Rd\, Los Angeles\, CA\, 90008\, United States
CATEGORIES:Blood Pressure Screening
ORGANIZER;CN="GCRCLA":MAILTO:info@gcrcla.org, ywanderson@gcrcla.org
END:VEVENT
BEGIN:VEVENT
DTSTART;TZID=UTC:20250415T100000
DTEND;TZID=UTC:20250415T130000
DTSTAMP:20260425T124043
CREATED:20250329T131302Z
LAST-MODIFIED:20250329T145808Z
UID:10000089-1744711200-1744722000@gcrcla.org
SUMMARY:Third Tuesday
DESCRIPTION:LA REGIONAL FOOD BANK BOX DISTRIBUTION
URL:https://gcrcla.org/event/third-tuesday-3/
LOCATION:The Quincy\, 2652 West Pico Blvd\, Los Angeles\, CA\, 90006\, United States
CATEGORIES:LA REGIONAL FOOD BANK BOX DISTRIBUTION
ATTACH;FMTTYPE=image/jpeg:https://gcrcla.org/wp-content/uploads/2025/01/Third-Tuesday.jpg
ORGANIZER;CN="GCRCLA":MAILTO:info@gcrcla.org, ywanderson@gcrcla.org
END:VEVENT
BEGIN:VEVENT
DTSTART;TZID=UTC:20250415T100000
DTEND;TZID=UTC:20250415T100000
DTSTAMP:20260425T124043
CREATED:20250329T130900Z
LAST-MODIFIED:20250329T131101Z
UID:10000086-1744711200-1744711200@gcrcla.org
SUMMARY:Every Tuesday
DESCRIPTION:CLOTHING DISTRIBUTION
URL:https://gcrcla.org/event/every-tuesday-9/
LOCATION:The Quincy\, 2652 West Pico Blvd\, Los Angeles\, CA\, 90006\, United States
CATEGORIES:Clothing Distribution
ORGANIZER;CN="GCRCLA":MAILTO:info@gcrcla.org, ywanderson@gcrcla.org
END:VEVENT
BEGIN:VEVENT
DTSTART;TZID=UTC:20250414T100000
DTEND;TZID=UTC:20250414T100000
DTSTAMP:20260425T124043
CREATED:20250329T130841Z
LAST-MODIFIED:20250329T130841Z
UID:10000076-1744624800-1744624800@gcrcla.org
SUMMARY:Every Monday
DESCRIPTION:Blood Pressure Screening\, Clothing Distribution\, Food Distribution
URL:https://gcrcla.org/event/every-monday-13/
LOCATION:The Wilcox\, 1040 N Kenmore Ave\, Los Angeles\, CA\, 90029\, United States
CATEGORIES:Blood Pressure Screening,Clothing Distribution,Food Distribution
ORGANIZER;CN="GCRCLA":MAILTO:info@gcrcla.org, ywanderson@gcrcla.org
END:VEVENT
BEGIN:VEVENT
DTSTART;TZID=UTC:20250411T100000
DTEND;TZID=UTC:20250411T130000
DTSTAMP:20260425T124043
CREATED:20250329T131453Z
LAST-MODIFIED:20250329T155639Z
UID:10000105-1744365600-1744376400@gcrcla.org
SUMMARY:Second Friday
DESCRIPTION:EXERCISE CLASS
URL:https://gcrcla.org/event/second-friday-3/
LOCATION:The Chesterfield\, 4723 So. Normandie Ave.\, Los Angeles\, CA\, 90062\, United States
CATEGORIES:EXERCISE CLASS
ATTACH;FMTTYPE=image/jpeg:https://gcrcla.org/wp-content/uploads/2025/01/Second-Friday.jpg
ORGANIZER;CN="GCRCLA":MAILTO:info@gcrcla.org, ywanderson@gcrcla.org
END:VEVENT
BEGIN:VEVENT
DTSTART;TZID=UTC:20250411T100000
DTEND;TZID=UTC:20250411T130000
DTSTAMP:20260425T124043
CREATED:20250329T131437Z
LAST-MODIFIED:20250329T160056Z
UID:10000100-1744365600-1744376400@gcrcla.org
SUMMARY:Every Friday
DESCRIPTION:BLOOD PRESSURE SCREENING\, Clothing Distribution
URL:https://gcrcla.org/event/every-friday-7/
LOCATION:The Chesterfield\, 4723 So. Normandie Ave.\, Los Angeles\, CA\, 90062\, United States
CATEGORIES:Blood Pressure Screening,Clothing Distribution
ATTACH;FMTTYPE=image/jpeg:https://gcrcla.org/wp-content/uploads/2025/02/Every-Friday-BLOOD-PRESSURE-SCREENING-Clothing-Distribution-Chesterfield.jpg
ORGANIZER;CN="GCRCLA":MAILTO:info@gcrcla.org, ywanderson@gcrcla.org
END:VEVENT
BEGIN:VEVENT
DTSTART;TZID=UTC:20250410T100000
DTEND;TZID=UTC:20250410T130000
DTSTAMP:20260425T124043
CREATED:20250329T131452Z
LAST-MODIFIED:20250329T155334Z
UID:10000104-1744279200-1744290000@gcrcla.org
SUMMARY:Second Thursday
DESCRIPTION:PRODUCE\, MEAT\, BEVERAGE\, DRY GOOD BOX DISTRIBUTION
URL:https://gcrcla.org/event/second-thursday-3/
LOCATION:The Chesterfield\, 4723 So. Normandie Ave.\, Los Angeles\, CA\, 90062\, United States
CATEGORIES:BEVERAGE,DRY GOOD BOX DISTRIBUTION,MEAT,PRODUCE
ATTACH;FMTTYPE=image/jpeg:https://gcrcla.org/wp-content/uploads/2025/02/Second-Thursday-PRODUCE-MEAT-BEVERAGE-DRY-GOOD-BOX-DISTRIBUTION.jpg
ORGANIZER;CN="GCRCLA":MAILTO:info@gcrcla.org, ywanderson@gcrcla.org
END:VEVENT
BEGIN:VEVENT
DTSTART;TZID=UTC:20250409T100000
DTEND;TZID=UTC:20250409T100000
DTSTAMP:20260425T124043
CREATED:20250329T131452Z
LAST-MODIFIED:20250329T131452Z
UID:10000103-1744192800-1744192800@gcrcla.org
SUMMARY:Second Wednesday
DESCRIPTION:WAFFLE WEDNESDAY
URL:https://gcrcla.org/event/second-wednesday-2/
LOCATION:The Chesterfield\, 4723 So. Normandie Ave.\, Los Angeles\, CA\, 90062\, United States
CATEGORIES:WAFFLE WEDNESDAY
ORGANIZER;CN="GCRCLA":MAILTO:info@gcrcla.org, ywanderson@gcrcla.org
END:VEVENT
BEGIN:VEVENT
DTSTART;TZID=UTC:20250409T100000
DTEND;TZID=UTC:20250409T100000
DTSTAMP:20260425T124043
CREATED:20250329T131410Z
LAST-MODIFIED:20250329T131410Z
UID:10000093-1744192800-1744192800@gcrcla.org
SUMMARY:Every Wednesday
DESCRIPTION:BLOOD PRESSURE SCREENING
URL:https://gcrcla.org/event/every-wednesday-7/
LOCATION:Metro@Buckingham\, 4018 Buckingham Rd\, Los Angeles\, CA\, 90008\, United States
CATEGORIES:Blood Pressure Screening
ORGANIZER;CN="GCRCLA":MAILTO:info@gcrcla.org, ywanderson@gcrcla.org
END:VEVENT
BEGIN:VEVENT
DTSTART;TZID=UTC:20250408T100000
DTEND;TZID=UTC:20250408T130000
DTSTAMP:20260425T124043
CREATED:20250329T130859Z
LAST-MODIFIED:20250329T145416Z
UID:10000085-1744106400-1744117200@gcrcla.org
SUMMARY:Every Tuesday
DESCRIPTION:CLOTHING DISTRIBUTION
URL:https://gcrcla.org/event/every-tuesday-8/
LOCATION:The Quincy\, 2652 West Pico Blvd\, Los Angeles\, CA\, 90006\, United States
CATEGORIES:Clothing Distribution
ATTACH;FMTTYPE=image/jpeg:https://gcrcla.org/wp-content/uploads/2025/02/Every-Tuesday-Clothing-Distribution.jpg
ORGANIZER;CN="GCRCLA":MAILTO:info@gcrcla.org, ywanderson@gcrcla.org
END:VEVENT
BEGIN:VEVENT
DTSTART;TZID=UTC:20250408T100000
DTEND;TZID=UTC:20250408T100000
DTSTAMP:20260425T124043
CREATED:20250329T131409Z
LAST-MODIFIED:20250329T131452Z
UID:10000091-1744106400-1744106400@gcrcla.org
SUMMARY:Second Tuesday
DESCRIPTION:(NEW) FOOD BAG DISTRIBUTION – NEW PARTNER
URL:https://gcrcla.org/event/second-tuesday-3/
LOCATION:The Chesterfield\, 4723 So. Normandie Ave.\, Los Angeles\, CA\, 90062\, United States
CATEGORIES:(NEW) FOOD BAG DISTRIBUTION - NEW PARTNER
ORGANIZER;CN="GCRCLA":MAILTO:info@gcrcla.org, ywanderson@gcrcla.org
END:VEVENT
BEGIN:VEVENT
DTSTART;TZID=UTC:20250407T100000
DTEND;TZID=UTC:20250407T100000
DTSTAMP:20260425T124043
CREATED:20250329T130841Z
LAST-MODIFIED:20250329T145144Z
UID:10000075-1744020000-1744020000@gcrcla.org
SUMMARY:Every Monday
DESCRIPTION:Blood Pressure Screening\, Clothing Distribution\, Food Distribution
URL:https://gcrcla.org/event/every-monday-12/
LOCATION:The Wilcox\, 1040 N Kenmore Ave\, Los Angeles\, CA\, 90029\, United States
CATEGORIES:Blood Pressure Screening,Clothing Distribution,Food Distribution
ATTACH;FMTTYPE=image/jpeg:https://gcrcla.org/wp-content/uploads/2025/02/Every-Monday.jpg
ORGANIZER;CN="GCRCLA":MAILTO:info@gcrcla.org, ywanderson@gcrcla.org
END:VEVENT
BEGIN:VEVENT
DTSTART;TZID=UTC:20250404T100000
DTEND;TZID=UTC:20250404T130000
DTSTAMP:20260425T124043
CREATED:20250329T131437Z
LAST-MODIFIED:20250329T144705Z
UID:10000099-1743760800-1743771600@gcrcla.org
SUMMARY:Every Friday
DESCRIPTION:BLOOD PRESSURE SCREENING\, Clothing Distribution
URL:https://gcrcla.org/event/every-friday-6/
LOCATION:The Chesterfield\, 4723 So. Normandie Ave.\, Los Angeles\, CA\, 90062\, United States
CATEGORIES:Blood Pressure Screening,Clothing Distribution
ATTACH;FMTTYPE=image/jpeg:https://gcrcla.org/wp-content/uploads/2025/02/Every-Friday-BLOOD-PRESSURE-SCREENING-Clothing-Distribution-Chesterfield.jpg
ORGANIZER;CN="GCRCLA":MAILTO:info@gcrcla.org, ywanderson@gcrcla.org
END:VEVENT
BEGIN:VEVENT
DTSTART;TZID=UTC:20250404T100000
DTEND;TZID=UTC:20250404T130000
DTSTAMP:20260425T124043
CREATED:20250329T130844Z
LAST-MODIFIED:20250329T144449Z
UID:10000083-1743760800-1743771600@gcrcla.org
SUMMARY:First Friday
DESCRIPTION:PRODUCE GIVE AWAY
URL:https://gcrcla.org/event/first-friday-5/
LOCATION:The Quincy\, 2652 West Pico Blvd\, Los Angeles\, CA\, 90006\, United States
CATEGORIES:PRODUCE GIVE AWAY
ATTACH;FMTTYPE=image/jpeg:https://gcrcla.org/wp-content/uploads/2025/02/First-Friday-Produce-Give-Away-The-Wilcox.jpg
ORGANIZER;CN="GCRCLA":MAILTO:info@gcrcla.org, ywanderson@gcrcla.org
END:VEVENT
BEGIN:VEVENT
DTSTART;TZID=UTC:20250404T100000
DTEND;TZID=UTC:20250404T130000
DTSTAMP:20260425T124043
CREATED:20250329T130844Z
LAST-MODIFIED:20250329T154810Z
UID:10000079-1743760800-1743771600@gcrcla.org
SUMMARY:First Friday
DESCRIPTION:PRODUCE GIVE AWAY
URL:https://gcrcla.org/event/first-friday-4/
LOCATION:The Chesterfield\, 4723 So. Normandie Ave.\, Los Angeles\, CA\, 90062\, United States
CATEGORIES:PRODUCE GIVE AWAY
ATTACH;FMTTYPE=image/jpeg:https://gcrcla.org/wp-content/uploads/2025/01/First-Friday.jpg
ORGANIZER;CN="GCRCLA":MAILTO:info@gcrcla.org, ywanderson@gcrcla.org
END:VEVENT
BEGIN:VEVENT
DTSTART;TZID=UTC:20250402T100000
DTEND;TZID=UTC:20250402T100000
DTSTAMP:20260425T124043
CREATED:20250329T131410Z
LAST-MODIFIED:20250329T143837Z
UID:10000092-1743588000-1743588000@gcrcla.org
SUMMARY:Every Wednesday
DESCRIPTION:BLOOD PRESSURE SCREENING
URL:https://gcrcla.org/event/every-wednesday-6/
LOCATION:Metro@Buckingham\, 4018 Buckingham Rd\, Los Angeles\, CA\, 90008\, United States
CATEGORIES:Blood Pressure Screening
ATTACH;FMTTYPE=image/jpeg:https://gcrcla.org/wp-content/uploads/2025/02/Every-Wednesday.jpg
ORGANIZER;CN="GCRCLA":MAILTO:info@gcrcla.org, ywanderson@gcrcla.org
END:VEVENT
BEGIN:VEVENT
DTSTART;TZID=UTC:20250401T100000
DTEND;TZID=UTC:20250401T100000
DTSTAMP:20260425T124043
CREATED:20250329T130859Z
LAST-MODIFIED:20250329T142118Z
UID:10000084-1743501600-1743501600@gcrcla.org
SUMMARY:Every Tuesday
DESCRIPTION:FOOD DISTRIBUTION
URL:https://gcrcla.org/event/every-tuesday-7/
LOCATION:The Quincy\, 2652 West Pico Blvd\, Los Angeles\, CA\, 90006\, United States
CATEGORIES:Food Distribution
ATTACH;FMTTYPE=image/jpeg:https://gcrcla.org/wp-content/uploads/2025/02/Every-Tuesday-Food-Distribution-1.jpg
ORGANIZER;CN="GCRCLA":MAILTO:info@gcrcla.org, ywanderson@gcrcla.org
END:VEVENT
BEGIN:VEVENT
DTSTART;TZID=UTC:20250331T100000
DTEND;TZID=UTC:20250331T100000
DTSTAMP:20260425T124043
CREATED:20250601T174758Z
LAST-MODIFIED:20250601T220009Z
UID:10000041-1743415200-1743415200@gcrcla.org
SUMMARY:Every Monday
DESCRIPTION:Blood Pressure Screening\, Clothing Distribution\, Food Distribution
URL:https://gcrcla.org/event/every-monday-11/
LOCATION:The Wilcox\, 1040 N Kenmore Ave\, Los Angeles\, CA\, 90029\, United States
CATEGORIES:Blood Pressure Screening,Clothing Distribution,Food Distribution
ATTACH;FMTTYPE=image/jpeg:https://gcrcla.org/wp-content/uploads/2025/02/Every-Monday.jpg
ORGANIZER;CN="GCRCLA":MAILTO:info@gcrcla.org, ywanderson@gcrcla.org
END:VEVENT
BEGIN:VEVENT
DTSTART;TZID=UTC:20250328T100000
DTEND;TZID=UTC:20250328T100000
DTSTAMP:20260425T124043
CREATED:20250222T011519Z
LAST-MODIFIED:20250226T002204Z
UID:10000072-1743156000-1743156000@gcrcla.org
SUMMARY:Fourth Friday
DESCRIPTION:BINGO WITH PRIZES\, Raffles For Blood Pressure Participation
URL:https://gcrcla.org/event/fourth-friday-2/
LOCATION:The Chesterfield\, 4723 So. Normandie Ave.\, Los Angeles\, CA\, 90062\, United States
CATEGORIES:BINGO WITH PRIZES,RAFFLES FOR BLOOD PRESSURE PARTICIPATION
ATTACH;FMTTYPE=image/jpeg:https://gcrcla.org/wp-content/uploads/2025/02/Fourth-Friday-BINGO-WITH-PRIZES-Raffles-For-Blood-Pressure-Participation-Chesterfield.jpg
ORGANIZER;CN="GCRCLA":MAILTO:info@gcrcla.org, ywanderson@gcrcla.org
END:VEVENT
BEGIN:VEVENT
DTSTART;TZID=UTC:20250327T100000
DTEND;TZID=UTC:20250327T100000
DTSTAMP:20260425T124043
CREATED:20250222T011403Z
LAST-MODIFIED:20250225T235952Z
UID:10000062-1743069600-1743069600@gcrcla.org
SUMMARY:Fourth Thursday
DESCRIPTION:PRODUCE\, MEAT\, BEVERAGE\, DRY GOOD BOX DISTRIBUTION
URL:https://gcrcla.org/event/fourth-thursday-2/
LOCATION:Metro@Buckingham\, 4018 Buckingham Rd\, Los Angeles\, CA\, 90008\, United States
CATEGORIES:BEVERAGE,DRY GOOD BOX DISTRIBUTION,MEAT,PRODUCE
ATTACH;FMTTYPE=image/jpeg:https://gcrcla.org/wp-content/uploads/2025/02/Fourth-Thursday-PRODUCE-MEAT-BEVERAGE-DRY-GOOD-BOX-DISTRIBUTION.jpg
ORGANIZER;CN="GCRCLA":MAILTO:info@gcrcla.org, ywanderson@gcrcla.org
END:VEVENT
BEGIN:VEVENT
DTSTART;TZID=UTC:20250326T100000
DTEND;TZID=UTC:20250326T100000
DTSTAMP:20260425T124043
CREATED:20250222T011402Z
LAST-MODIFIED:20250225T234539Z
UID:10000059-1742983200-1742983200@gcrcla.org
SUMMARY:Every Wednesday
DESCRIPTION:BLOOD PRESSURE SCREENING
URL:https://gcrcla.org/event/every-wednesday-5/
LOCATION:Metro@Buckingham\, 4018 Buckingham Rd\, Los Angeles\, CA\, 90008\, United States
CATEGORIES:Blood Pressure Screening
ATTACH;FMTTYPE=image/jpeg:https://gcrcla.org/wp-content/uploads/2025/02/Every-Wednesday-BLOOD-PRESSURE-SCREENING.jpg
ORGANIZER;CN="GCRCLA":MAILTO:info@gcrcla.org, ywanderson@gcrcla.org
END:VEVENT
END:VCALENDAR