BEGIN:VCALENDAR
VERSION:2.0
PRODID:-//GCRCLA - ECPv6.15.20//NONSGML v1.0//EN
CALSCALE:GREGORIAN
METHOD:PUBLISH
X-WR-CALNAME:GCRCLA
X-ORIGINAL-URL:https://gcrcla.org
X-WR-CALDESC:Events for GCRCLA
REFRESH-INTERVAL;VALUE=DURATION:PT1H
X-Robots-Tag:noindex
X-PUBLISHED-TTL:PT1H
BEGIN:VTIMEZONE
TZID:UTC
BEGIN:STANDARD
TZOFFSETFROM:+0000
TZOFFSETTO:+0000
TZNAME:UTC
DTSTART:20240101T000000
END:STANDARD
END:VTIMEZONE
BEGIN:VEVENT
DTSTART;TZID=UTC:20250806T100000
DTEND;TZID=UTC:20250806T150000
DTSTAMP:20260424T143106
CREATED:20250731T210025Z
LAST-MODIFIED:20250809T040032Z
UID:10000232-1754474400-1754492400@gcrcla.org
SUMMARY:Every Wednesday\, BLOOD PRESSURE SCREENS\, CLOTHING & HOUSEWARE DISTRIBUTION\, FOOD BANK LAX FOOD BAG DISTRIBUTION
DESCRIPTION:Every Wednesday\, BLOOD PRESSURE SCREENS\, CLOTHING & HOUSEWARE DISTRIBUTION\, LAX FOOD BAG DISTRIBUTION
URL:https://gcrcla.org/event/every-wednesday-blood-pressure-screens-clothing-houseware-distribution-lax-food-bag-distribution/2025-08-06/
LOCATION:Metro@Buckingham\, 4018 Buckingham Rd\, Los Angeles\, CA\, 90008\, United States
CATEGORIES:Blood Pressure Screening,Clothing Distribution,First Wednesday,LAX Food Bag Distribution,Metro@Buckingham
ORGANIZER;CN="GCRCLA":MAILTO:info@gcrcla.org, ywanderson@gcrcla.org
END:VEVENT
BEGIN:VEVENT
DTSTART;TZID=UTC:20250805T080000
DTEND;TZID=UTC:20250805T170000
DTSTAMP:20260424T143106
CREATED:20250731T202023Z
LAST-MODIFIED:20250809T034013Z
UID:10000226-1754380800-1754413200@gcrcla.org
SUMMARY:Every Tuesday\, Clothing Distribution\, Food Distribution\, Blood Pressure Screens
DESCRIPTION:Every Tuesday\, Clothing Distribution\, Food Distribution\, Blood Pressure Screens\, The Quincy
URL:https://gcrcla.org/event/every-tuesday-clothing-distribution-food-distribution-blood-pressure-screens/2025-08-05/
LOCATION:The Quincy\, 2652 West Pico Blvd\, Los Angeles\, CA\, 90006\, United States
CATEGORIES:Blood Pressure Screening,Clothing Distribution,Every Tuesday,Food Distribution,The Quincy
ORGANIZER;CN="GCRCLA":MAILTO:info@gcrcla.org, ywanderson@gcrcla.org
END:VEVENT
BEGIN:VEVENT
DTSTART;TZID=UTC:20250804T100000
DTEND;TZID=UTC:20250804T150000
DTSTAMP:20260424T143106
CREATED:20250809T032115Z
LAST-MODIFIED:20250809T032115Z
UID:10000511-1754301600-1754319600@gcrcla.org
SUMMARY:Every Monday\, Blood Pressure Screening\, Food Distribution\, Clothing/Housing Distribution
DESCRIPTION:Every Monday\, Blood Pressure Screening\, Food Distribution\, Clothing/Housing Distribution
URL:https://gcrcla.org/event/every-monday-blood-pressure-screening-food-distribution-clothing-housing-distribution/2025-08-04/
LOCATION:The Wilcox\, 1040 N Kenmore Ave\, Los Angeles\, CA\, 90029\, United States
CATEGORIES:Blood Pressure Screening,Clothing Distribution,Food Distribution,Houseware Distribution,The Wilcox
ORGANIZER;CN="GCRCLA":MAILTO:info@gcrcla.org, ywanderson@gcrcla.org
END:VEVENT
BEGIN:VEVENT
DTSTART;TZID=UTC:20250801T100000
DTEND;TZID=UTC:20250801T150000
DTSTAMP:20260424T143106
CREATED:20250809T044320Z
LAST-MODIFIED:20250809T044432Z
UID:10001563-1754042400-1754060400@gcrcla.org
SUMMARY:Every Friday\, Clothing/Houseware Distribution\, at The Chesterfield
DESCRIPTION:Every Friday\, Clothing/Houseware Distribution\, at The Chesterfield
URL:https://gcrcla.org/event/every-friday-clothing-houseware-distribution-at-the-chesterfield/2025-08-01/
LOCATION:The Chesterfield\, 4723 So. Normandie Ave.\, Los Angeles\, CA\, 90062\, United States
CATEGORIES:Chesterfield,Clothing Distribution,Every Friday,Houseware Distribution
ORGANIZER;CN="GCRCLA":MAILTO:info@gcrcla.org, ywanderson@gcrcla.org
END:VEVENT
BEGIN:VEVENT
DTSTART;TZID=UTC:20250801T100000
DTEND;TZID=UTC:20250801T150000
DTSTAMP:20260424T143106
CREATED:20250809T042201Z
LAST-MODIFIED:20250809T042322Z
UID:10001297-1754042400-1754060400@gcrcla.org
SUMMARY:Friday\, Produce GiveAway\, at The Chesterfield
DESCRIPTION:Friday\, Produce GiveAway\, The Chesterfield
URL:https://gcrcla.org/event/friday-produce-giveaway-at-the-chesterfield/
LOCATION:The Chesterfield\, 4723 So. Normandie Ave.\, Los Angeles\, CA\, 90062\, United States
CATEGORIES:Chesterfield,First Friday,PRODUCE GIVE AWAY
ORGANIZER;CN="GCRCLA":MAILTO:info@gcrcla.org, ywanderson@gcrcla.org
END:VEVENT
BEGIN:VEVENT
DTSTART;TZID=UTC:20250801T100000
DTEND;TZID=UTC:20250801T150000
DTSTAMP:20260424T143106
CREATED:20250809T035709Z
LAST-MODIFIED:20250809T035709Z
UID:10001035-1754042400-1754060400@gcrcla.org
SUMMARY:First Friday\, Produce GiveAway at Metro-Buckingham
DESCRIPTION:First Friday\, Produce GiveAway\, Metro-Buckingham
URL:https://gcrcla.org/event/first-friday-produce-giveaway-at-metro-buckingham/
LOCATION:Metro@Buckingham\, 4018 Buckingham Rd\, Los Angeles\, CA\, 90008\, United States
CATEGORIES:First Friday,Metro@Buckingham,PRODUCE GIVE AWAY
ORGANIZER;CN="GCRCLA":MAILTO:info@gcrcla.org, ywanderson@gcrcla.org
END:VEVENT
BEGIN:VEVENT
DTSTART;TZID=UTC:20250801T100000
DTEND;TZID=UTC:20250801T150000
DTSTAMP:20260424T143106
CREATED:20250809T033410Z
LAST-MODIFIED:20250809T033542Z
UID:10000773-1754042400-1754060400@gcrcla.org
SUMMARY:First Friday\, Produce GiveAway at The Quincy
DESCRIPTION:First Friday\, Produce GiveAway at The Quincy
URL:https://gcrcla.org/event/first-friday-produce-giveaway-at-the-quincy/
LOCATION:CA
CATEGORIES:First Friday,PRODUCE GIVE AWAY,The Quincy
END:VEVENT
BEGIN:VEVENT
DTSTART;TZID=UTC:20250801T100000
DTEND;TZID=UTC:20250801T150000
DTSTAMP:20260424T143106
CREATED:20250801T130628Z
LAST-MODIFIED:20250809T032836Z
UID:10000242-1754042400-1754060400@gcrcla.org
SUMMARY:First Friday\, Produce GiveAway at The Wilcox
DESCRIPTION:First Friday\, Produce GiveAway at The Wilcox
URL:https://gcrcla.org/event/first-friday-produce-giveaway-at-the-wilcox/
LOCATION:The Wilcox\, 1040 N Kenmore Ave\, Los Angeles\, CA\, 90029\, United States
CATEGORIES:First Friday,PRODUCE GIVE AWAY,The Wilcox
ORGANIZER;CN="GCRCLA":MAILTO:info@gcrcla.org, ywanderson@gcrcla.org
END:VEVENT
BEGIN:VEVENT
DTSTART;TZID=UTC:20250801T100000
DTEND;TZID=UTC:20250801T140000
DTSTAMP:20260424T143106
CREATED:20250809T043316Z
LAST-MODIFIED:20250809T043350Z
UID:10001299-1754042400-1754056800@gcrcla.org
SUMMARY:Every Friday\, BLOOD PRESSURE SCREENS\, at The Chesterfield
DESCRIPTION:Every Friday\, BLOOD PRESSURE SCREENS\, at The Chesterfield
URL:https://gcrcla.org/event/every-friday-blood-pressure-screens-at-the-chesterfield/2025-08-01/
LOCATION:The Chesterfield\, 4723 So. Normandie Ave.\, Los Angeles\, CA\, 90062\, United States
CATEGORIES:Blood Pressure Screening,Chesterfield,Every Friday
ORGANIZER;CN="GCRCLA":MAILTO:info@gcrcla.org, ywanderson@gcrcla.org
END:VEVENT
BEGIN:VEVENT
DTSTART;TZID=UTC:20250729T100000
DTEND;TZID=UTC:20250729T150000
DTSTAMP:20260424T143106
CREATED:20250602T142117Z
LAST-MODIFIED:20250704T133134Z
UID:10000172-1753783200-1753801200@gcrcla.org
SUMMARY:Fifth Tuesday | RAFFLES FOR BLOOD PRESSURE PARTICIPATION
DESCRIPTION:Fifth Tuesday\, RAFFLES FOR BLOOD PRESSURE PARTICIPATION\, LA REGIONAL FOOD BANK
URL:https://gcrcla.org/event/fifth-tuesday-raffles-for-blood-pressure-participation/
LOCATION:The Quincy\, 2652 West Pico Blvd\, Los Angeles\, CA\, 90006\, United States
CATEGORIES:Fifth Tuesday,LA REGIONAL FOOD BANK,RAFFLES FOR BLOOD PRESSURE PARTICIPATION,The Quincy
ORGANIZER;CN="GCRCLA":MAILTO:info@gcrcla.org, ywanderson@gcrcla.org
END:VEVENT
BEGIN:VEVENT
DTSTART;TZID=UTC:20250728T100000
DTEND;TZID=UTC:20250728T150000
DTSTAMP:20260424T143106
CREATED:20250704T124523Z
LAST-MODIFIED:20250704T124630Z
UID:10000210-1753696800-1753714800@gcrcla.org
SUMMARY:Fourth Monday
DESCRIPTION:Fourth Monday\, Blood Pressure Screening\, Clothing Distribution\, Food Distribution
URL:https://gcrcla.org/event/fourth-monday-7/
LOCATION:The Wilcox\, 1040 N Kenmore Ave\, Los Angeles\, CA\, 90029\, United States
CATEGORIES:Blood Pressure Screening,Clothing Distribution,Food Distribution,Fourth Mondays,The Wilcox
ORGANIZER;CN="GCRCLA":MAILTO:info@gcrcla.org, ywanderson@gcrcla.org
END:VEVENT
BEGIN:VEVENT
DTSTART;TZID=UTC:20250728T100000
DTEND;TZID=UTC:20250728T140000
DTSTAMP:20260424T143106
CREATED:20250704T130912Z
LAST-MODIFIED:20250704T130912Z
UID:10000215-1753696800-1753711200@gcrcla.org
SUMMARY:Fourth Monday | BINGO WITH PRIZES
DESCRIPTION:Fourth Monday\, BINGO WITH PRIZES
URL:https://gcrcla.org/event/fourth-monday-bingo-with-prizes/
LOCATION:The Wilcox\, 1040 N Kenmore Ave\, Los Angeles\, CA\, 90029\, United States
CATEGORIES:BINGO WITH PRIZES,Fourth Mondays,The Wilcox
ORGANIZER;CN="GCRCLA":MAILTO:info@gcrcla.org, ywanderson@gcrcla.org
END:VEVENT
BEGIN:VEVENT
DTSTART;TZID=UTC:20250723T100000
DTEND;TZID=UTC:20250723T150000
DTSTAMP:20260424T143106
CREATED:20250704T142452Z
LAST-MODIFIED:20250704T150441Z
UID:10000220-1753264800-1753282800@gcrcla.org
SUMMARY:Fourth Wednesday\, MOVIE DAY
DESCRIPTION:Fourth Wednesday\, MOVIE DAY
URL:https://gcrcla.org/event/fourth-wednesday-movie-day/
LOCATION:The Chesterfield\, 4723 So. Normandie Ave.\, Los Angeles\, CA\, 90062\, United States
CATEGORIES:Fourth Wednesday,MOVIE DAY
ORGANIZER;CN="GCRCLA":MAILTO:info@gcrcla.org, ywanderson@gcrcla.org
END:VEVENT
BEGIN:VEVENT
DTSTART;TZID=UTC:20250723T100000
DTEND;TZID=UTC:20250723T150000
DTSTAMP:20260424T143106
CREATED:20250704T140652Z
LAST-MODIFIED:20250704T140754Z
UID:10000219-1753264800-1753282800@gcrcla.org
SUMMARY:Fourth Wednesday\, LARGE FOOD BOX\, SADDLEBACK BOX DISTRIBUTION
DESCRIPTION:Fourth Wednesday\, LARGE FOOD BOX\, SADDLEBACK BOX DISTRIBUTION
URL:https://gcrcla.org/event/fourth-wednesday-large-food-box-saddleback-box-distribution/
LOCATION:Metro@Buckingham\, 4018 Buckingham Rd\, Los Angeles\, CA\, 90008\, United States
CATEGORIES:Fourth Wednesday,LARGE FOOD BOX SADDLEBACK BOX DISTRIBUTION,Metro@Buckingham
ORGANIZER;CN="GCRCLA":MAILTO:info@gcrcla.org, ywanderson@gcrcla.org
END:VEVENT
BEGIN:VEVENT
DTSTART;TZID=UTC:20250722T100000
DTEND;TZID=UTC:20250722T140000
DTSTAMP:20260424T143106
CREATED:20250704T133422Z
LAST-MODIFIED:20250704T133422Z
UID:10000216-1753178400-1753192800@gcrcla.org
SUMMARY:Fourth Tuesday | LARGE FOOD BOX | SADDLEBACK BOX DISTRIBUTION
DESCRIPTION:Fourth Tuesday\, LARGE FOOD BOX\, SADDLEBACK BOX DISTRIBUTION
URL:https://gcrcla.org/event/fourth-tuesday-large-food-box-saddleback-box-distribution/
LOCATION:CA
CATEGORIES:Fourth Tuesday,LARGE FOOD BOX SADDLEBACK BOX DISTRIBUTION,The Quincy
ORGANIZER;CN="GCRCLA":MAILTO:info@gcrcla.org, ywanderson@gcrcla.org
END:VEVENT
BEGIN:VEVENT
DTSTART;TZID=UTC:20250721T100000
DTEND;TZID=UTC:20250721T150000
DTSTAMP:20260424T143106
CREATED:20250704T124219Z
LAST-MODIFIED:20250704T124306Z
UID:10000209-1753092000-1753110000@gcrcla.org
SUMMARY:Third Monday
DESCRIPTION:Third Monday\, Blood Pressure Screening\, Clothing Distribution\, Food Distribution
URL:https://gcrcla.org/event/third-monday-4/
LOCATION:The Wilcox\, 1040 N Kenmore Ave\, Los Angeles\, CA\, 90029\, United States
CATEGORIES:Blood Pressure Screening,Clothing Distribution,Food Distribution,The Wilcox,Third Mondays
ORGANIZER;CN="GCRCLA":MAILTO:info@gcrcla.org, ywanderson@gcrcla.org
END:VEVENT
BEGIN:VEVENT
DTSTART;TZID=UTC:20250721T100000
DTEND;TZID=UTC:20250721T140000
DTSTAMP:20260424T143106
CREATED:20250704T130139Z
LAST-MODIFIED:20250704T130247Z
UID:10000213-1753092000-1753106400@gcrcla.org
SUMMARY:Third Monday | LARGE FOOD BOX SADDLEBACK BOX DISTRIBUTION
DESCRIPTION:Third Monday\, LARGE FOOD BOX\, SADDLEBACK BOX DISTRIBUTION
URL:https://gcrcla.org/event/third-monday-6/
LOCATION:The Wilcox\, 1040 N Kenmore Ave\, Los Angeles\, CA\, 90029\, United States
CATEGORIES:LARGE FOOD BOX SADDLEBACK BOX DISTRIBUTION,The Wilcox,Third Mondays
ORGANIZER;CN="GCRCLA":MAILTO:info@gcrcla.org, ywanderson@gcrcla.org
END:VEVENT
BEGIN:VEVENT
DTSTART;TZID=UTC:20250721T100000
DTEND;TZID=UTC:20250721T130000
DTSTAMP:20260424T143106
CREATED:20250704T125612Z
LAST-MODIFIED:20250704T125709Z
UID:10000212-1753092000-1753102800@gcrcla.org
SUMMARY:Third Monday | RAFFLES FOR BLOOD PRESSURE\, BINGO PARTICIPATION
DESCRIPTION:Third Monday\, RAFFLES FOR BLOOD PRESSURE\, BINGO PARTICIPATION
URL:https://gcrcla.org/event/third-monday-raffles-for-blood-pressure-bingo-participation/
LOCATION:The Wilcox\, 1040 N Kenmore Ave\, Los Angeles\, CA\, 90029\, United States
CATEGORIES:BINGO PARTICIPATION,RAFFLES FOR BLOOD PRESSURE PARTICIPATION,The Wilcox,Third Mondays
ORGANIZER;CN="GCRCLA":MAILTO:info@gcrcla.org, ywanderson@gcrcla.org
END:VEVENT
BEGIN:VEVENT
DTSTART;TZID=UTC:20250719T100000
DTEND;TZID=UTC:20250719T120000
DTSTAMP:20260424T143106
CREATED:20250704T174404Z
LAST-MODIFIED:20250704T174404Z
UID:10000221-1752919200-1752926400@gcrcla.org
SUMMARY:Saturday Produce Giveaway
DESCRIPTION:Saturday Produce Giveaway
URL:https://gcrcla.org/event/saturday-produce-giveaway/
LOCATION:Lincoln UCC\, 4126 Arlington Ave\, Los Angeles\, CA\, 90008\, United States
CATEGORIES:Lincoln UCC,PRODUCE GIVE AWAY,Saturdays
ORGANIZER;CN="GCRCLA":MAILTO:info@gcrcla.org, ywanderson@gcrcla.org
END:VEVENT
BEGIN:VEVENT
DTSTART;TZID=UTC:20250714T100000
DTEND;TZID=UTC:20250714T150000
DTSTAMP:20260424T143106
CREATED:20250704T123812Z
LAST-MODIFIED:20250704T123845Z
UID:10000208-1752487200-1752505200@gcrcla.org
SUMMARY:Second Monday
DESCRIPTION:Second Monday\, Blood Pressure Screening\, Clothing Distribution\, Food Distribution
URL:https://gcrcla.org/event/second-monday/
LOCATION:The Wilcox\, 1040 N Kenmore Ave\, Los Angeles\, CA\, 90029\, United States
CATEGORIES:Blood Pressure Screening,Clothing Distribution,Food Distribution,The Wilcox
ORGANIZER;CN="GCRCLA":MAILTO:info@gcrcla.org, ywanderson@gcrcla.org
END:VEVENT
BEGIN:VEVENT
DTSTART;TZID=UTC:20250714T100000
DTEND;TZID=UTC:20250714T140000
DTSTAMP:20260424T143106
CREATED:20250704T130529Z
LAST-MODIFIED:20250704T130641Z
UID:10000214-1752487200-1752501600@gcrcla.org
SUMMARY:Third Mondays | LA REGIONAL FOOD BANK BOX DISTRIBUTION
DESCRIPTION:Third Mondays\, LA REGIONAL FOOD BANK BOX DISTRIBUTION
URL:https://gcrcla.org/event/third-mondays-7/
LOCATION:The Wilcox\, 1040 N Kenmore Ave\, Los Angeles\, CA\, 90029\, United States
CATEGORIES:LA REGIONAL FOOD BANK BOX DISTRIBUTION,The Wilcox,Third Saturday
ORGANIZER;CN="GCRCLA":MAILTO:info@gcrcla.org, ywanderson@gcrcla.org
END:VEVENT
BEGIN:VEVENT
DTSTART;TZID=UTC:20250711T100000
DTEND;TZID=UTC:20250711T150000
DTSTAMP:20260424T143106
CREATED:20250702T162935Z
LAST-MODIFIED:20250702T163055Z
UID:10000207-1752228000-1752246000@gcrcla.org
SUMMARY:Second Friday EXERCISE CLASS
DESCRIPTION:Second Friday\, EXERCISE CLASS
URL:https://gcrcla.org/event/second-friday-exercise-class-2/
LOCATION:The Chesterfield\, 4723 So. Normandie Ave.\, Los Angeles\, CA\, 90062\, United States
CATEGORIES:Chesterfield,EXERCISE CLASS,Second Friday
ORGANIZER;CN="GCRCLA":MAILTO:info@gcrcla.org, ywanderson@gcrcla.org
END:VEVENT
BEGIN:VEVENT
DTSTART;TZID=UTC:20250711T100000
DTEND;TZID=UTC:20250711T130000
DTSTAMP:20260424T143106
CREATED:20250702T161838Z
LAST-MODIFIED:20250704T142245Z
UID:10000205-1752228000-1752238800@gcrcla.org
SUMMARY:Second\, Third & Fourth Friday\, PRODUCE GIVE AWAY\, BLOOD PRESSURE SCREENS
DESCRIPTION:Second\, Third & Fourth Friday\, PRODUCE GIVE AWAY\, BLOOD PRESSURE SCREENS\, CLOTHING & HOUSEWARE DISTRIBUTION
URL:https://gcrcla.org/event/second-third-fourth-friday-produce-give-away-blood-pressure-screens/
LOCATION:The Chesterfield\, 4723 So. Normandie Ave.\, Los Angeles\, CA\, 90062\, United States
CATEGORIES:Chesterfield,Fourth Friday,PRODUCE GIVE AWAY,Second Friday,Third Friday
END:VEVENT
BEGIN:VEVENT
DTSTART;TZID=UTC:20250711T100000
DTEND;TZID=UTC:20250711T120000
DTSTAMP:20260424T143106
CREATED:20250704T125046Z
LAST-MODIFIED:20250704T141003Z
UID:10000211-1752228000-1752235200@gcrcla.org
SUMMARY:Friday's Produce GiveAway
DESCRIPTION:Friday’s Produce GiveAway
URL:https://gcrcla.org/event/fridays-produce-giveaway/
LOCATION:The Chesterfield\, 4723 So. Normandie Ave.\, Los Angeles\, CA\, 90062\, United States
CATEGORIES:Chesterfield,PRODUCE GIVE AWAY,Second Friday
ORGANIZER;CN="GCRCLA":MAILTO:info@gcrcla.org, ywanderson@gcrcla.org
END:VEVENT
BEGIN:VEVENT
DTSTART;TZID=UTC:20250710T100000
DTEND;TZID=UTC:20250710T140000
DTSTAMP:20260424T143106
CREATED:20250702T162623Z
LAST-MODIFIED:20250702T162623Z
UID:10000206-1752141600-1752156000@gcrcla.org
SUMMARY:Second Thursday\, BLOOD PRESSURE SCREENING\, Clothing Distribution
DESCRIPTION:Second Thursday\, BLOOD PRESSURE SCREENING\, Clothing Distribution
URL:https://gcrcla.org/event/second-thursday-blood-pressure-screening-clothing-distribution-2/
LOCATION:CA
CATEGORIES:Blood Pressure Screening,Clothing Distribution,Second Thursday
ORGANIZER;CN="GCRCLA":MAILTO:info@gcrcla.org, ywanderson@gcrcla.org
END:VEVENT
BEGIN:VEVENT
DTSTART;TZID=UTC:20250709T100000
DTEND;TZID=UTC:20250709T140000
DTSTAMP:20260424T143106
CREATED:20250702T160714Z
LAST-MODIFIED:20250702T161939Z
UID:10000203-1752055200-1752069600@gcrcla.org
SUMMARY:Second Wednesday | WAFFLE WEDNESDAY
DESCRIPTION:Second Wednesday | WAFFLE WEDNESDAY
URL:https://gcrcla.org/event/second-wednesday-waffle-wednesday-2/
LOCATION:The Chesterfield\, 4723 So. Normandie Ave.\, Los Angeles\, CA\, 90062\, United States
CATEGORIES:Chesterfield,Second Wednesday,WAFFLE WEDNESDAY
ORGANIZER;CN="GCRCLA":MAILTO:info@gcrcla.org, ywanderson@gcrcla.org
END:VEVENT
BEGIN:VEVENT
DTSTART;TZID=UTC:20250707T100000
DTEND;TZID=UTC:20250707T150000
DTSTAMP:20260424T143106
CREATED:20250702T154808Z
LAST-MODIFIED:20250702T162047Z
UID:10000200-1751882400-1751900400@gcrcla.org
SUMMARY:First Monday
DESCRIPTION:Blood Pressure Screening\, Clothing Distribution\, Food Distribution
URL:https://gcrcla.org/event/first-monday-2/
LOCATION:The Wilcox\, 1040 N Kenmore Ave\, Los Angeles\, CA\, 90029\, United States
CATEGORIES:First Mondays,The Wilcox
END:VEVENT
BEGIN:VEVENT
DTSTART;TZID=UTC:20250703T100000
DTEND;TZID=UTC:20250703T150000
DTSTAMP:20260424T143106
CREATED:20250702T161250Z
LAST-MODIFIED:20250702T161301Z
UID:10000204-1751536800-1751554800@gcrcla.org
SUMMARY:First Thursday\, PRODUCE\, MEAT\, BEVERAGE
DESCRIPTION:First Thursday\, PRODUCE\, MEAT\, BEVERAGE\, DRY GOOD\, BOX DISTRIBUTION
URL:https://gcrcla.org/event/first-thursday-produce-meat-beverage/
LOCATION:The Chesterfield\, 4723 So. Normandie Ave.\, Los Angeles\, CA\, 90062\, United States
CATEGORIES:Chesterfield,First Thursday,PRODUCE,PRODUCE GIVE AWAY
ORGANIZER;CN="GCRCLA":MAILTO:info@gcrcla.org, ywanderson@gcrcla.org
END:VEVENT
BEGIN:VEVENT
DTSTART;TZID=UTC:20250702T130000
DTEND;TZID=UTC:20250702T150000
DTSTAMP:20260424T143106
CREATED:20250702T160152Z
LAST-MODIFIED:20250702T160152Z
UID:10000202-1751461200-1751468400@gcrcla.org
SUMMARY:First Wednesday
DESCRIPTION:First Wednesday\, Depot – Crafts 1:00 to 3:00
URL:https://gcrcla.org/event/first-wednesday/
LOCATION:Westmont Apartments\, 4126 Arlington Ave\, Los Angeles\, CA\, United States
CATEGORIES:Depot – Crafts,First Wednesday,Westmont Apartments
ORGANIZER;CN="GCRCLA":MAILTO:info@gcrcla.org, ywanderson@gcrcla.org
END:VEVENT
BEGIN:VEVENT
DTSTART;TZID=UTC:20250702T100000
DTEND;TZID=UTC:20250702T150000
DTSTAMP:20260424T143106
CREATED:20250704T135458Z
LAST-MODIFIED:20250704T135653Z
UID:10000217-1751450400-1751468400@gcrcla.org
SUMMARY:Every Wednesday\, BLOOD PRESSURE SCREENS\,CLOTHING & HOUSEWARE DISTRIBUTION\, FOOD BANK LAX FOOD BAG DISTRIBUTION
DESCRIPTION:Every Wednesday\, BLOOD PRESSURE SCREENS\,CLOTHING & HOUSEWARE DISTRIBUTION\, FOOD BANK LAX FOOD BAG DISTRIBUTION
URL:https://gcrcla.org/event/every-wednesday-blood-pressure-screensclothing-houseware-distribution-food-bank-lax-food-bag-distribution/
LOCATION:Metro@Buckingham\, 4018 Buckingham Rd\, Los Angeles\, CA\, 90008\, United States
CATEGORIES:Blood Pressure Screening,BUCKINGHAM,Clothing Distribution,Every Wednesday,Houseware Distribution,LAX Food Bag Distribution
ORGANIZER;CN="GCRCLA":MAILTO:info@gcrcla.org, ywanderson@gcrcla.org
END:VEVENT
END:VCALENDAR