BEGIN:VCALENDAR
VERSION:2.0
PRODID:-//GCRCLA - ECPv6.15.20//NONSGML v1.0//EN
CALSCALE:GREGORIAN
METHOD:PUBLISH
X-WR-CALNAME:GCRCLA
X-ORIGINAL-URL:https://gcrcla.org
X-WR-CALDESC:Events for GCRCLA
REFRESH-INTERVAL;VALUE=DURATION:PT1H
X-Robots-Tag:noindex
X-PUBLISHED-TTL:PT1H
BEGIN:VTIMEZONE
TZID:UTC
BEGIN:STANDARD
TZOFFSETFROM:+0000
TZOFFSETTO:+0000
TZNAME:UTC
DTSTART:20250101T000000
END:STANDARD
END:VTIMEZONE
BEGIN:VEVENT
DTSTART;TZID=UTC:20261015T053000
DTEND;TZID=UTC:20261015T193000
DTSTAMP:20260423T211154
CREATED:20260409T185330Z
LAST-MODIFIED:20260409T190259Z
UID:10001868-1792042200-1792092600@gcrcla.org
SUMMARY:BE WELL NEWSLETTER Community Impact | April 2026
DESCRIPTION:BE WELL NEWSLETTER Community Impact | April 2026\,\nFinancial Literacy Workshops\nApril 9\, 16\, 23\, 30\, 2026\n5:30 – 7:30 PM\n4126 Arlington Avenue\, Los Angeles\, CA 90008\nFinancial Literacy Workshops\,\nFinancial Literacy for the Middle Class\,\nCommunity Share\,\nSee’s Candy Fundraiser\,\n 
URL:https://gcrcla.org/event/be-well-newsletter-community-impact-april-2026/2026-10-15/
LOCATION:Lincoln UCC\, 4126 Arlington Ave\, Los Angeles\, CA\, 90008\, United States
CATEGORIES:Community Impact,Event
ATTACH;FMTTYPE=image/jpeg:https://gcrcla.org/wp-content/uploads/2026/04/GCRCs-Newsletter-April-2026-jpg_Page_1.jpg
ORGANIZER;CN="GCRCLA":MAILTO:info@gcrcla.org, ywanderson@gcrcla.org
END:VEVENT
BEGIN:VEVENT
DTSTART;TZID=UTC:20261022T053000
DTEND;TZID=UTC:20261022T193000
DTSTAMP:20260423T211154
CREATED:20260409T185330Z
LAST-MODIFIED:20260409T190259Z
UID:10001869-1792647000-1792697400@gcrcla.org
SUMMARY:BE WELL NEWSLETTER Community Impact | April 2026
DESCRIPTION:BE WELL NEWSLETTER Community Impact | April 2026\,\nFinancial Literacy Workshops\nApril 9\, 16\, 23\, 30\, 2026\n5:30 – 7:30 PM\n4126 Arlington Avenue\, Los Angeles\, CA 90008\nFinancial Literacy Workshops\,\nFinancial Literacy for the Middle Class\,\nCommunity Share\,\nSee’s Candy Fundraiser\,\n 
URL:https://gcrcla.org/event/be-well-newsletter-community-impact-april-2026/2026-10-22/
LOCATION:Lincoln UCC\, 4126 Arlington Ave\, Los Angeles\, CA\, 90008\, United States
CATEGORIES:Community Impact,Event
ATTACH;FMTTYPE=image/jpeg:https://gcrcla.org/wp-content/uploads/2026/04/GCRCs-Newsletter-April-2026-jpg_Page_1.jpg
ORGANIZER;CN="GCRCLA":MAILTO:info@gcrcla.org, ywanderson@gcrcla.org
END:VEVENT
BEGIN:VEVENT
DTSTART;TZID=UTC:20261029T053000
DTEND;TZID=UTC:20261029T193000
DTSTAMP:20260423T211154
CREATED:20260409T185330Z
LAST-MODIFIED:20260409T190259Z
UID:10001870-1793251800-1793302200@gcrcla.org
SUMMARY:BE WELL NEWSLETTER Community Impact | April 2026
DESCRIPTION:BE WELL NEWSLETTER Community Impact | April 2026\,\nFinancial Literacy Workshops\nApril 9\, 16\, 23\, 30\, 2026\n5:30 – 7:30 PM\n4126 Arlington Avenue\, Los Angeles\, CA 90008\nFinancial Literacy Workshops\,\nFinancial Literacy for the Middle Class\,\nCommunity Share\,\nSee’s Candy Fundraiser\,\n 
URL:https://gcrcla.org/event/be-well-newsletter-community-impact-april-2026/2026-10-29/
LOCATION:Lincoln UCC\, 4126 Arlington Ave\, Los Angeles\, CA\, 90008\, United States
CATEGORIES:Community Impact,Event
ATTACH;FMTTYPE=image/jpeg:https://gcrcla.org/wp-content/uploads/2026/04/GCRCs-Newsletter-April-2026-jpg_Page_1.jpg
ORGANIZER;CN="GCRCLA":MAILTO:info@gcrcla.org, ywanderson@gcrcla.org
END:VEVENT
BEGIN:VEVENT
DTSTART;TZID=UTC:20261105T053000
DTEND;TZID=UTC:20261105T193000
DTSTAMP:20260423T211154
CREATED:20260409T185330Z
LAST-MODIFIED:20260409T190259Z
UID:10001871-1793856600-1793907000@gcrcla.org
SUMMARY:BE WELL NEWSLETTER Community Impact | April 2026
DESCRIPTION:BE WELL NEWSLETTER Community Impact | April 2026\,\nFinancial Literacy Workshops\nApril 9\, 16\, 23\, 30\, 2026\n5:30 – 7:30 PM\n4126 Arlington Avenue\, Los Angeles\, CA 90008\nFinancial Literacy Workshops\,\nFinancial Literacy for the Middle Class\,\nCommunity Share\,\nSee’s Candy Fundraiser\,\n 
URL:https://gcrcla.org/event/be-well-newsletter-community-impact-april-2026/2026-11-05/
LOCATION:Lincoln UCC\, 4126 Arlington Ave\, Los Angeles\, CA\, 90008\, United States
CATEGORIES:Community Impact,Event
ATTACH;FMTTYPE=image/jpeg:https://gcrcla.org/wp-content/uploads/2026/04/GCRCs-Newsletter-April-2026-jpg_Page_1.jpg
ORGANIZER;CN="GCRCLA":MAILTO:info@gcrcla.org, ywanderson@gcrcla.org
END:VEVENT
BEGIN:VEVENT
DTSTART;TZID=UTC:20261112T053000
DTEND;TZID=UTC:20261112T193000
DTSTAMP:20260423T211154
CREATED:20260409T185330Z
LAST-MODIFIED:20260409T190259Z
UID:10001872-1794461400-1794511800@gcrcla.org
SUMMARY:BE WELL NEWSLETTER Community Impact | April 2026
DESCRIPTION:BE WELL NEWSLETTER Community Impact | April 2026\,\nFinancial Literacy Workshops\nApril 9\, 16\, 23\, 30\, 2026\n5:30 – 7:30 PM\n4126 Arlington Avenue\, Los Angeles\, CA 90008\nFinancial Literacy Workshops\,\nFinancial Literacy for the Middle Class\,\nCommunity Share\,\nSee’s Candy Fundraiser\,\n 
URL:https://gcrcla.org/event/be-well-newsletter-community-impact-april-2026/2026-11-12/
LOCATION:Lincoln UCC\, 4126 Arlington Ave\, Los Angeles\, CA\, 90008\, United States
CATEGORIES:Community Impact,Event
ATTACH;FMTTYPE=image/jpeg:https://gcrcla.org/wp-content/uploads/2026/04/GCRCs-Newsletter-April-2026-jpg_Page_1.jpg
ORGANIZER;CN="GCRCLA":MAILTO:info@gcrcla.org, ywanderson@gcrcla.org
END:VEVENT
BEGIN:VEVENT
DTSTART;TZID=UTC:20261119T053000
DTEND;TZID=UTC:20261119T193000
DTSTAMP:20260423T211154
CREATED:20260409T185330Z
LAST-MODIFIED:20260409T190259Z
UID:10001873-1795066200-1795116600@gcrcla.org
SUMMARY:BE WELL NEWSLETTER Community Impact | April 2026
DESCRIPTION:BE WELL NEWSLETTER Community Impact | April 2026\,\nFinancial Literacy Workshops\nApril 9\, 16\, 23\, 30\, 2026\n5:30 – 7:30 PM\n4126 Arlington Avenue\, Los Angeles\, CA 90008\nFinancial Literacy Workshops\,\nFinancial Literacy for the Middle Class\,\nCommunity Share\,\nSee’s Candy Fundraiser\,\n 
URL:https://gcrcla.org/event/be-well-newsletter-community-impact-april-2026/2026-11-19/
LOCATION:Lincoln UCC\, 4126 Arlington Ave\, Los Angeles\, CA\, 90008\, United States
CATEGORIES:Community Impact,Event
ATTACH;FMTTYPE=image/jpeg:https://gcrcla.org/wp-content/uploads/2026/04/GCRCs-Newsletter-April-2026-jpg_Page_1.jpg
ORGANIZER;CN="GCRCLA":MAILTO:info@gcrcla.org, ywanderson@gcrcla.org
END:VEVENT
BEGIN:VEVENT
DTSTART;TZID=UTC:20261126T053000
DTEND;TZID=UTC:20261126T193000
DTSTAMP:20260423T211154
CREATED:20260409T185330Z
LAST-MODIFIED:20260409T190259Z
UID:10001874-1795671000-1795721400@gcrcla.org
SUMMARY:BE WELL NEWSLETTER Community Impact | April 2026
DESCRIPTION:BE WELL NEWSLETTER Community Impact | April 2026\,\nFinancial Literacy Workshops\nApril 9\, 16\, 23\, 30\, 2026\n5:30 – 7:30 PM\n4126 Arlington Avenue\, Los Angeles\, CA 90008\nFinancial Literacy Workshops\,\nFinancial Literacy for the Middle Class\,\nCommunity Share\,\nSee’s Candy Fundraiser\,\n 
URL:https://gcrcla.org/event/be-well-newsletter-community-impact-april-2026/2026-11-26/
LOCATION:Lincoln UCC\, 4126 Arlington Ave\, Los Angeles\, CA\, 90008\, United States
CATEGORIES:Community Impact,Event
ATTACH;FMTTYPE=image/jpeg:https://gcrcla.org/wp-content/uploads/2026/04/GCRCs-Newsletter-April-2026-jpg_Page_1.jpg
ORGANIZER;CN="GCRCLA":MAILTO:info@gcrcla.org, ywanderson@gcrcla.org
END:VEVENT
BEGIN:VEVENT
DTSTART;TZID=UTC:20261203T053000
DTEND;TZID=UTC:20261203T193000
DTSTAMP:20260423T211154
CREATED:20260409T185330Z
LAST-MODIFIED:20260409T190259Z
UID:10001875-1796275800-1796326200@gcrcla.org
SUMMARY:BE WELL NEWSLETTER Community Impact | April 2026
DESCRIPTION:BE WELL NEWSLETTER Community Impact | April 2026\,\nFinancial Literacy Workshops\nApril 9\, 16\, 23\, 30\, 2026\n5:30 – 7:30 PM\n4126 Arlington Avenue\, Los Angeles\, CA 90008\nFinancial Literacy Workshops\,\nFinancial Literacy for the Middle Class\,\nCommunity Share\,\nSee’s Candy Fundraiser\,\n 
URL:https://gcrcla.org/event/be-well-newsletter-community-impact-april-2026/2026-12-03/
LOCATION:Lincoln UCC\, 4126 Arlington Ave\, Los Angeles\, CA\, 90008\, United States
CATEGORIES:Community Impact,Event
ATTACH;FMTTYPE=image/jpeg:https://gcrcla.org/wp-content/uploads/2026/04/GCRCs-Newsletter-April-2026-jpg_Page_1.jpg
ORGANIZER;CN="GCRCLA":MAILTO:info@gcrcla.org, ywanderson@gcrcla.org
END:VEVENT
BEGIN:VEVENT
DTSTART;TZID=UTC:20261210T053000
DTEND;TZID=UTC:20261210T193000
DTSTAMP:20260423T211154
CREATED:20260409T185330Z
LAST-MODIFIED:20260409T190259Z
UID:10001876-1796880600-1796931000@gcrcla.org
SUMMARY:BE WELL NEWSLETTER Community Impact | April 2026
DESCRIPTION:BE WELL NEWSLETTER Community Impact | April 2026\,\nFinancial Literacy Workshops\nApril 9\, 16\, 23\, 30\, 2026\n5:30 – 7:30 PM\n4126 Arlington Avenue\, Los Angeles\, CA 90008\nFinancial Literacy Workshops\,\nFinancial Literacy for the Middle Class\,\nCommunity Share\,\nSee’s Candy Fundraiser\,\n 
URL:https://gcrcla.org/event/be-well-newsletter-community-impact-april-2026/2026-12-10/
LOCATION:Lincoln UCC\, 4126 Arlington Ave\, Los Angeles\, CA\, 90008\, United States
CATEGORIES:Community Impact,Event
ATTACH;FMTTYPE=image/jpeg:https://gcrcla.org/wp-content/uploads/2026/04/GCRCs-Newsletter-April-2026-jpg_Page_1.jpg
ORGANIZER;CN="GCRCLA":MAILTO:info@gcrcla.org, ywanderson@gcrcla.org
END:VEVENT
BEGIN:VEVENT
DTSTART;TZID=UTC:20261217T053000
DTEND;TZID=UTC:20261217T193000
DTSTAMP:20260423T211154
CREATED:20260409T185330Z
LAST-MODIFIED:20260409T190259Z
UID:10001877-1797485400-1797535800@gcrcla.org
SUMMARY:BE WELL NEWSLETTER Community Impact | April 2026
DESCRIPTION:BE WELL NEWSLETTER Community Impact | April 2026\,\nFinancial Literacy Workshops\nApril 9\, 16\, 23\, 30\, 2026\n5:30 – 7:30 PM\n4126 Arlington Avenue\, Los Angeles\, CA 90008\nFinancial Literacy Workshops\,\nFinancial Literacy for the Middle Class\,\nCommunity Share\,\nSee’s Candy Fundraiser\,\n 
URL:https://gcrcla.org/event/be-well-newsletter-community-impact-april-2026/2026-12-17/
LOCATION:Lincoln UCC\, 4126 Arlington Ave\, Los Angeles\, CA\, 90008\, United States
CATEGORIES:Community Impact,Event
ATTACH;FMTTYPE=image/jpeg:https://gcrcla.org/wp-content/uploads/2026/04/GCRCs-Newsletter-April-2026-jpg_Page_1.jpg
ORGANIZER;CN="GCRCLA":MAILTO:info@gcrcla.org, ywanderson@gcrcla.org
END:VEVENT
BEGIN:VEVENT
DTSTART;TZID=UTC:20261224T053000
DTEND;TZID=UTC:20261224T193000
DTSTAMP:20260423T211154
CREATED:20260409T185330Z
LAST-MODIFIED:20260409T190259Z
UID:10001878-1798090200-1798140600@gcrcla.org
SUMMARY:BE WELL NEWSLETTER Community Impact | April 2026
DESCRIPTION:BE WELL NEWSLETTER Community Impact | April 2026\,\nFinancial Literacy Workshops\nApril 9\, 16\, 23\, 30\, 2026\n5:30 – 7:30 PM\n4126 Arlington Avenue\, Los Angeles\, CA 90008\nFinancial Literacy Workshops\,\nFinancial Literacy for the Middle Class\,\nCommunity Share\,\nSee’s Candy Fundraiser\,\n 
URL:https://gcrcla.org/event/be-well-newsletter-community-impact-april-2026/2026-12-24/
LOCATION:Lincoln UCC\, 4126 Arlington Ave\, Los Angeles\, CA\, 90008\, United States
CATEGORIES:Community Impact,Event
ATTACH;FMTTYPE=image/jpeg:https://gcrcla.org/wp-content/uploads/2026/04/GCRCs-Newsletter-April-2026-jpg_Page_1.jpg
ORGANIZER;CN="GCRCLA":MAILTO:info@gcrcla.org, ywanderson@gcrcla.org
END:VEVENT
BEGIN:VEVENT
DTSTART;TZID=UTC:20261231T053000
DTEND;TZID=UTC:20261231T193000
DTSTAMP:20260423T211154
CREATED:20260409T185330Z
LAST-MODIFIED:20260409T190259Z
UID:10001879-1798695000-1798745400@gcrcla.org
SUMMARY:BE WELL NEWSLETTER Community Impact | April 2026
DESCRIPTION:BE WELL NEWSLETTER Community Impact | April 2026\,\nFinancial Literacy Workshops\nApril 9\, 16\, 23\, 30\, 2026\n5:30 – 7:30 PM\n4126 Arlington Avenue\, Los Angeles\, CA 90008\nFinancial Literacy Workshops\,\nFinancial Literacy for the Middle Class\,\nCommunity Share\,\nSee’s Candy Fundraiser\,\n 
URL:https://gcrcla.org/event/be-well-newsletter-community-impact-april-2026/2026-12-31/
LOCATION:Lincoln UCC\, 4126 Arlington Ave\, Los Angeles\, CA\, 90008\, United States
CATEGORIES:Community Impact,Event
ATTACH;FMTTYPE=image/jpeg:https://gcrcla.org/wp-content/uploads/2026/04/GCRCs-Newsletter-April-2026-jpg_Page_1.jpg
ORGANIZER;CN="GCRCLA":MAILTO:info@gcrcla.org, ywanderson@gcrcla.org
END:VEVENT
BEGIN:VEVENT
DTSTART;TZID=UTC:20270107T053000
DTEND;TZID=UTC:20270107T193000
DTSTAMP:20260423T211154
CREATED:20260409T185330Z
LAST-MODIFIED:20260409T190259Z
UID:10001880-1799299800-1799350200@gcrcla.org
SUMMARY:BE WELL NEWSLETTER Community Impact | April 2026
DESCRIPTION:BE WELL NEWSLETTER Community Impact | April 2026\,\nFinancial Literacy Workshops\nApril 9\, 16\, 23\, 30\, 2026\n5:30 – 7:30 PM\n4126 Arlington Avenue\, Los Angeles\, CA 90008\nFinancial Literacy Workshops\,\nFinancial Literacy for the Middle Class\,\nCommunity Share\,\nSee’s Candy Fundraiser\,\n 
URL:https://gcrcla.org/event/be-well-newsletter-community-impact-april-2026/2027-01-07/
LOCATION:Lincoln UCC\, 4126 Arlington Ave\, Los Angeles\, CA\, 90008\, United States
CATEGORIES:Community Impact,Event
ATTACH;FMTTYPE=image/jpeg:https://gcrcla.org/wp-content/uploads/2026/04/GCRCs-Newsletter-April-2026-jpg_Page_1.jpg
ORGANIZER;CN="GCRCLA":MAILTO:info@gcrcla.org, ywanderson@gcrcla.org
END:VEVENT
BEGIN:VEVENT
DTSTART;TZID=UTC:20270114T053000
DTEND;TZID=UTC:20270114T193000
DTSTAMP:20260423T211154
CREATED:20260409T185330Z
LAST-MODIFIED:20260409T190259Z
UID:10001881-1799904600-1799955000@gcrcla.org
SUMMARY:BE WELL NEWSLETTER Community Impact | April 2026
DESCRIPTION:BE WELL NEWSLETTER Community Impact | April 2026\,\nFinancial Literacy Workshops\nApril 9\, 16\, 23\, 30\, 2026\n5:30 – 7:30 PM\n4126 Arlington Avenue\, Los Angeles\, CA 90008\nFinancial Literacy Workshops\,\nFinancial Literacy for the Middle Class\,\nCommunity Share\,\nSee’s Candy Fundraiser\,\n 
URL:https://gcrcla.org/event/be-well-newsletter-community-impact-april-2026/2027-01-14/
LOCATION:Lincoln UCC\, 4126 Arlington Ave\, Los Angeles\, CA\, 90008\, United States
CATEGORIES:Community Impact,Event
ATTACH;FMTTYPE=image/jpeg:https://gcrcla.org/wp-content/uploads/2026/04/GCRCs-Newsletter-April-2026-jpg_Page_1.jpg
ORGANIZER;CN="GCRCLA":MAILTO:info@gcrcla.org, ywanderson@gcrcla.org
END:VEVENT
BEGIN:VEVENT
DTSTART;TZID=UTC:20270121T053000
DTEND;TZID=UTC:20270121T193000
DTSTAMP:20260423T211154
CREATED:20260409T185330Z
LAST-MODIFIED:20260409T190259Z
UID:10001882-1800509400-1800559800@gcrcla.org
SUMMARY:BE WELL NEWSLETTER Community Impact | April 2026
DESCRIPTION:BE WELL NEWSLETTER Community Impact | April 2026\,\nFinancial Literacy Workshops\nApril 9\, 16\, 23\, 30\, 2026\n5:30 – 7:30 PM\n4126 Arlington Avenue\, Los Angeles\, CA 90008\nFinancial Literacy Workshops\,\nFinancial Literacy for the Middle Class\,\nCommunity Share\,\nSee’s Candy Fundraiser\,\n 
URL:https://gcrcla.org/event/be-well-newsletter-community-impact-april-2026/2027-01-21/
LOCATION:Lincoln UCC\, 4126 Arlington Ave\, Los Angeles\, CA\, 90008\, United States
CATEGORIES:Community Impact,Event
ATTACH;FMTTYPE=image/jpeg:https://gcrcla.org/wp-content/uploads/2026/04/GCRCs-Newsletter-April-2026-jpg_Page_1.jpg
ORGANIZER;CN="GCRCLA":MAILTO:info@gcrcla.org, ywanderson@gcrcla.org
END:VEVENT
BEGIN:VEVENT
DTSTART;TZID=UTC:20270128T053000
DTEND;TZID=UTC:20270128T193000
DTSTAMP:20260423T211154
CREATED:20260409T185330Z
LAST-MODIFIED:20260409T190259Z
UID:10001883-1801114200-1801164600@gcrcla.org
SUMMARY:BE WELL NEWSLETTER Community Impact | April 2026
DESCRIPTION:BE WELL NEWSLETTER Community Impact | April 2026\,\nFinancial Literacy Workshops\nApril 9\, 16\, 23\, 30\, 2026\n5:30 – 7:30 PM\n4126 Arlington Avenue\, Los Angeles\, CA 90008\nFinancial Literacy Workshops\,\nFinancial Literacy for the Middle Class\,\nCommunity Share\,\nSee’s Candy Fundraiser\,\n 
URL:https://gcrcla.org/event/be-well-newsletter-community-impact-april-2026/2027-01-28/
LOCATION:Lincoln UCC\, 4126 Arlington Ave\, Los Angeles\, CA\, 90008\, United States
CATEGORIES:Community Impact,Event
ATTACH;FMTTYPE=image/jpeg:https://gcrcla.org/wp-content/uploads/2026/04/GCRCs-Newsletter-April-2026-jpg_Page_1.jpg
ORGANIZER;CN="GCRCLA":MAILTO:info@gcrcla.org, ywanderson@gcrcla.org
END:VEVENT
BEGIN:VEVENT
DTSTART;TZID=UTC:20270204T053000
DTEND;TZID=UTC:20270204T193000
DTSTAMP:20260423T211154
CREATED:20260409T185330Z
LAST-MODIFIED:20260409T190259Z
UID:10001884-1801719000-1801769400@gcrcla.org
SUMMARY:BE WELL NEWSLETTER Community Impact | April 2026
DESCRIPTION:BE WELL NEWSLETTER Community Impact | April 2026\,\nFinancial Literacy Workshops\nApril 9\, 16\, 23\, 30\, 2026\n5:30 – 7:30 PM\n4126 Arlington Avenue\, Los Angeles\, CA 90008\nFinancial Literacy Workshops\,\nFinancial Literacy for the Middle Class\,\nCommunity Share\,\nSee’s Candy Fundraiser\,\n 
URL:https://gcrcla.org/event/be-well-newsletter-community-impact-april-2026/2027-02-04/
LOCATION:Lincoln UCC\, 4126 Arlington Ave\, Los Angeles\, CA\, 90008\, United States
CATEGORIES:Community Impact,Event
ATTACH;FMTTYPE=image/jpeg:https://gcrcla.org/wp-content/uploads/2026/04/GCRCs-Newsletter-April-2026-jpg_Page_1.jpg
ORGANIZER;CN="GCRCLA":MAILTO:info@gcrcla.org, ywanderson@gcrcla.org
END:VEVENT
BEGIN:VEVENT
DTSTART;TZID=UTC:20270211T053000
DTEND;TZID=UTC:20270211T193000
DTSTAMP:20260423T211154
CREATED:20260409T185330Z
LAST-MODIFIED:20260409T190259Z
UID:10001885-1802323800-1802374200@gcrcla.org
SUMMARY:BE WELL NEWSLETTER Community Impact | April 2026
DESCRIPTION:BE WELL NEWSLETTER Community Impact | April 2026\,\nFinancial Literacy Workshops\nApril 9\, 16\, 23\, 30\, 2026\n5:30 – 7:30 PM\n4126 Arlington Avenue\, Los Angeles\, CA 90008\nFinancial Literacy Workshops\,\nFinancial Literacy for the Middle Class\,\nCommunity Share\,\nSee’s Candy Fundraiser\,\n 
URL:https://gcrcla.org/event/be-well-newsletter-community-impact-april-2026/2027-02-11/
LOCATION:Lincoln UCC\, 4126 Arlington Ave\, Los Angeles\, CA\, 90008\, United States
CATEGORIES:Community Impact,Event
ATTACH;FMTTYPE=image/jpeg:https://gcrcla.org/wp-content/uploads/2026/04/GCRCs-Newsletter-April-2026-jpg_Page_1.jpg
ORGANIZER;CN="GCRCLA":MAILTO:info@gcrcla.org, ywanderson@gcrcla.org
END:VEVENT
BEGIN:VEVENT
DTSTART;TZID=UTC:20270218T053000
DTEND;TZID=UTC:20270218T193000
DTSTAMP:20260423T211154
CREATED:20260409T185330Z
LAST-MODIFIED:20260409T190259Z
UID:10001886-1802928600-1802979000@gcrcla.org
SUMMARY:BE WELL NEWSLETTER Community Impact | April 2026
DESCRIPTION:BE WELL NEWSLETTER Community Impact | April 2026\,\nFinancial Literacy Workshops\nApril 9\, 16\, 23\, 30\, 2026\n5:30 – 7:30 PM\n4126 Arlington Avenue\, Los Angeles\, CA 90008\nFinancial Literacy Workshops\,\nFinancial Literacy for the Middle Class\,\nCommunity Share\,\nSee’s Candy Fundraiser\,\n 
URL:https://gcrcla.org/event/be-well-newsletter-community-impact-april-2026/2027-02-18/
LOCATION:Lincoln UCC\, 4126 Arlington Ave\, Los Angeles\, CA\, 90008\, United States
CATEGORIES:Community Impact,Event
ATTACH;FMTTYPE=image/jpeg:https://gcrcla.org/wp-content/uploads/2026/04/GCRCs-Newsletter-April-2026-jpg_Page_1.jpg
ORGANIZER;CN="GCRCLA":MAILTO:info@gcrcla.org, ywanderson@gcrcla.org
END:VEVENT
BEGIN:VEVENT
DTSTART;TZID=UTC:20270225T053000
DTEND;TZID=UTC:20270225T193000
DTSTAMP:20260423T211154
CREATED:20260409T185330Z
LAST-MODIFIED:20260409T190259Z
UID:10001887-1803533400-1803583800@gcrcla.org
SUMMARY:BE WELL NEWSLETTER Community Impact | April 2026
DESCRIPTION:BE WELL NEWSLETTER Community Impact | April 2026\,\nFinancial Literacy Workshops\nApril 9\, 16\, 23\, 30\, 2026\n5:30 – 7:30 PM\n4126 Arlington Avenue\, Los Angeles\, CA 90008\nFinancial Literacy Workshops\,\nFinancial Literacy for the Middle Class\,\nCommunity Share\,\nSee’s Candy Fundraiser\,\n 
URL:https://gcrcla.org/event/be-well-newsletter-community-impact-april-2026/2027-02-25/
LOCATION:Lincoln UCC\, 4126 Arlington Ave\, Los Angeles\, CA\, 90008\, United States
CATEGORIES:Community Impact,Event
ATTACH;FMTTYPE=image/jpeg:https://gcrcla.org/wp-content/uploads/2026/04/GCRCs-Newsletter-April-2026-jpg_Page_1.jpg
ORGANIZER;CN="GCRCLA":MAILTO:info@gcrcla.org, ywanderson@gcrcla.org
END:VEVENT
BEGIN:VEVENT
DTSTART;TZID=UTC:20270304T053000
DTEND;TZID=UTC:20270304T193000
DTSTAMP:20260423T211154
CREATED:20260409T185330Z
LAST-MODIFIED:20260409T190259Z
UID:10001888-1804138200-1804188600@gcrcla.org
SUMMARY:BE WELL NEWSLETTER Community Impact | April 2026
DESCRIPTION:BE WELL NEWSLETTER Community Impact | April 2026\,\nFinancial Literacy Workshops\nApril 9\, 16\, 23\, 30\, 2026\n5:30 – 7:30 PM\n4126 Arlington Avenue\, Los Angeles\, CA 90008\nFinancial Literacy Workshops\,\nFinancial Literacy for the Middle Class\,\nCommunity Share\,\nSee’s Candy Fundraiser\,\n 
URL:https://gcrcla.org/event/be-well-newsletter-community-impact-april-2026/2027-03-04/
LOCATION:Lincoln UCC\, 4126 Arlington Ave\, Los Angeles\, CA\, 90008\, United States
CATEGORIES:Community Impact,Event
ATTACH;FMTTYPE=image/jpeg:https://gcrcla.org/wp-content/uploads/2026/04/GCRCs-Newsletter-April-2026-jpg_Page_1.jpg
ORGANIZER;CN="GCRCLA":MAILTO:info@gcrcla.org, ywanderson@gcrcla.org
END:VEVENT
BEGIN:VEVENT
DTSTART;TZID=UTC:20270311T053000
DTEND;TZID=UTC:20270311T193000
DTSTAMP:20260423T211154
CREATED:20260409T185330Z
LAST-MODIFIED:20260409T190259Z
UID:10001889-1804743000-1804793400@gcrcla.org
SUMMARY:BE WELL NEWSLETTER Community Impact | April 2026
DESCRIPTION:BE WELL NEWSLETTER Community Impact | April 2026\,\nFinancial Literacy Workshops\nApril 9\, 16\, 23\, 30\, 2026\n5:30 – 7:30 PM\n4126 Arlington Avenue\, Los Angeles\, CA 90008\nFinancial Literacy Workshops\,\nFinancial Literacy for the Middle Class\,\nCommunity Share\,\nSee’s Candy Fundraiser\,\n 
URL:https://gcrcla.org/event/be-well-newsletter-community-impact-april-2026/2027-03-11/
LOCATION:Lincoln UCC\, 4126 Arlington Ave\, Los Angeles\, CA\, 90008\, United States
CATEGORIES:Community Impact,Event
ATTACH;FMTTYPE=image/jpeg:https://gcrcla.org/wp-content/uploads/2026/04/GCRCs-Newsletter-April-2026-jpg_Page_1.jpg
ORGANIZER;CN="GCRCLA":MAILTO:info@gcrcla.org, ywanderson@gcrcla.org
END:VEVENT
BEGIN:VEVENT
DTSTART;TZID=UTC:20270318T053000
DTEND;TZID=UTC:20270318T193000
DTSTAMP:20260423T211154
CREATED:20260409T185330Z
LAST-MODIFIED:20260409T190259Z
UID:10001890-1805347800-1805398200@gcrcla.org
SUMMARY:BE WELL NEWSLETTER Community Impact | April 2026
DESCRIPTION:BE WELL NEWSLETTER Community Impact | April 2026\,\nFinancial Literacy Workshops\nApril 9\, 16\, 23\, 30\, 2026\n5:30 – 7:30 PM\n4126 Arlington Avenue\, Los Angeles\, CA 90008\nFinancial Literacy Workshops\,\nFinancial Literacy for the Middle Class\,\nCommunity Share\,\nSee’s Candy Fundraiser\,\n 
URL:https://gcrcla.org/event/be-well-newsletter-community-impact-april-2026/2027-03-18/
LOCATION:Lincoln UCC\, 4126 Arlington Ave\, Los Angeles\, CA\, 90008\, United States
CATEGORIES:Community Impact,Event
ATTACH;FMTTYPE=image/jpeg:https://gcrcla.org/wp-content/uploads/2026/04/GCRCs-Newsletter-April-2026-jpg_Page_1.jpg
ORGANIZER;CN="GCRCLA":MAILTO:info@gcrcla.org, ywanderson@gcrcla.org
END:VEVENT
BEGIN:VEVENT
DTSTART;TZID=UTC:20270325T053000
DTEND;TZID=UTC:20270325T193000
DTSTAMP:20260423T211154
CREATED:20260409T185330Z
LAST-MODIFIED:20260409T190259Z
UID:10001891-1805952600-1806003000@gcrcla.org
SUMMARY:BE WELL NEWSLETTER Community Impact | April 2026
DESCRIPTION:BE WELL NEWSLETTER Community Impact | April 2026\,\nFinancial Literacy Workshops\nApril 9\, 16\, 23\, 30\, 2026\n5:30 – 7:30 PM\n4126 Arlington Avenue\, Los Angeles\, CA 90008\nFinancial Literacy Workshops\,\nFinancial Literacy for the Middle Class\,\nCommunity Share\,\nSee’s Candy Fundraiser\,\n 
URL:https://gcrcla.org/event/be-well-newsletter-community-impact-april-2026/2027-03-25/
LOCATION:Lincoln UCC\, 4126 Arlington Ave\, Los Angeles\, CA\, 90008\, United States
CATEGORIES:Community Impact,Event
ATTACH;FMTTYPE=image/jpeg:https://gcrcla.org/wp-content/uploads/2026/04/GCRCs-Newsletter-April-2026-jpg_Page_1.jpg
ORGANIZER;CN="GCRCLA":MAILTO:info@gcrcla.org, ywanderson@gcrcla.org
END:VEVENT
BEGIN:VEVENT
DTSTART;TZID=UTC:20270401T053000
DTEND;TZID=UTC:20270401T193000
DTSTAMP:20260423T211154
CREATED:20260409T185330Z
LAST-MODIFIED:20260409T190259Z
UID:10001892-1806557400-1806607800@gcrcla.org
SUMMARY:BE WELL NEWSLETTER Community Impact | April 2026
DESCRIPTION:BE WELL NEWSLETTER Community Impact | April 2026\,\nFinancial Literacy Workshops\nApril 9\, 16\, 23\, 30\, 2026\n5:30 – 7:30 PM\n4126 Arlington Avenue\, Los Angeles\, CA 90008\nFinancial Literacy Workshops\,\nFinancial Literacy for the Middle Class\,\nCommunity Share\,\nSee’s Candy Fundraiser\,\n 
URL:https://gcrcla.org/event/be-well-newsletter-community-impact-april-2026/2027-04-01/
LOCATION:Lincoln UCC\, 4126 Arlington Ave\, Los Angeles\, CA\, 90008\, United States
CATEGORIES:Community Impact,Event
ATTACH;FMTTYPE=image/jpeg:https://gcrcla.org/wp-content/uploads/2026/04/GCRCs-Newsletter-April-2026-jpg_Page_1.jpg
ORGANIZER;CN="GCRCLA":MAILTO:info@gcrcla.org, ywanderson@gcrcla.org
END:VEVENT
BEGIN:VEVENT
DTSTART;TZID=UTC:20270408T053000
DTEND;TZID=UTC:20270408T193000
DTSTAMP:20260423T211154
CREATED:20260409T185330Z
LAST-MODIFIED:20260409T190259Z
UID:10001893-1807162200-1807212600@gcrcla.org
SUMMARY:BE WELL NEWSLETTER Community Impact | April 2026
DESCRIPTION:BE WELL NEWSLETTER Community Impact | April 2026\,\nFinancial Literacy Workshops\nApril 9\, 16\, 23\, 30\, 2026\n5:30 – 7:30 PM\n4126 Arlington Avenue\, Los Angeles\, CA 90008\nFinancial Literacy Workshops\,\nFinancial Literacy for the Middle Class\,\nCommunity Share\,\nSee’s Candy Fundraiser\,\n 
URL:https://gcrcla.org/event/be-well-newsletter-community-impact-april-2026/2027-04-08/
LOCATION:Lincoln UCC\, 4126 Arlington Ave\, Los Angeles\, CA\, 90008\, United States
CATEGORIES:Community Impact,Event
ATTACH;FMTTYPE=image/jpeg:https://gcrcla.org/wp-content/uploads/2026/04/GCRCs-Newsletter-April-2026-jpg_Page_1.jpg
ORGANIZER;CN="GCRCLA":MAILTO:info@gcrcla.org, ywanderson@gcrcla.org
END:VEVENT
BEGIN:VEVENT
DTSTART;TZID=UTC:20270415T053000
DTEND;TZID=UTC:20270415T193000
DTSTAMP:20260423T211154
CREATED:20260409T185330Z
LAST-MODIFIED:20260409T190259Z
UID:10001894-1807767000-1807817400@gcrcla.org
SUMMARY:BE WELL NEWSLETTER Community Impact | April 2026
DESCRIPTION:BE WELL NEWSLETTER Community Impact | April 2026\,\nFinancial Literacy Workshops\nApril 9\, 16\, 23\, 30\, 2026\n5:30 – 7:30 PM\n4126 Arlington Avenue\, Los Angeles\, CA 90008\nFinancial Literacy Workshops\,\nFinancial Literacy for the Middle Class\,\nCommunity Share\,\nSee’s Candy Fundraiser\,\n 
URL:https://gcrcla.org/event/be-well-newsletter-community-impact-april-2026/2027-04-15/
LOCATION:Lincoln UCC\, 4126 Arlington Ave\, Los Angeles\, CA\, 90008\, United States
CATEGORIES:Community Impact,Event
ATTACH;FMTTYPE=image/jpeg:https://gcrcla.org/wp-content/uploads/2026/04/GCRCs-Newsletter-April-2026-jpg_Page_1.jpg
ORGANIZER;CN="GCRCLA":MAILTO:info@gcrcla.org, ywanderson@gcrcla.org
END:VEVENT
BEGIN:VEVENT
DTSTART;TZID=UTC:20270422T053000
DTEND;TZID=UTC:20270422T193000
DTSTAMP:20260423T211154
CREATED:20260409T185330Z
LAST-MODIFIED:20260409T190259Z
UID:10001895-1808371800-1808422200@gcrcla.org
SUMMARY:BE WELL NEWSLETTER Community Impact | April 2026
DESCRIPTION:BE WELL NEWSLETTER Community Impact | April 2026\,\nFinancial Literacy Workshops\nApril 9\, 16\, 23\, 30\, 2026\n5:30 – 7:30 PM\n4126 Arlington Avenue\, Los Angeles\, CA 90008\nFinancial Literacy Workshops\,\nFinancial Literacy for the Middle Class\,\nCommunity Share\,\nSee’s Candy Fundraiser\,\n 
URL:https://gcrcla.org/event/be-well-newsletter-community-impact-april-2026/2027-04-22/
LOCATION:Lincoln UCC\, 4126 Arlington Ave\, Los Angeles\, CA\, 90008\, United States
CATEGORIES:Community Impact,Event
ATTACH;FMTTYPE=image/jpeg:https://gcrcla.org/wp-content/uploads/2026/04/GCRCs-Newsletter-April-2026-jpg_Page_1.jpg
ORGANIZER;CN="GCRCLA":MAILTO:info@gcrcla.org, ywanderson@gcrcla.org
END:VEVENT
BEGIN:VEVENT
DTSTART;TZID=UTC:20270429T053000
DTEND;TZID=UTC:20270429T193000
DTSTAMP:20260423T211154
CREATED:20260409T185330Z
LAST-MODIFIED:20260409T190259Z
UID:10001896-1808976600-1809027000@gcrcla.org
SUMMARY:BE WELL NEWSLETTER Community Impact | April 2026
DESCRIPTION:BE WELL NEWSLETTER Community Impact | April 2026\,\nFinancial Literacy Workshops\nApril 9\, 16\, 23\, 30\, 2026\n5:30 – 7:30 PM\n4126 Arlington Avenue\, Los Angeles\, CA 90008\nFinancial Literacy Workshops\,\nFinancial Literacy for the Middle Class\,\nCommunity Share\,\nSee’s Candy Fundraiser\,\n 
URL:https://gcrcla.org/event/be-well-newsletter-community-impact-april-2026/2027-04-29/
LOCATION:Lincoln UCC\, 4126 Arlington Ave\, Los Angeles\, CA\, 90008\, United States
CATEGORIES:Community Impact,Event
ATTACH;FMTTYPE=image/jpeg:https://gcrcla.org/wp-content/uploads/2026/04/GCRCs-Newsletter-April-2026-jpg_Page_1.jpg
ORGANIZER;CN="GCRCLA":MAILTO:info@gcrcla.org, ywanderson@gcrcla.org
END:VEVENT
END:VCALENDAR