BEGIN:VCALENDAR
VERSION:2.0
PRODID:-//GCRCLA - ECPv6.15.20//NONSGML v1.0//EN
CALSCALE:GREGORIAN
METHOD:PUBLISH
X-WR-CALNAME:GCRCLA
X-ORIGINAL-URL:https://gcrcla.org
X-WR-CALDESC:Events for GCRCLA
REFRESH-INTERVAL;VALUE=DURATION:PT1H
X-Robots-Tag:noindex
X-PUBLISHED-TTL:PT1H
BEGIN:VTIMEZONE
TZID:UTC
BEGIN:STANDARD
TZOFFSETFROM:+0000
TZOFFSETTO:+0000
TZNAME:UTC
DTSTART:20240101T000000
END:STANDARD
END:VTIMEZONE
BEGIN:VEVENT
DTSTART;TZID=UTC:20250819T100000
DTEND;TZID=UTC:20250819T130000
DTSTAMP:20260424T095307
CREATED:20250731T204505Z
LAST-MODIFIED:20250731T204932Z
UID:10000229-1755597600-1755608400@gcrcla.org
SUMMARY:Third Tuesday\, BINGO PARTICIPATION
DESCRIPTION:Third Tuesday\, BINGO PARTICIPATION
URL:https://gcrcla.org/event/third-tuesday-bingo-participation/
LOCATION:The Quincy\, 2652 West Pico Blvd\, Los Angeles\, CA\, 90006\, United States
CATEGORIES:BINGO PARTICIPATION,The Quincy,Third Tuesday
ORGANIZER;CN="GCRCLA":MAILTO:info@gcrcla.org, ywanderson@gcrcla.org
END:VEVENT
END:VCALENDAR