BEGIN:VCALENDAR
VERSION:2.0
PRODID:-//GCRCLA - ECPv6.15.20//NONSGML v1.0//EN
CALSCALE:GREGORIAN
METHOD:PUBLISH
X-WR-CALNAME:GCRCLA
X-ORIGINAL-URL:https://gcrcla.org
X-WR-CALDESC:Events for GCRCLA
REFRESH-INTERVAL;VALUE=DURATION:PT1H
X-Robots-Tag:noindex
X-PUBLISHED-TTL:PT1H
BEGIN:VTIMEZONE
TZID:UTC
BEGIN:STANDARD
TZOFFSETFROM:+0000
TZOFFSETTO:+0000
TZNAME:UTC
DTSTART:20240101T000000
END:STANDARD
END:VTIMEZONE
BEGIN:VEVENT
DTSTART;TZID=UTC:20250711T100000
DTEND;TZID=UTC:20250711T130000
DTSTAMP:20260424T101903
CREATED:20250702T161838Z
LAST-MODIFIED:20250704T142245Z
UID:10000205-1752228000-1752238800@gcrcla.org
SUMMARY:Second\, Third & Fourth Friday\, PRODUCE GIVE AWAY\, BLOOD PRESSURE SCREENS
DESCRIPTION:Second\, Third & Fourth Friday\, PRODUCE GIVE AWAY\, BLOOD PRESSURE SCREENS\, CLOTHING & HOUSEWARE DISTRIBUTION
URL:https://gcrcla.org/event/second-third-fourth-friday-produce-give-away-blood-pressure-screens/
LOCATION:The Chesterfield\, 4723 So. Normandie Ave.\, Los Angeles\, CA\, 90062\, United States
CATEGORIES:Chesterfield,Fourth Friday,PRODUCE GIVE AWAY,Second Friday,Third Friday
END:VEVENT
END:VCALENDAR