BEGIN:VCALENDAR
VERSION:2.0
PRODID:-//GCRCLA - ECPv6.15.20//NONSGML v1.0//EN
CALSCALE:GREGORIAN
METHOD:PUBLISH
X-WR-CALNAME:GCRCLA
X-ORIGINAL-URL:https://gcrcla.org
X-WR-CALDESC:Events for GCRCLA
REFRESH-INTERVAL;VALUE=DURATION:PT1H
X-Robots-Tag:noindex
X-PUBLISHED-TTL:PT1H
BEGIN:VTIMEZONE
TZID:UTC
BEGIN:STANDARD
TZOFFSETFROM:+0000
TZOFFSETTO:+0000
TZNAME:UTC
DTSTART:20240101T000000
END:STANDARD
END:VTIMEZONE
BEGIN:VEVENT
DTSTART;TZID=UTC:20250821T100000
DTEND;TZID=UTC:20250821T150000
DTSTAMP:20260424T133332
CREATED:20250801T124036Z
LAST-MODIFIED:20250801T124153Z
UID:10000239-1755770400-1755788400@gcrcla.org
SUMMARY:Third Thursday\, PRODUCE\, MEAT\, BEVERAGE\, DRY GOOD\, BOX DISTRIBUTION
DESCRIPTION:Third Thursday\, PRODUCE\, MEAT\, BEVERAGE\, DRY GOOD\, BOX DISTRIBUTION
URL:https://gcrcla.org/event/third-thursday-produce-meat-beverage-dry-good-box-distribution-3/
LOCATION:The Chesterfield\, 4723 So. Normandie Ave.\, Los Angeles\, CA\, 90062\, United States
CATEGORIES:BEVERAGE,Chesterfield,DRY GOOD BOX DISTRIBUTION,MEAT,PRODUCE,Third Thursday
ORGANIZER;CN="GCRCLA":MAILTO:info@gcrcla.org, ywanderson@gcrcla.org
END:VEVENT
END:VCALENDAR