BEGIN:VCALENDAR
VERSION:2.0
PRODID:-//GCRCLA - ECPv6.15.20//NONSGML v1.0//EN
CALSCALE:GREGORIAN
METHOD:PUBLISH
X-ORIGINAL-URL:https://gcrcla.org
X-WR-CALDESC:Events for GCRCLA
REFRESH-INTERVAL;VALUE=DURATION:PT1H
X-Robots-Tag:noindex
X-PUBLISHED-TTL:PT1H
BEGIN:VTIMEZONE
TZID:UTC
BEGIN:STANDARD
TZOFFSETFROM:+0000
TZOFFSETTO:+0000
TZNAME:UTC
DTSTART:20270101T000000
END:STANDARD
END:VTIMEZONE
BEGIN:VEVENT
DTSTART;TZID=UTC:20281107T080000
DTEND;TZID=UTC:20281107T170000
DTSTAMP:20260424T124235
CREATED:20250731T202023Z
LAST-MODIFIED:20250809T034013Z
UID:10000943-1857196800-1857229200@gcrcla.org
SUMMARY:Every Tuesday\, Clothing Distribution\, Food Distribution\, Blood Pressure Screens
DESCRIPTION:Every Tuesday\, Clothing Distribution\, Food Distribution\, Blood Pressure Screens\, The Quincy
URL:https://gcrcla.org/event/every-tuesday-clothing-distribution-food-distribution-blood-pressure-screens/2028-11-07/
LOCATION:The Quincy\, 2652 West Pico Blvd\, Los Angeles\, CA\, 90006\, United States
CATEGORIES:Blood Pressure Screening,Clothing Distribution,Every Tuesday,Food Distribution,The Quincy
ORGANIZER;CN="GCRCLA":MAILTO:info@gcrcla.org, ywanderson@gcrcla.org
END:VEVENT
BEGIN:VEVENT
DTSTART;TZID=UTC:20281114T080000
DTEND;TZID=UTC:20281114T170000
DTSTAMP:20260424T124235
CREATED:20250731T202023Z
LAST-MODIFIED:20250809T034013Z
UID:10000944-1857801600-1857834000@gcrcla.org
SUMMARY:Every Tuesday\, Clothing Distribution\, Food Distribution\, Blood Pressure Screens
DESCRIPTION:Every Tuesday\, Clothing Distribution\, Food Distribution\, Blood Pressure Screens\, The Quincy
URL:https://gcrcla.org/event/every-tuesday-clothing-distribution-food-distribution-blood-pressure-screens/2028-11-14/
LOCATION:The Quincy\, 2652 West Pico Blvd\, Los Angeles\, CA\, 90006\, United States
CATEGORIES:Blood Pressure Screening,Clothing Distribution,Every Tuesday,Food Distribution,The Quincy
ORGANIZER;CN="GCRCLA":MAILTO:info@gcrcla.org, ywanderson@gcrcla.org
END:VEVENT
BEGIN:VEVENT
DTSTART;TZID=UTC:20281121T080000
DTEND;TZID=UTC:20281121T170000
DTSTAMP:20260424T124235
CREATED:20250731T202023Z
LAST-MODIFIED:20250809T034013Z
UID:10000945-1858406400-1858438800@gcrcla.org
SUMMARY:Every Tuesday\, Clothing Distribution\, Food Distribution\, Blood Pressure Screens
DESCRIPTION:Every Tuesday\, Clothing Distribution\, Food Distribution\, Blood Pressure Screens\, The Quincy
URL:https://gcrcla.org/event/every-tuesday-clothing-distribution-food-distribution-blood-pressure-screens/2028-11-21/
LOCATION:The Quincy\, 2652 West Pico Blvd\, Los Angeles\, CA\, 90006\, United States
CATEGORIES:Blood Pressure Screening,Clothing Distribution,Every Tuesday,Food Distribution,The Quincy
ORGANIZER;CN="GCRCLA":MAILTO:info@gcrcla.org, ywanderson@gcrcla.org
END:VEVENT
BEGIN:VEVENT
DTSTART;TZID=UTC:20281128T080000
DTEND;TZID=UTC:20281128T170000
DTSTAMP:20260424T124235
CREATED:20250731T202023Z
LAST-MODIFIED:20250809T034013Z
UID:10000946-1859011200-1859043600@gcrcla.org
SUMMARY:Every Tuesday\, Clothing Distribution\, Food Distribution\, Blood Pressure Screens
DESCRIPTION:Every Tuesday\, Clothing Distribution\, Food Distribution\, Blood Pressure Screens\, The Quincy
URL:https://gcrcla.org/event/every-tuesday-clothing-distribution-food-distribution-blood-pressure-screens/2028-11-28/
LOCATION:The Quincy\, 2652 West Pico Blvd\, Los Angeles\, CA\, 90006\, United States
CATEGORIES:Blood Pressure Screening,Clothing Distribution,Every Tuesday,Food Distribution,The Quincy
ORGANIZER;CN="GCRCLA":MAILTO:info@gcrcla.org, ywanderson@gcrcla.org
END:VEVENT
BEGIN:VEVENT
DTSTART;TZID=UTC:20281205T080000
DTEND;TZID=UTC:20281205T170000
DTSTAMP:20260424T124235
CREATED:20250731T202023Z
LAST-MODIFIED:20250809T034013Z
UID:10000947-1859616000-1859648400@gcrcla.org
SUMMARY:Every Tuesday\, Clothing Distribution\, Food Distribution\, Blood Pressure Screens
DESCRIPTION:Every Tuesday\, Clothing Distribution\, Food Distribution\, Blood Pressure Screens\, The Quincy
URL:https://gcrcla.org/event/every-tuesday-clothing-distribution-food-distribution-blood-pressure-screens/2028-12-05/
LOCATION:The Quincy\, 2652 West Pico Blvd\, Los Angeles\, CA\, 90006\, United States
CATEGORIES:Blood Pressure Screening,Clothing Distribution,Every Tuesday,Food Distribution,The Quincy
ORGANIZER;CN="GCRCLA":MAILTO:info@gcrcla.org, ywanderson@gcrcla.org
END:VEVENT
BEGIN:VEVENT
DTSTART;TZID=UTC:20281212T080000
DTEND;TZID=UTC:20281212T170000
DTSTAMP:20260424T124235
CREATED:20250731T202023Z
LAST-MODIFIED:20250809T034013Z
UID:10000948-1860220800-1860253200@gcrcla.org
SUMMARY:Every Tuesday\, Clothing Distribution\, Food Distribution\, Blood Pressure Screens
DESCRIPTION:Every Tuesday\, Clothing Distribution\, Food Distribution\, Blood Pressure Screens\, The Quincy
URL:https://gcrcla.org/event/every-tuesday-clothing-distribution-food-distribution-blood-pressure-screens/2028-12-12/
LOCATION:The Quincy\, 2652 West Pico Blvd\, Los Angeles\, CA\, 90006\, United States
CATEGORIES:Blood Pressure Screening,Clothing Distribution,Every Tuesday,Food Distribution,The Quincy
ORGANIZER;CN="GCRCLA":MAILTO:info@gcrcla.org, ywanderson@gcrcla.org
END:VEVENT
BEGIN:VEVENT
DTSTART;TZID=UTC:20281219T080000
DTEND;TZID=UTC:20281219T170000
DTSTAMP:20260424T124235
CREATED:20250731T202023Z
LAST-MODIFIED:20250809T034013Z
UID:10000949-1860825600-1860858000@gcrcla.org
SUMMARY:Every Tuesday\, Clothing Distribution\, Food Distribution\, Blood Pressure Screens
DESCRIPTION:Every Tuesday\, Clothing Distribution\, Food Distribution\, Blood Pressure Screens\, The Quincy
URL:https://gcrcla.org/event/every-tuesday-clothing-distribution-food-distribution-blood-pressure-screens/2028-12-19/
LOCATION:The Quincy\, 2652 West Pico Blvd\, Los Angeles\, CA\, 90006\, United States
CATEGORIES:Blood Pressure Screening,Clothing Distribution,Every Tuesday,Food Distribution,The Quincy
ORGANIZER;CN="GCRCLA":MAILTO:info@gcrcla.org, ywanderson@gcrcla.org
END:VEVENT
BEGIN:VEVENT
DTSTART;TZID=UTC:20281226T080000
DTEND;TZID=UTC:20281226T170000
DTSTAMP:20260424T124235
CREATED:20250731T202023Z
LAST-MODIFIED:20250809T034013Z
UID:10000950-1861430400-1861462800@gcrcla.org
SUMMARY:Every Tuesday\, Clothing Distribution\, Food Distribution\, Blood Pressure Screens
DESCRIPTION:Every Tuesday\, Clothing Distribution\, Food Distribution\, Blood Pressure Screens\, The Quincy
URL:https://gcrcla.org/event/every-tuesday-clothing-distribution-food-distribution-blood-pressure-screens/2028-12-26/
LOCATION:The Quincy\, 2652 West Pico Blvd\, Los Angeles\, CA\, 90006\, United States
CATEGORIES:Blood Pressure Screening,Clothing Distribution,Every Tuesday,Food Distribution,The Quincy
ORGANIZER;CN="GCRCLA":MAILTO:info@gcrcla.org, ywanderson@gcrcla.org
END:VEVENT
BEGIN:VEVENT
DTSTART;TZID=UTC:20290102T080000
DTEND;TZID=UTC:20290102T170000
DTSTAMP:20260424T124235
CREATED:20250731T202023Z
LAST-MODIFIED:20250809T034013Z
UID:10000951-1862035200-1862067600@gcrcla.org
SUMMARY:Every Tuesday\, Clothing Distribution\, Food Distribution\, Blood Pressure Screens
DESCRIPTION:Every Tuesday\, Clothing Distribution\, Food Distribution\, Blood Pressure Screens\, The Quincy
URL:https://gcrcla.org/event/every-tuesday-clothing-distribution-food-distribution-blood-pressure-screens/2029-01-02/
LOCATION:The Quincy\, 2652 West Pico Blvd\, Los Angeles\, CA\, 90006\, United States
CATEGORIES:Blood Pressure Screening,Clothing Distribution,Every Tuesday,Food Distribution,The Quincy
ORGANIZER;CN="GCRCLA":MAILTO:info@gcrcla.org, ywanderson@gcrcla.org
END:VEVENT
BEGIN:VEVENT
DTSTART;TZID=UTC:20290109T080000
DTEND;TZID=UTC:20290109T170000
DTSTAMP:20260424T124235
CREATED:20250731T202023Z
LAST-MODIFIED:20250809T034013Z
UID:10000952-1862640000-1862672400@gcrcla.org
SUMMARY:Every Tuesday\, Clothing Distribution\, Food Distribution\, Blood Pressure Screens
DESCRIPTION:Every Tuesday\, Clothing Distribution\, Food Distribution\, Blood Pressure Screens\, The Quincy
URL:https://gcrcla.org/event/every-tuesday-clothing-distribution-food-distribution-blood-pressure-screens/2029-01-09/
LOCATION:The Quincy\, 2652 West Pico Blvd\, Los Angeles\, CA\, 90006\, United States
CATEGORIES:Blood Pressure Screening,Clothing Distribution,Every Tuesday,Food Distribution,The Quincy
ORGANIZER;CN="GCRCLA":MAILTO:info@gcrcla.org, ywanderson@gcrcla.org
END:VEVENT
BEGIN:VEVENT
DTSTART;TZID=UTC:20290116T080000
DTEND;TZID=UTC:20290116T170000
DTSTAMP:20260424T124235
CREATED:20250731T202023Z
LAST-MODIFIED:20250809T034013Z
UID:10000953-1863244800-1863277200@gcrcla.org
SUMMARY:Every Tuesday\, Clothing Distribution\, Food Distribution\, Blood Pressure Screens
DESCRIPTION:Every Tuesday\, Clothing Distribution\, Food Distribution\, Blood Pressure Screens\, The Quincy
URL:https://gcrcla.org/event/every-tuesday-clothing-distribution-food-distribution-blood-pressure-screens/2029-01-16/
LOCATION:The Quincy\, 2652 West Pico Blvd\, Los Angeles\, CA\, 90006\, United States
CATEGORIES:Blood Pressure Screening,Clothing Distribution,Every Tuesday,Food Distribution,The Quincy
ORGANIZER;CN="GCRCLA":MAILTO:info@gcrcla.org, ywanderson@gcrcla.org
END:VEVENT
BEGIN:VEVENT
DTSTART;TZID=UTC:20290123T080000
DTEND;TZID=UTC:20290123T170000
DTSTAMP:20260424T124235
CREATED:20250731T202023Z
LAST-MODIFIED:20250809T034013Z
UID:10000954-1863849600-1863882000@gcrcla.org
SUMMARY:Every Tuesday\, Clothing Distribution\, Food Distribution\, Blood Pressure Screens
DESCRIPTION:Every Tuesday\, Clothing Distribution\, Food Distribution\, Blood Pressure Screens\, The Quincy
URL:https://gcrcla.org/event/every-tuesday-clothing-distribution-food-distribution-blood-pressure-screens/2029-01-23/
LOCATION:The Quincy\, 2652 West Pico Blvd\, Los Angeles\, CA\, 90006\, United States
CATEGORIES:Blood Pressure Screening,Clothing Distribution,Every Tuesday,Food Distribution,The Quincy
ORGANIZER;CN="GCRCLA":MAILTO:info@gcrcla.org, ywanderson@gcrcla.org
END:VEVENT
BEGIN:VEVENT
DTSTART;TZID=UTC:20290130T080000
DTEND;TZID=UTC:20290130T170000
DTSTAMP:20260424T124235
CREATED:20250731T202023Z
LAST-MODIFIED:20250809T034013Z
UID:10000955-1864454400-1864486800@gcrcla.org
SUMMARY:Every Tuesday\, Clothing Distribution\, Food Distribution\, Blood Pressure Screens
DESCRIPTION:Every Tuesday\, Clothing Distribution\, Food Distribution\, Blood Pressure Screens\, The Quincy
URL:https://gcrcla.org/event/every-tuesday-clothing-distribution-food-distribution-blood-pressure-screens/2029-01-30/
LOCATION:The Quincy\, 2652 West Pico Blvd\, Los Angeles\, CA\, 90006\, United States
CATEGORIES:Blood Pressure Screening,Clothing Distribution,Every Tuesday,Food Distribution,The Quincy
ORGANIZER;CN="GCRCLA":MAILTO:info@gcrcla.org, ywanderson@gcrcla.org
END:VEVENT
BEGIN:VEVENT
DTSTART;TZID=UTC:20290206T080000
DTEND;TZID=UTC:20290206T170000
DTSTAMP:20260424T124235
CREATED:20250731T202023Z
LAST-MODIFIED:20250809T034013Z
UID:10000956-1865059200-1865091600@gcrcla.org
SUMMARY:Every Tuesday\, Clothing Distribution\, Food Distribution\, Blood Pressure Screens
DESCRIPTION:Every Tuesday\, Clothing Distribution\, Food Distribution\, Blood Pressure Screens\, The Quincy
URL:https://gcrcla.org/event/every-tuesday-clothing-distribution-food-distribution-blood-pressure-screens/2029-02-06/
LOCATION:The Quincy\, 2652 West Pico Blvd\, Los Angeles\, CA\, 90006\, United States
CATEGORIES:Blood Pressure Screening,Clothing Distribution,Every Tuesday,Food Distribution,The Quincy
ORGANIZER;CN="GCRCLA":MAILTO:info@gcrcla.org, ywanderson@gcrcla.org
END:VEVENT
BEGIN:VEVENT
DTSTART;TZID=UTC:20290213T080000
DTEND;TZID=UTC:20290213T170000
DTSTAMP:20260424T124235
CREATED:20250731T202023Z
LAST-MODIFIED:20250809T034013Z
UID:10000957-1865664000-1865696400@gcrcla.org
SUMMARY:Every Tuesday\, Clothing Distribution\, Food Distribution\, Blood Pressure Screens
DESCRIPTION:Every Tuesday\, Clothing Distribution\, Food Distribution\, Blood Pressure Screens\, The Quincy
URL:https://gcrcla.org/event/every-tuesday-clothing-distribution-food-distribution-blood-pressure-screens/2029-02-13/
LOCATION:The Quincy\, 2652 West Pico Blvd\, Los Angeles\, CA\, 90006\, United States
CATEGORIES:Blood Pressure Screening,Clothing Distribution,Every Tuesday,Food Distribution,The Quincy
ORGANIZER;CN="GCRCLA":MAILTO:info@gcrcla.org, ywanderson@gcrcla.org
END:VEVENT
BEGIN:VEVENT
DTSTART;TZID=UTC:20290220T080000
DTEND;TZID=UTC:20290220T170000
DTSTAMP:20260424T124235
CREATED:20250731T202023Z
LAST-MODIFIED:20250809T034013Z
UID:10000958-1866268800-1866301200@gcrcla.org
SUMMARY:Every Tuesday\, Clothing Distribution\, Food Distribution\, Blood Pressure Screens
DESCRIPTION:Every Tuesday\, Clothing Distribution\, Food Distribution\, Blood Pressure Screens\, The Quincy
URL:https://gcrcla.org/event/every-tuesday-clothing-distribution-food-distribution-blood-pressure-screens/2029-02-20/
LOCATION:The Quincy\, 2652 West Pico Blvd\, Los Angeles\, CA\, 90006\, United States
CATEGORIES:Blood Pressure Screening,Clothing Distribution,Every Tuesday,Food Distribution,The Quincy
ORGANIZER;CN="GCRCLA":MAILTO:info@gcrcla.org, ywanderson@gcrcla.org
END:VEVENT
BEGIN:VEVENT
DTSTART;TZID=UTC:20290227T080000
DTEND;TZID=UTC:20290227T170000
DTSTAMP:20260424T124235
CREATED:20250731T202023Z
LAST-MODIFIED:20250809T034013Z
UID:10000959-1866873600-1866906000@gcrcla.org
SUMMARY:Every Tuesday\, Clothing Distribution\, Food Distribution\, Blood Pressure Screens
DESCRIPTION:Every Tuesday\, Clothing Distribution\, Food Distribution\, Blood Pressure Screens\, The Quincy
URL:https://gcrcla.org/event/every-tuesday-clothing-distribution-food-distribution-blood-pressure-screens/2029-02-27/
LOCATION:The Quincy\, 2652 West Pico Blvd\, Los Angeles\, CA\, 90006\, United States
CATEGORIES:Blood Pressure Screening,Clothing Distribution,Every Tuesday,Food Distribution,The Quincy
ORGANIZER;CN="GCRCLA":MAILTO:info@gcrcla.org, ywanderson@gcrcla.org
END:VEVENT
BEGIN:VEVENT
DTSTART;TZID=UTC:20290306T080000
DTEND;TZID=UTC:20290306T170000
DTSTAMP:20260424T124235
CREATED:20250731T202023Z
LAST-MODIFIED:20250809T034013Z
UID:10000960-1867478400-1867510800@gcrcla.org
SUMMARY:Every Tuesday\, Clothing Distribution\, Food Distribution\, Blood Pressure Screens
DESCRIPTION:Every Tuesday\, Clothing Distribution\, Food Distribution\, Blood Pressure Screens\, The Quincy
URL:https://gcrcla.org/event/every-tuesday-clothing-distribution-food-distribution-blood-pressure-screens/2029-03-06/
LOCATION:The Quincy\, 2652 West Pico Blvd\, Los Angeles\, CA\, 90006\, United States
CATEGORIES:Blood Pressure Screening,Clothing Distribution,Every Tuesday,Food Distribution,The Quincy
ORGANIZER;CN="GCRCLA":MAILTO:info@gcrcla.org, ywanderson@gcrcla.org
END:VEVENT
BEGIN:VEVENT
DTSTART;TZID=UTC:20290313T080000
DTEND;TZID=UTC:20290313T170000
DTSTAMP:20260424T124235
CREATED:20250731T202023Z
LAST-MODIFIED:20250809T034013Z
UID:10000961-1868083200-1868115600@gcrcla.org
SUMMARY:Every Tuesday\, Clothing Distribution\, Food Distribution\, Blood Pressure Screens
DESCRIPTION:Every Tuesday\, Clothing Distribution\, Food Distribution\, Blood Pressure Screens\, The Quincy
URL:https://gcrcla.org/event/every-tuesday-clothing-distribution-food-distribution-blood-pressure-screens/2029-03-13/
LOCATION:The Quincy\, 2652 West Pico Blvd\, Los Angeles\, CA\, 90006\, United States
CATEGORIES:Blood Pressure Screening,Clothing Distribution,Every Tuesday,Food Distribution,The Quincy
ORGANIZER;CN="GCRCLA":MAILTO:info@gcrcla.org, ywanderson@gcrcla.org
END:VEVENT
BEGIN:VEVENT
DTSTART;TZID=UTC:20290320T080000
DTEND;TZID=UTC:20290320T170000
DTSTAMP:20260424T124235
CREATED:20250731T202023Z
LAST-MODIFIED:20250809T034013Z
UID:10000962-1868688000-1868720400@gcrcla.org
SUMMARY:Every Tuesday\, Clothing Distribution\, Food Distribution\, Blood Pressure Screens
DESCRIPTION:Every Tuesday\, Clothing Distribution\, Food Distribution\, Blood Pressure Screens\, The Quincy
URL:https://gcrcla.org/event/every-tuesday-clothing-distribution-food-distribution-blood-pressure-screens/2029-03-20/
LOCATION:The Quincy\, 2652 West Pico Blvd\, Los Angeles\, CA\, 90006\, United States
CATEGORIES:Blood Pressure Screening,Clothing Distribution,Every Tuesday,Food Distribution,The Quincy
ORGANIZER;CN="GCRCLA":MAILTO:info@gcrcla.org, ywanderson@gcrcla.org
END:VEVENT
BEGIN:VEVENT
DTSTART;TZID=UTC:20290327T080000
DTEND;TZID=UTC:20290327T170000
DTSTAMP:20260424T124235
CREATED:20250731T202023Z
LAST-MODIFIED:20250809T034013Z
UID:10000963-1869292800-1869325200@gcrcla.org
SUMMARY:Every Tuesday\, Clothing Distribution\, Food Distribution\, Blood Pressure Screens
DESCRIPTION:Every Tuesday\, Clothing Distribution\, Food Distribution\, Blood Pressure Screens\, The Quincy
URL:https://gcrcla.org/event/every-tuesday-clothing-distribution-food-distribution-blood-pressure-screens/2029-03-27/
LOCATION:The Quincy\, 2652 West Pico Blvd\, Los Angeles\, CA\, 90006\, United States
CATEGORIES:Blood Pressure Screening,Clothing Distribution,Every Tuesday,Food Distribution,The Quincy
ORGANIZER;CN="GCRCLA":MAILTO:info@gcrcla.org, ywanderson@gcrcla.org
END:VEVENT
BEGIN:VEVENT
DTSTART;TZID=UTC:20290403T080000
DTEND;TZID=UTC:20290403T170000
DTSTAMP:20260424T124235
CREATED:20250731T202023Z
LAST-MODIFIED:20250809T034013Z
UID:10000964-1869897600-1869930000@gcrcla.org
SUMMARY:Every Tuesday\, Clothing Distribution\, Food Distribution\, Blood Pressure Screens
DESCRIPTION:Every Tuesday\, Clothing Distribution\, Food Distribution\, Blood Pressure Screens\, The Quincy
URL:https://gcrcla.org/event/every-tuesday-clothing-distribution-food-distribution-blood-pressure-screens/2029-04-03/
LOCATION:The Quincy\, 2652 West Pico Blvd\, Los Angeles\, CA\, 90006\, United States
CATEGORIES:Blood Pressure Screening,Clothing Distribution,Every Tuesday,Food Distribution,The Quincy
ORGANIZER;CN="GCRCLA":MAILTO:info@gcrcla.org, ywanderson@gcrcla.org
END:VEVENT
BEGIN:VEVENT
DTSTART;TZID=UTC:20290410T080000
DTEND;TZID=UTC:20290410T170000
DTSTAMP:20260424T124235
CREATED:20250731T202023Z
LAST-MODIFIED:20250809T034013Z
UID:10000965-1870502400-1870534800@gcrcla.org
SUMMARY:Every Tuesday\, Clothing Distribution\, Food Distribution\, Blood Pressure Screens
DESCRIPTION:Every Tuesday\, Clothing Distribution\, Food Distribution\, Blood Pressure Screens\, The Quincy
URL:https://gcrcla.org/event/every-tuesday-clothing-distribution-food-distribution-blood-pressure-screens/2029-04-10/
LOCATION:The Quincy\, 2652 West Pico Blvd\, Los Angeles\, CA\, 90006\, United States
CATEGORIES:Blood Pressure Screening,Clothing Distribution,Every Tuesday,Food Distribution,The Quincy
ORGANIZER;CN="GCRCLA":MAILTO:info@gcrcla.org, ywanderson@gcrcla.org
END:VEVENT
BEGIN:VEVENT
DTSTART;TZID=UTC:20290417T080000
DTEND;TZID=UTC:20290417T170000
DTSTAMP:20260424T124235
CREATED:20250731T202023Z
LAST-MODIFIED:20250809T034013Z
UID:10000966-1871107200-1871139600@gcrcla.org
SUMMARY:Every Tuesday\, Clothing Distribution\, Food Distribution\, Blood Pressure Screens
DESCRIPTION:Every Tuesday\, Clothing Distribution\, Food Distribution\, Blood Pressure Screens\, The Quincy
URL:https://gcrcla.org/event/every-tuesday-clothing-distribution-food-distribution-blood-pressure-screens/2029-04-17/
LOCATION:The Quincy\, 2652 West Pico Blvd\, Los Angeles\, CA\, 90006\, United States
CATEGORIES:Blood Pressure Screening,Clothing Distribution,Every Tuesday,Food Distribution,The Quincy
ORGANIZER;CN="GCRCLA":MAILTO:info@gcrcla.org, ywanderson@gcrcla.org
END:VEVENT
BEGIN:VEVENT
DTSTART;TZID=UTC:20290424T080000
DTEND;TZID=UTC:20290424T170000
DTSTAMP:20260424T124235
CREATED:20250731T202023Z
LAST-MODIFIED:20250809T034013Z
UID:10000967-1871712000-1871744400@gcrcla.org
SUMMARY:Every Tuesday\, Clothing Distribution\, Food Distribution\, Blood Pressure Screens
DESCRIPTION:Every Tuesday\, Clothing Distribution\, Food Distribution\, Blood Pressure Screens\, The Quincy
URL:https://gcrcla.org/event/every-tuesday-clothing-distribution-food-distribution-blood-pressure-screens/2029-04-24/
LOCATION:The Quincy\, 2652 West Pico Blvd\, Los Angeles\, CA\, 90006\, United States
CATEGORIES:Blood Pressure Screening,Clothing Distribution,Every Tuesday,Food Distribution,The Quincy
ORGANIZER;CN="GCRCLA":MAILTO:info@gcrcla.org, ywanderson@gcrcla.org
END:VEVENT
BEGIN:VEVENT
DTSTART;TZID=UTC:20290501T080000
DTEND;TZID=UTC:20290501T170000
DTSTAMP:20260424T124235
CREATED:20250731T202023Z
LAST-MODIFIED:20250809T034013Z
UID:10000968-1872316800-1872349200@gcrcla.org
SUMMARY:Every Tuesday\, Clothing Distribution\, Food Distribution\, Blood Pressure Screens
DESCRIPTION:Every Tuesday\, Clothing Distribution\, Food Distribution\, Blood Pressure Screens\, The Quincy
URL:https://gcrcla.org/event/every-tuesday-clothing-distribution-food-distribution-blood-pressure-screens/2029-05-01/
LOCATION:The Quincy\, 2652 West Pico Blvd\, Los Angeles\, CA\, 90006\, United States
CATEGORIES:Blood Pressure Screening,Clothing Distribution,Every Tuesday,Food Distribution,The Quincy
ORGANIZER;CN="GCRCLA":MAILTO:info@gcrcla.org, ywanderson@gcrcla.org
END:VEVENT
BEGIN:VEVENT
DTSTART;TZID=UTC:20290508T080000
DTEND;TZID=UTC:20290508T170000
DTSTAMP:20260424T124235
CREATED:20250731T202023Z
LAST-MODIFIED:20250809T034013Z
UID:10000969-1872921600-1872954000@gcrcla.org
SUMMARY:Every Tuesday\, Clothing Distribution\, Food Distribution\, Blood Pressure Screens
DESCRIPTION:Every Tuesday\, Clothing Distribution\, Food Distribution\, Blood Pressure Screens\, The Quincy
URL:https://gcrcla.org/event/every-tuesday-clothing-distribution-food-distribution-blood-pressure-screens/2029-05-08/
LOCATION:The Quincy\, 2652 West Pico Blvd\, Los Angeles\, CA\, 90006\, United States
CATEGORIES:Blood Pressure Screening,Clothing Distribution,Every Tuesday,Food Distribution,The Quincy
ORGANIZER;CN="GCRCLA":MAILTO:info@gcrcla.org, ywanderson@gcrcla.org
END:VEVENT
BEGIN:VEVENT
DTSTART;TZID=UTC:20290515T080000
DTEND;TZID=UTC:20290515T170000
DTSTAMP:20260424T124235
CREATED:20250731T202023Z
LAST-MODIFIED:20250809T034013Z
UID:10000970-1873526400-1873558800@gcrcla.org
SUMMARY:Every Tuesday\, Clothing Distribution\, Food Distribution\, Blood Pressure Screens
DESCRIPTION:Every Tuesday\, Clothing Distribution\, Food Distribution\, Blood Pressure Screens\, The Quincy
URL:https://gcrcla.org/event/every-tuesday-clothing-distribution-food-distribution-blood-pressure-screens/2029-05-15/
LOCATION:The Quincy\, 2652 West Pico Blvd\, Los Angeles\, CA\, 90006\, United States
CATEGORIES:Blood Pressure Screening,Clothing Distribution,Every Tuesday,Food Distribution,The Quincy
ORGANIZER;CN="GCRCLA":MAILTO:info@gcrcla.org, ywanderson@gcrcla.org
END:VEVENT
BEGIN:VEVENT
DTSTART;TZID=UTC:20290522T080000
DTEND;TZID=UTC:20290522T170000
DTSTAMP:20260424T124235
CREATED:20250731T202023Z
LAST-MODIFIED:20250809T034013Z
UID:10000971-1874131200-1874163600@gcrcla.org
SUMMARY:Every Tuesday\, Clothing Distribution\, Food Distribution\, Blood Pressure Screens
DESCRIPTION:Every Tuesday\, Clothing Distribution\, Food Distribution\, Blood Pressure Screens\, The Quincy
URL:https://gcrcla.org/event/every-tuesday-clothing-distribution-food-distribution-blood-pressure-screens/2029-05-22/
LOCATION:The Quincy\, 2652 West Pico Blvd\, Los Angeles\, CA\, 90006\, United States
CATEGORIES:Blood Pressure Screening,Clothing Distribution,Every Tuesday,Food Distribution,The Quincy
ORGANIZER;CN="GCRCLA":MAILTO:info@gcrcla.org, ywanderson@gcrcla.org
END:VEVENT
BEGIN:VEVENT
DTSTART;TZID=UTC:20290529T080000
DTEND;TZID=UTC:20290529T170000
DTSTAMP:20260424T124235
CREATED:20250731T202023Z
LAST-MODIFIED:20250809T034013Z
UID:10000972-1874736000-1874768400@gcrcla.org
SUMMARY:Every Tuesday\, Clothing Distribution\, Food Distribution\, Blood Pressure Screens
DESCRIPTION:Every Tuesday\, Clothing Distribution\, Food Distribution\, Blood Pressure Screens\, The Quincy
URL:https://gcrcla.org/event/every-tuesday-clothing-distribution-food-distribution-blood-pressure-screens/2029-05-29/
LOCATION:The Quincy\, 2652 West Pico Blvd\, Los Angeles\, CA\, 90006\, United States
CATEGORIES:Blood Pressure Screening,Clothing Distribution,Every Tuesday,Food Distribution,The Quincy
ORGANIZER;CN="GCRCLA":MAILTO:info@gcrcla.org, ywanderson@gcrcla.org
END:VEVENT
END:VCALENDAR