BEGIN:VCALENDAR
VERSION:2.0
PRODID:-//GCRCLA - ECPv6.15.20//NONSGML v1.0//EN
CALSCALE:GREGORIAN
METHOD:PUBLISH
X-ORIGINAL-URL:https://gcrcla.org
X-WR-CALDESC:Events for GCRCLA
REFRESH-INTERVAL;VALUE=DURATION:PT1H
X-Robots-Tag:noindex
X-PUBLISHED-TTL:PT1H
BEGIN:VTIMEZONE
TZID:UTC
BEGIN:STANDARD
TZOFFSETFROM:+0000
TZOFFSETTO:+0000
TZNAME:UTC
DTSTART:20260101T000000
END:STANDARD
END:VTIMEZONE
BEGIN:VEVENT
DTSTART;TZID=UTC:20270512T100000
DTEND;TZID=UTC:20270512T150000
DTSTAMP:20260424T155140
CREATED:20250731T210025Z
LAST-MODIFIED:20250809T040032Z
UID:10001127-1810116000-1810134000@gcrcla.org
SUMMARY:Every Wednesday\, BLOOD PRESSURE SCREENS\, CLOTHING & HOUSEWARE DISTRIBUTION\, FOOD BANK LAX FOOD BAG DISTRIBUTION
DESCRIPTION:Every Wednesday\, BLOOD PRESSURE SCREENS\, CLOTHING & HOUSEWARE DISTRIBUTION\, LAX FOOD BAG DISTRIBUTION
URL:https://gcrcla.org/event/every-wednesday-blood-pressure-screens-clothing-houseware-distribution-lax-food-bag-distribution/2027-05-12/
LOCATION:Metro@Buckingham\, 4018 Buckingham Rd\, Los Angeles\, CA\, 90008\, United States
CATEGORIES:Blood Pressure Screening,Clothing Distribution,First Wednesday,LAX Food Bag Distribution,Metro@Buckingham
ORGANIZER;CN="GCRCLA":MAILTO:info@gcrcla.org, ywanderson@gcrcla.org
END:VEVENT
BEGIN:VEVENT
DTSTART;TZID=UTC:20270514T100000
DTEND;TZID=UTC:20270514T150000
DTSTAMP:20260424T155140
CREATED:20250809T044320Z
LAST-MODIFIED:20250809T044432Z
UID:10001656-1810288800-1810306800@gcrcla.org
SUMMARY:Every Friday\, Clothing/Houseware Distribution\, at The Chesterfield
DESCRIPTION:Every Friday\, Clothing/Houseware Distribution\, at The Chesterfield
URL:https://gcrcla.org/event/every-friday-clothing-houseware-distribution-at-the-chesterfield/2027-05-14/
LOCATION:The Chesterfield\, 4723 So. Normandie Ave.\, Los Angeles\, CA\, 90062\, United States
CATEGORIES:Chesterfield,Clothing Distribution,Every Friday,Houseware Distribution
ORGANIZER;CN="GCRCLA":MAILTO:info@gcrcla.org, ywanderson@gcrcla.org
END:VEVENT
BEGIN:VEVENT
DTSTART;TZID=UTC:20270519T100000
DTEND;TZID=UTC:20270519T150000
DTSTAMP:20260424T155140
CREATED:20250731T210025Z
LAST-MODIFIED:20250809T040032Z
UID:10001128-1810720800-1810738800@gcrcla.org
SUMMARY:Every Wednesday\, BLOOD PRESSURE SCREENS\, CLOTHING & HOUSEWARE DISTRIBUTION\, FOOD BANK LAX FOOD BAG DISTRIBUTION
DESCRIPTION:Every Wednesday\, BLOOD PRESSURE SCREENS\, CLOTHING & HOUSEWARE DISTRIBUTION\, LAX FOOD BAG DISTRIBUTION
URL:https://gcrcla.org/event/every-wednesday-blood-pressure-screens-clothing-houseware-distribution-lax-food-bag-distribution/2027-05-19/
LOCATION:Metro@Buckingham\, 4018 Buckingham Rd\, Los Angeles\, CA\, 90008\, United States
CATEGORIES:Blood Pressure Screening,Clothing Distribution,First Wednesday,LAX Food Bag Distribution,Metro@Buckingham
ORGANIZER;CN="GCRCLA":MAILTO:info@gcrcla.org, ywanderson@gcrcla.org
END:VEVENT
BEGIN:VEVENT
DTSTART;TZID=UTC:20270521T100000
DTEND;TZID=UTC:20270521T150000
DTSTAMP:20260424T155140
CREATED:20250809T044320Z
LAST-MODIFIED:20250809T044432Z
UID:10001657-1810893600-1810911600@gcrcla.org
SUMMARY:Every Friday\, Clothing/Houseware Distribution\, at The Chesterfield
DESCRIPTION:Every Friday\, Clothing/Houseware Distribution\, at The Chesterfield
URL:https://gcrcla.org/event/every-friday-clothing-houseware-distribution-at-the-chesterfield/2027-05-21/
LOCATION:The Chesterfield\, 4723 So. Normandie Ave.\, Los Angeles\, CA\, 90062\, United States
CATEGORIES:Chesterfield,Clothing Distribution,Every Friday,Houseware Distribution
ORGANIZER;CN="GCRCLA":MAILTO:info@gcrcla.org, ywanderson@gcrcla.org
END:VEVENT
BEGIN:VEVENT
DTSTART;TZID=UTC:20270526T100000
DTEND;TZID=UTC:20270526T150000
DTSTAMP:20260424T155140
CREATED:20250731T210025Z
LAST-MODIFIED:20250809T040032Z
UID:10001129-1811325600-1811343600@gcrcla.org
SUMMARY:Every Wednesday\, BLOOD PRESSURE SCREENS\, CLOTHING & HOUSEWARE DISTRIBUTION\, FOOD BANK LAX FOOD BAG DISTRIBUTION
DESCRIPTION:Every Wednesday\, BLOOD PRESSURE SCREENS\, CLOTHING & HOUSEWARE DISTRIBUTION\, LAX FOOD BAG DISTRIBUTION
URL:https://gcrcla.org/event/every-wednesday-blood-pressure-screens-clothing-houseware-distribution-lax-food-bag-distribution/2027-05-26/
LOCATION:Metro@Buckingham\, 4018 Buckingham Rd\, Los Angeles\, CA\, 90008\, United States
CATEGORIES:Blood Pressure Screening,Clothing Distribution,First Wednesday,LAX Food Bag Distribution,Metro@Buckingham
ORGANIZER;CN="GCRCLA":MAILTO:info@gcrcla.org, ywanderson@gcrcla.org
END:VEVENT
BEGIN:VEVENT
DTSTART;TZID=UTC:20270528T100000
DTEND;TZID=UTC:20270528T150000
DTSTAMP:20260424T155140
CREATED:20250809T044320Z
LAST-MODIFIED:20250809T044432Z
UID:10001658-1811498400-1811516400@gcrcla.org
SUMMARY:Every Friday\, Clothing/Houseware Distribution\, at The Chesterfield
DESCRIPTION:Every Friday\, Clothing/Houseware Distribution\, at The Chesterfield
URL:https://gcrcla.org/event/every-friday-clothing-houseware-distribution-at-the-chesterfield/2027-05-28/
LOCATION:The Chesterfield\, 4723 So. Normandie Ave.\, Los Angeles\, CA\, 90062\, United States
CATEGORIES:Chesterfield,Clothing Distribution,Every Friday,Houseware Distribution
ORGANIZER;CN="GCRCLA":MAILTO:info@gcrcla.org, ywanderson@gcrcla.org
END:VEVENT
BEGIN:VEVENT
DTSTART;TZID=UTC:20270602T100000
DTEND;TZID=UTC:20270602T150000
DTSTAMP:20260424T155140
CREATED:20250731T210025Z
LAST-MODIFIED:20250809T040032Z
UID:10001130-1811930400-1811948400@gcrcla.org
SUMMARY:Every Wednesday\, BLOOD PRESSURE SCREENS\, CLOTHING & HOUSEWARE DISTRIBUTION\, FOOD BANK LAX FOOD BAG DISTRIBUTION
DESCRIPTION:Every Wednesday\, BLOOD PRESSURE SCREENS\, CLOTHING & HOUSEWARE DISTRIBUTION\, LAX FOOD BAG DISTRIBUTION
URL:https://gcrcla.org/event/every-wednesday-blood-pressure-screens-clothing-houseware-distribution-lax-food-bag-distribution/2027-06-02/
LOCATION:Metro@Buckingham\, 4018 Buckingham Rd\, Los Angeles\, CA\, 90008\, United States
CATEGORIES:Blood Pressure Screening,Clothing Distribution,First Wednesday,LAX Food Bag Distribution,Metro@Buckingham
ORGANIZER;CN="GCRCLA":MAILTO:info@gcrcla.org, ywanderson@gcrcla.org
END:VEVENT
BEGIN:VEVENT
DTSTART;TZID=UTC:20270604T100000
DTEND;TZID=UTC:20270604T150000
DTSTAMP:20260424T155140
CREATED:20250809T044320Z
LAST-MODIFIED:20250809T044432Z
UID:10001659-1812103200-1812121200@gcrcla.org
SUMMARY:Every Friday\, Clothing/Houseware Distribution\, at The Chesterfield
DESCRIPTION:Every Friday\, Clothing/Houseware Distribution\, at The Chesterfield
URL:https://gcrcla.org/event/every-friday-clothing-houseware-distribution-at-the-chesterfield/2027-06-04/
LOCATION:The Chesterfield\, 4723 So. Normandie Ave.\, Los Angeles\, CA\, 90062\, United States
CATEGORIES:Chesterfield,Clothing Distribution,Every Friday,Houseware Distribution
ORGANIZER;CN="GCRCLA":MAILTO:info@gcrcla.org, ywanderson@gcrcla.org
END:VEVENT
BEGIN:VEVENT
DTSTART;TZID=UTC:20270609T100000
DTEND;TZID=UTC:20270609T150000
DTSTAMP:20260424T155140
CREATED:20250731T210025Z
LAST-MODIFIED:20250809T040032Z
UID:10001131-1812535200-1812553200@gcrcla.org
SUMMARY:Every Wednesday\, BLOOD PRESSURE SCREENS\, CLOTHING & HOUSEWARE DISTRIBUTION\, FOOD BANK LAX FOOD BAG DISTRIBUTION
DESCRIPTION:Every Wednesday\, BLOOD PRESSURE SCREENS\, CLOTHING & HOUSEWARE DISTRIBUTION\, LAX FOOD BAG DISTRIBUTION
URL:https://gcrcla.org/event/every-wednesday-blood-pressure-screens-clothing-houseware-distribution-lax-food-bag-distribution/2027-06-09/
LOCATION:Metro@Buckingham\, 4018 Buckingham Rd\, Los Angeles\, CA\, 90008\, United States
CATEGORIES:Blood Pressure Screening,Clothing Distribution,First Wednesday,LAX Food Bag Distribution,Metro@Buckingham
ORGANIZER;CN="GCRCLA":MAILTO:info@gcrcla.org, ywanderson@gcrcla.org
END:VEVENT
BEGIN:VEVENT
DTSTART;TZID=UTC:20270611T100000
DTEND;TZID=UTC:20270611T150000
DTSTAMP:20260424T155140
CREATED:20250809T044320Z
LAST-MODIFIED:20250809T044432Z
UID:10001660-1812708000-1812726000@gcrcla.org
SUMMARY:Every Friday\, Clothing/Houseware Distribution\, at The Chesterfield
DESCRIPTION:Every Friday\, Clothing/Houseware Distribution\, at The Chesterfield
URL:https://gcrcla.org/event/every-friday-clothing-houseware-distribution-at-the-chesterfield/2027-06-11/
LOCATION:The Chesterfield\, 4723 So. Normandie Ave.\, Los Angeles\, CA\, 90062\, United States
CATEGORIES:Chesterfield,Clothing Distribution,Every Friday,Houseware Distribution
ORGANIZER;CN="GCRCLA":MAILTO:info@gcrcla.org, ywanderson@gcrcla.org
END:VEVENT
BEGIN:VEVENT
DTSTART;TZID=UTC:20270616T100000
DTEND;TZID=UTC:20270616T150000
DTSTAMP:20260424T155140
CREATED:20250731T210025Z
LAST-MODIFIED:20250809T040032Z
UID:10001132-1813140000-1813158000@gcrcla.org
SUMMARY:Every Wednesday\, BLOOD PRESSURE SCREENS\, CLOTHING & HOUSEWARE DISTRIBUTION\, FOOD BANK LAX FOOD BAG DISTRIBUTION
DESCRIPTION:Every Wednesday\, BLOOD PRESSURE SCREENS\, CLOTHING & HOUSEWARE DISTRIBUTION\, LAX FOOD BAG DISTRIBUTION
URL:https://gcrcla.org/event/every-wednesday-blood-pressure-screens-clothing-houseware-distribution-lax-food-bag-distribution/2027-06-16/
LOCATION:Metro@Buckingham\, 4018 Buckingham Rd\, Los Angeles\, CA\, 90008\, United States
CATEGORIES:Blood Pressure Screening,Clothing Distribution,First Wednesday,LAX Food Bag Distribution,Metro@Buckingham
ORGANIZER;CN="GCRCLA":MAILTO:info@gcrcla.org, ywanderson@gcrcla.org
END:VEVENT
BEGIN:VEVENT
DTSTART;TZID=UTC:20270618T100000
DTEND;TZID=UTC:20270618T150000
DTSTAMP:20260424T155140
CREATED:20250809T044320Z
LAST-MODIFIED:20250809T044432Z
UID:10001661-1813312800-1813330800@gcrcla.org
SUMMARY:Every Friday\, Clothing/Houseware Distribution\, at The Chesterfield
DESCRIPTION:Every Friday\, Clothing/Houseware Distribution\, at The Chesterfield
URL:https://gcrcla.org/event/every-friday-clothing-houseware-distribution-at-the-chesterfield/2027-06-18/
LOCATION:The Chesterfield\, 4723 So. Normandie Ave.\, Los Angeles\, CA\, 90062\, United States
CATEGORIES:Chesterfield,Clothing Distribution,Every Friday,Houseware Distribution
ORGANIZER;CN="GCRCLA":MAILTO:info@gcrcla.org, ywanderson@gcrcla.org
END:VEVENT
BEGIN:VEVENT
DTSTART;TZID=UTC:20270623T100000
DTEND;TZID=UTC:20270623T150000
DTSTAMP:20260424T155141
CREATED:20250731T210025Z
LAST-MODIFIED:20250809T040032Z
UID:10001133-1813744800-1813762800@gcrcla.org
SUMMARY:Every Wednesday\, BLOOD PRESSURE SCREENS\, CLOTHING & HOUSEWARE DISTRIBUTION\, FOOD BANK LAX FOOD BAG DISTRIBUTION
DESCRIPTION:Every Wednesday\, BLOOD PRESSURE SCREENS\, CLOTHING & HOUSEWARE DISTRIBUTION\, LAX FOOD BAG DISTRIBUTION
URL:https://gcrcla.org/event/every-wednesday-blood-pressure-screens-clothing-houseware-distribution-lax-food-bag-distribution/2027-06-23/
LOCATION:Metro@Buckingham\, 4018 Buckingham Rd\, Los Angeles\, CA\, 90008\, United States
CATEGORIES:Blood Pressure Screening,Clothing Distribution,First Wednesday,LAX Food Bag Distribution,Metro@Buckingham
ORGANIZER;CN="GCRCLA":MAILTO:info@gcrcla.org, ywanderson@gcrcla.org
END:VEVENT
BEGIN:VEVENT
DTSTART;TZID=UTC:20270625T100000
DTEND;TZID=UTC:20270625T150000
DTSTAMP:20260424T155141
CREATED:20250809T044320Z
LAST-MODIFIED:20250809T044432Z
UID:10001662-1813917600-1813935600@gcrcla.org
SUMMARY:Every Friday\, Clothing/Houseware Distribution\, at The Chesterfield
DESCRIPTION:Every Friday\, Clothing/Houseware Distribution\, at The Chesterfield
URL:https://gcrcla.org/event/every-friday-clothing-houseware-distribution-at-the-chesterfield/2027-06-25/
LOCATION:The Chesterfield\, 4723 So. Normandie Ave.\, Los Angeles\, CA\, 90062\, United States
CATEGORIES:Chesterfield,Clothing Distribution,Every Friday,Houseware Distribution
ORGANIZER;CN="GCRCLA":MAILTO:info@gcrcla.org, ywanderson@gcrcla.org
END:VEVENT
BEGIN:VEVENT
DTSTART;TZID=UTC:20270630T100000
DTEND;TZID=UTC:20270630T150000
DTSTAMP:20260424T155141
CREATED:20250731T210025Z
LAST-MODIFIED:20250809T040032Z
UID:10001134-1814349600-1814367600@gcrcla.org
SUMMARY:Every Wednesday\, BLOOD PRESSURE SCREENS\, CLOTHING & HOUSEWARE DISTRIBUTION\, FOOD BANK LAX FOOD BAG DISTRIBUTION
DESCRIPTION:Every Wednesday\, BLOOD PRESSURE SCREENS\, CLOTHING & HOUSEWARE DISTRIBUTION\, LAX FOOD BAG DISTRIBUTION
URL:https://gcrcla.org/event/every-wednesday-blood-pressure-screens-clothing-houseware-distribution-lax-food-bag-distribution/2027-06-30/
LOCATION:Metro@Buckingham\, 4018 Buckingham Rd\, Los Angeles\, CA\, 90008\, United States
CATEGORIES:Blood Pressure Screening,Clothing Distribution,First Wednesday,LAX Food Bag Distribution,Metro@Buckingham
ORGANIZER;CN="GCRCLA":MAILTO:info@gcrcla.org, ywanderson@gcrcla.org
END:VEVENT
BEGIN:VEVENT
DTSTART;TZID=UTC:20270702T100000
DTEND;TZID=UTC:20270702T150000
DTSTAMP:20260424T155141
CREATED:20250809T044320Z
LAST-MODIFIED:20250809T044432Z
UID:10001663-1814522400-1814540400@gcrcla.org
SUMMARY:Every Friday\, Clothing/Houseware Distribution\, at The Chesterfield
DESCRIPTION:Every Friday\, Clothing/Houseware Distribution\, at The Chesterfield
URL:https://gcrcla.org/event/every-friday-clothing-houseware-distribution-at-the-chesterfield/2027-07-02/
LOCATION:The Chesterfield\, 4723 So. Normandie Ave.\, Los Angeles\, CA\, 90062\, United States
CATEGORIES:Chesterfield,Clothing Distribution,Every Friday,Houseware Distribution
ORGANIZER;CN="GCRCLA":MAILTO:info@gcrcla.org, ywanderson@gcrcla.org
END:VEVENT
BEGIN:VEVENT
DTSTART;TZID=UTC:20270707T100000
DTEND;TZID=UTC:20270707T150000
DTSTAMP:20260424T155141
CREATED:20250731T210025Z
LAST-MODIFIED:20250809T040032Z
UID:10001135-1814954400-1814972400@gcrcla.org
SUMMARY:Every Wednesday\, BLOOD PRESSURE SCREENS\, CLOTHING & HOUSEWARE DISTRIBUTION\, FOOD BANK LAX FOOD BAG DISTRIBUTION
DESCRIPTION:Every Wednesday\, BLOOD PRESSURE SCREENS\, CLOTHING & HOUSEWARE DISTRIBUTION\, LAX FOOD BAG DISTRIBUTION
URL:https://gcrcla.org/event/every-wednesday-blood-pressure-screens-clothing-houseware-distribution-lax-food-bag-distribution/2027-07-07/
LOCATION:Metro@Buckingham\, 4018 Buckingham Rd\, Los Angeles\, CA\, 90008\, United States
CATEGORIES:Blood Pressure Screening,Clothing Distribution,First Wednesday,LAX Food Bag Distribution,Metro@Buckingham
ORGANIZER;CN="GCRCLA":MAILTO:info@gcrcla.org, ywanderson@gcrcla.org
END:VEVENT
BEGIN:VEVENT
DTSTART;TZID=UTC:20270709T100000
DTEND;TZID=UTC:20270709T150000
DTSTAMP:20260424T155141
CREATED:20250809T044320Z
LAST-MODIFIED:20250809T044432Z
UID:10001664-1815127200-1815145200@gcrcla.org
SUMMARY:Every Friday\, Clothing/Houseware Distribution\, at The Chesterfield
DESCRIPTION:Every Friday\, Clothing/Houseware Distribution\, at The Chesterfield
URL:https://gcrcla.org/event/every-friday-clothing-houseware-distribution-at-the-chesterfield/2027-07-09/
LOCATION:The Chesterfield\, 4723 So. Normandie Ave.\, Los Angeles\, CA\, 90062\, United States
CATEGORIES:Chesterfield,Clothing Distribution,Every Friday,Houseware Distribution
ORGANIZER;CN="GCRCLA":MAILTO:info@gcrcla.org, ywanderson@gcrcla.org
END:VEVENT
BEGIN:VEVENT
DTSTART;TZID=UTC:20270714T100000
DTEND;TZID=UTC:20270714T150000
DTSTAMP:20260424T155141
CREATED:20250731T210025Z
LAST-MODIFIED:20250809T040032Z
UID:10001136-1815559200-1815577200@gcrcla.org
SUMMARY:Every Wednesday\, BLOOD PRESSURE SCREENS\, CLOTHING & HOUSEWARE DISTRIBUTION\, FOOD BANK LAX FOOD BAG DISTRIBUTION
DESCRIPTION:Every Wednesday\, BLOOD PRESSURE SCREENS\, CLOTHING & HOUSEWARE DISTRIBUTION\, LAX FOOD BAG DISTRIBUTION
URL:https://gcrcla.org/event/every-wednesday-blood-pressure-screens-clothing-houseware-distribution-lax-food-bag-distribution/2027-07-14/
LOCATION:Metro@Buckingham\, 4018 Buckingham Rd\, Los Angeles\, CA\, 90008\, United States
CATEGORIES:Blood Pressure Screening,Clothing Distribution,First Wednesday,LAX Food Bag Distribution,Metro@Buckingham
ORGANIZER;CN="GCRCLA":MAILTO:info@gcrcla.org, ywanderson@gcrcla.org
END:VEVENT
BEGIN:VEVENT
DTSTART;TZID=UTC:20270716T100000
DTEND;TZID=UTC:20270716T150000
DTSTAMP:20260424T155141
CREATED:20250809T044320Z
LAST-MODIFIED:20250809T044432Z
UID:10001665-1815732000-1815750000@gcrcla.org
SUMMARY:Every Friday\, Clothing/Houseware Distribution\, at The Chesterfield
DESCRIPTION:Every Friday\, Clothing/Houseware Distribution\, at The Chesterfield
URL:https://gcrcla.org/event/every-friday-clothing-houseware-distribution-at-the-chesterfield/2027-07-16/
LOCATION:The Chesterfield\, 4723 So. Normandie Ave.\, Los Angeles\, CA\, 90062\, United States
CATEGORIES:Chesterfield,Clothing Distribution,Every Friday,Houseware Distribution
ORGANIZER;CN="GCRCLA":MAILTO:info@gcrcla.org, ywanderson@gcrcla.org
END:VEVENT
BEGIN:VEVENT
DTSTART;TZID=UTC:20270721T100000
DTEND;TZID=UTC:20270721T150000
DTSTAMP:20260424T155141
CREATED:20250731T210025Z
LAST-MODIFIED:20250809T040032Z
UID:10001137-1816164000-1816182000@gcrcla.org
SUMMARY:Every Wednesday\, BLOOD PRESSURE SCREENS\, CLOTHING & HOUSEWARE DISTRIBUTION\, FOOD BANK LAX FOOD BAG DISTRIBUTION
DESCRIPTION:Every Wednesday\, BLOOD PRESSURE SCREENS\, CLOTHING & HOUSEWARE DISTRIBUTION\, LAX FOOD BAG DISTRIBUTION
URL:https://gcrcla.org/event/every-wednesday-blood-pressure-screens-clothing-houseware-distribution-lax-food-bag-distribution/2027-07-21/
LOCATION:Metro@Buckingham\, 4018 Buckingham Rd\, Los Angeles\, CA\, 90008\, United States
CATEGORIES:Blood Pressure Screening,Clothing Distribution,First Wednesday,LAX Food Bag Distribution,Metro@Buckingham
ORGANIZER;CN="GCRCLA":MAILTO:info@gcrcla.org, ywanderson@gcrcla.org
END:VEVENT
BEGIN:VEVENT
DTSTART;TZID=UTC:20270723T100000
DTEND;TZID=UTC:20270723T150000
DTSTAMP:20260424T155141
CREATED:20250809T044320Z
LAST-MODIFIED:20250809T044432Z
UID:10001666-1816336800-1816354800@gcrcla.org
SUMMARY:Every Friday\, Clothing/Houseware Distribution\, at The Chesterfield
DESCRIPTION:Every Friday\, Clothing/Houseware Distribution\, at The Chesterfield
URL:https://gcrcla.org/event/every-friday-clothing-houseware-distribution-at-the-chesterfield/2027-07-23/
LOCATION:The Chesterfield\, 4723 So. Normandie Ave.\, Los Angeles\, CA\, 90062\, United States
CATEGORIES:Chesterfield,Clothing Distribution,Every Friday,Houseware Distribution
ORGANIZER;CN="GCRCLA":MAILTO:info@gcrcla.org, ywanderson@gcrcla.org
END:VEVENT
BEGIN:VEVENT
DTSTART;TZID=UTC:20270728T100000
DTEND;TZID=UTC:20270728T150000
DTSTAMP:20260424T155141
CREATED:20250731T210025Z
LAST-MODIFIED:20250809T040032Z
UID:10001138-1816768800-1816786800@gcrcla.org
SUMMARY:Every Wednesday\, BLOOD PRESSURE SCREENS\, CLOTHING & HOUSEWARE DISTRIBUTION\, FOOD BANK LAX FOOD BAG DISTRIBUTION
DESCRIPTION:Every Wednesday\, BLOOD PRESSURE SCREENS\, CLOTHING & HOUSEWARE DISTRIBUTION\, LAX FOOD BAG DISTRIBUTION
URL:https://gcrcla.org/event/every-wednesday-blood-pressure-screens-clothing-houseware-distribution-lax-food-bag-distribution/2027-07-28/
LOCATION:Metro@Buckingham\, 4018 Buckingham Rd\, Los Angeles\, CA\, 90008\, United States
CATEGORIES:Blood Pressure Screening,Clothing Distribution,First Wednesday,LAX Food Bag Distribution,Metro@Buckingham
ORGANIZER;CN="GCRCLA":MAILTO:info@gcrcla.org, ywanderson@gcrcla.org
END:VEVENT
BEGIN:VEVENT
DTSTART;TZID=UTC:20270730T100000
DTEND;TZID=UTC:20270730T150000
DTSTAMP:20260424T155141
CREATED:20250809T044320Z
LAST-MODIFIED:20250809T044432Z
UID:10001667-1816941600-1816959600@gcrcla.org
SUMMARY:Every Friday\, Clothing/Houseware Distribution\, at The Chesterfield
DESCRIPTION:Every Friday\, Clothing/Houseware Distribution\, at The Chesterfield
URL:https://gcrcla.org/event/every-friday-clothing-houseware-distribution-at-the-chesterfield/2027-07-30/
LOCATION:The Chesterfield\, 4723 So. Normandie Ave.\, Los Angeles\, CA\, 90062\, United States
CATEGORIES:Chesterfield,Clothing Distribution,Every Friday,Houseware Distribution
ORGANIZER;CN="GCRCLA":MAILTO:info@gcrcla.org, ywanderson@gcrcla.org
END:VEVENT
BEGIN:VEVENT
DTSTART;TZID=UTC:20270804T100000
DTEND;TZID=UTC:20270804T150000
DTSTAMP:20260424T155141
CREATED:20250731T210025Z
LAST-MODIFIED:20250809T040032Z
UID:10001139-1817373600-1817391600@gcrcla.org
SUMMARY:Every Wednesday\, BLOOD PRESSURE SCREENS\, CLOTHING & HOUSEWARE DISTRIBUTION\, FOOD BANK LAX FOOD BAG DISTRIBUTION
DESCRIPTION:Every Wednesday\, BLOOD PRESSURE SCREENS\, CLOTHING & HOUSEWARE DISTRIBUTION\, LAX FOOD BAG DISTRIBUTION
URL:https://gcrcla.org/event/every-wednesday-blood-pressure-screens-clothing-houseware-distribution-lax-food-bag-distribution/2027-08-04/
LOCATION:Metro@Buckingham\, 4018 Buckingham Rd\, Los Angeles\, CA\, 90008\, United States
CATEGORIES:Blood Pressure Screening,Clothing Distribution,First Wednesday,LAX Food Bag Distribution,Metro@Buckingham
ORGANIZER;CN="GCRCLA":MAILTO:info@gcrcla.org, ywanderson@gcrcla.org
END:VEVENT
BEGIN:VEVENT
DTSTART;TZID=UTC:20270806T100000
DTEND;TZID=UTC:20270806T150000
DTSTAMP:20260424T155141
CREATED:20250809T044320Z
LAST-MODIFIED:20250809T044432Z
UID:10001668-1817546400-1817564400@gcrcla.org
SUMMARY:Every Friday\, Clothing/Houseware Distribution\, at The Chesterfield
DESCRIPTION:Every Friday\, Clothing/Houseware Distribution\, at The Chesterfield
URL:https://gcrcla.org/event/every-friday-clothing-houseware-distribution-at-the-chesterfield/2027-08-06/
LOCATION:The Chesterfield\, 4723 So. Normandie Ave.\, Los Angeles\, CA\, 90062\, United States
CATEGORIES:Chesterfield,Clothing Distribution,Every Friday,Houseware Distribution
ORGANIZER;CN="GCRCLA":MAILTO:info@gcrcla.org, ywanderson@gcrcla.org
END:VEVENT
BEGIN:VEVENT
DTSTART;TZID=UTC:20270811T100000
DTEND;TZID=UTC:20270811T150000
DTSTAMP:20260424T155141
CREATED:20250731T210025Z
LAST-MODIFIED:20250809T040032Z
UID:10001140-1817978400-1817996400@gcrcla.org
SUMMARY:Every Wednesday\, BLOOD PRESSURE SCREENS\, CLOTHING & HOUSEWARE DISTRIBUTION\, FOOD BANK LAX FOOD BAG DISTRIBUTION
DESCRIPTION:Every Wednesday\, BLOOD PRESSURE SCREENS\, CLOTHING & HOUSEWARE DISTRIBUTION\, LAX FOOD BAG DISTRIBUTION
URL:https://gcrcla.org/event/every-wednesday-blood-pressure-screens-clothing-houseware-distribution-lax-food-bag-distribution/2027-08-11/
LOCATION:Metro@Buckingham\, 4018 Buckingham Rd\, Los Angeles\, CA\, 90008\, United States
CATEGORIES:Blood Pressure Screening,Clothing Distribution,First Wednesday,LAX Food Bag Distribution,Metro@Buckingham
ORGANIZER;CN="GCRCLA":MAILTO:info@gcrcla.org, ywanderson@gcrcla.org
END:VEVENT
BEGIN:VEVENT
DTSTART;TZID=UTC:20270813T100000
DTEND;TZID=UTC:20270813T150000
DTSTAMP:20260424T155141
CREATED:20250809T044320Z
LAST-MODIFIED:20250809T044432Z
UID:10001669-1818151200-1818169200@gcrcla.org
SUMMARY:Every Friday\, Clothing/Houseware Distribution\, at The Chesterfield
DESCRIPTION:Every Friday\, Clothing/Houseware Distribution\, at The Chesterfield
URL:https://gcrcla.org/event/every-friday-clothing-houseware-distribution-at-the-chesterfield/2027-08-13/
LOCATION:The Chesterfield\, 4723 So. Normandie Ave.\, Los Angeles\, CA\, 90062\, United States
CATEGORIES:Chesterfield,Clothing Distribution,Every Friday,Houseware Distribution
ORGANIZER;CN="GCRCLA":MAILTO:info@gcrcla.org, ywanderson@gcrcla.org
END:VEVENT
BEGIN:VEVENT
DTSTART;TZID=UTC:20270818T100000
DTEND;TZID=UTC:20270818T150000
DTSTAMP:20260424T155141
CREATED:20250731T210025Z
LAST-MODIFIED:20250809T040032Z
UID:10001141-1818583200-1818601200@gcrcla.org
SUMMARY:Every Wednesday\, BLOOD PRESSURE SCREENS\, CLOTHING & HOUSEWARE DISTRIBUTION\, FOOD BANK LAX FOOD BAG DISTRIBUTION
DESCRIPTION:Every Wednesday\, BLOOD PRESSURE SCREENS\, CLOTHING & HOUSEWARE DISTRIBUTION\, LAX FOOD BAG DISTRIBUTION
URL:https://gcrcla.org/event/every-wednesday-blood-pressure-screens-clothing-houseware-distribution-lax-food-bag-distribution/2027-08-18/
LOCATION:Metro@Buckingham\, 4018 Buckingham Rd\, Los Angeles\, CA\, 90008\, United States
CATEGORIES:Blood Pressure Screening,Clothing Distribution,First Wednesday,LAX Food Bag Distribution,Metro@Buckingham
ORGANIZER;CN="GCRCLA":MAILTO:info@gcrcla.org, ywanderson@gcrcla.org
END:VEVENT
BEGIN:VEVENT
DTSTART;TZID=UTC:20270820T100000
DTEND;TZID=UTC:20270820T150000
DTSTAMP:20260424T155141
CREATED:20250809T044320Z
LAST-MODIFIED:20250809T044432Z
UID:10001670-1818756000-1818774000@gcrcla.org
SUMMARY:Every Friday\, Clothing/Houseware Distribution\, at The Chesterfield
DESCRIPTION:Every Friday\, Clothing/Houseware Distribution\, at The Chesterfield
URL:https://gcrcla.org/event/every-friday-clothing-houseware-distribution-at-the-chesterfield/2027-08-20/
LOCATION:The Chesterfield\, 4723 So. Normandie Ave.\, Los Angeles\, CA\, 90062\, United States
CATEGORIES:Chesterfield,Clothing Distribution,Every Friday,Houseware Distribution
ORGANIZER;CN="GCRCLA":MAILTO:info@gcrcla.org, ywanderson@gcrcla.org
END:VEVENT
END:VCALENDAR