BEGIN:VCALENDAR
VERSION:2.0
PRODID:-//GCRCLA - ECPv6.15.20//NONSGML v1.0//EN
CALSCALE:GREGORIAN
METHOD:PUBLISH
X-ORIGINAL-URL:https://gcrcla.org
X-WR-CALDESC:Events for GCRCLA
REFRESH-INTERVAL;VALUE=DURATION:PT1H
X-Robots-Tag:noindex
X-PUBLISHED-TTL:PT1H
BEGIN:VTIMEZONE
TZID:UTC
BEGIN:STANDARD
TZOFFSETFROM:+0000
TZOFFSETTO:+0000
TZNAME:UTC
DTSTART:20270101T000000
END:STANDARD
END:VTIMEZONE
BEGIN:VEVENT
DTSTART;TZID=UTC:20280927T100000
DTEND;TZID=UTC:20280927T150000
DTSTAMP:20260425T170152
CREATED:20250731T210025Z
LAST-MODIFIED:20250809T040032Z
UID:10001199-1853661600-1853679600@gcrcla.org
SUMMARY:Every Wednesday\, BLOOD PRESSURE SCREENS\, CLOTHING & HOUSEWARE DISTRIBUTION\, FOOD BANK LAX FOOD BAG DISTRIBUTION
DESCRIPTION:Every Wednesday\, BLOOD PRESSURE SCREENS\, CLOTHING & HOUSEWARE DISTRIBUTION\, LAX FOOD BAG DISTRIBUTION
URL:https://gcrcla.org/event/every-wednesday-blood-pressure-screens-clothing-houseware-distribution-lax-food-bag-distribution/2028-09-27/
LOCATION:Metro@Buckingham\, 4018 Buckingham Rd\, Los Angeles\, CA\, 90008\, United States
CATEGORIES:Blood Pressure Screening,Clothing Distribution,First Wednesday,LAX Food Bag Distribution,Metro@Buckingham
ORGANIZER;CN="GCRCLA":MAILTO:info@gcrcla.org, ywanderson@gcrcla.org
END:VEVENT
BEGIN:VEVENT
DTSTART;TZID=UTC:20280929T100000
DTEND;TZID=UTC:20280929T150000
DTSTAMP:20260425T170152
CREATED:20250809T044320Z
LAST-MODIFIED:20250809T044432Z
UID:10001728-1853834400-1853852400@gcrcla.org
SUMMARY:Every Friday\, Clothing/Houseware Distribution\, at The Chesterfield
DESCRIPTION:Every Friday\, Clothing/Houseware Distribution\, at The Chesterfield
URL:https://gcrcla.org/event/every-friday-clothing-houseware-distribution-at-the-chesterfield/2028-09-29/
LOCATION:The Chesterfield\, 4723 So. Normandie Ave.\, Los Angeles\, CA\, 90062\, United States
CATEGORIES:Chesterfield,Clothing Distribution,Every Friday,Houseware Distribution
ORGANIZER;CN="GCRCLA":MAILTO:info@gcrcla.org, ywanderson@gcrcla.org
END:VEVENT
BEGIN:VEVENT
DTSTART;TZID=UTC:20281004T100000
DTEND;TZID=UTC:20281004T150000
DTSTAMP:20260425T170152
CREATED:20250731T210025Z
LAST-MODIFIED:20250809T040032Z
UID:10001200-1854266400-1854284400@gcrcla.org
SUMMARY:Every Wednesday\, BLOOD PRESSURE SCREENS\, CLOTHING & HOUSEWARE DISTRIBUTION\, FOOD BANK LAX FOOD BAG DISTRIBUTION
DESCRIPTION:Every Wednesday\, BLOOD PRESSURE SCREENS\, CLOTHING & HOUSEWARE DISTRIBUTION\, LAX FOOD BAG DISTRIBUTION
URL:https://gcrcla.org/event/every-wednesday-blood-pressure-screens-clothing-houseware-distribution-lax-food-bag-distribution/2028-10-04/
LOCATION:Metro@Buckingham\, 4018 Buckingham Rd\, Los Angeles\, CA\, 90008\, United States
CATEGORIES:Blood Pressure Screening,Clothing Distribution,First Wednesday,LAX Food Bag Distribution,Metro@Buckingham
ORGANIZER;CN="GCRCLA":MAILTO:info@gcrcla.org, ywanderson@gcrcla.org
END:VEVENT
BEGIN:VEVENT
DTSTART;TZID=UTC:20281006T100000
DTEND;TZID=UTC:20281006T150000
DTSTAMP:20260425T170152
CREATED:20250809T044320Z
LAST-MODIFIED:20250809T044432Z
UID:10001729-1854439200-1854457200@gcrcla.org
SUMMARY:Every Friday\, Clothing/Houseware Distribution\, at The Chesterfield
DESCRIPTION:Every Friday\, Clothing/Houseware Distribution\, at The Chesterfield
URL:https://gcrcla.org/event/every-friday-clothing-houseware-distribution-at-the-chesterfield/2028-10-06/
LOCATION:The Chesterfield\, 4723 So. Normandie Ave.\, Los Angeles\, CA\, 90062\, United States
CATEGORIES:Chesterfield,Clothing Distribution,Every Friday,Houseware Distribution
ORGANIZER;CN="GCRCLA":MAILTO:info@gcrcla.org, ywanderson@gcrcla.org
END:VEVENT
BEGIN:VEVENT
DTSTART;TZID=UTC:20281011T100000
DTEND;TZID=UTC:20281011T150000
DTSTAMP:20260425T170152
CREATED:20250731T210025Z
LAST-MODIFIED:20250809T040032Z
UID:10001201-1854871200-1854889200@gcrcla.org
SUMMARY:Every Wednesday\, BLOOD PRESSURE SCREENS\, CLOTHING & HOUSEWARE DISTRIBUTION\, FOOD BANK LAX FOOD BAG DISTRIBUTION
DESCRIPTION:Every Wednesday\, BLOOD PRESSURE SCREENS\, CLOTHING & HOUSEWARE DISTRIBUTION\, LAX FOOD BAG DISTRIBUTION
URL:https://gcrcla.org/event/every-wednesday-blood-pressure-screens-clothing-houseware-distribution-lax-food-bag-distribution/2028-10-11/
LOCATION:Metro@Buckingham\, 4018 Buckingham Rd\, Los Angeles\, CA\, 90008\, United States
CATEGORIES:Blood Pressure Screening,Clothing Distribution,First Wednesday,LAX Food Bag Distribution,Metro@Buckingham
ORGANIZER;CN="GCRCLA":MAILTO:info@gcrcla.org, ywanderson@gcrcla.org
END:VEVENT
BEGIN:VEVENT
DTSTART;TZID=UTC:20281013T100000
DTEND;TZID=UTC:20281013T150000
DTSTAMP:20260425T170152
CREATED:20250809T044320Z
LAST-MODIFIED:20250809T044432Z
UID:10001730-1855044000-1855062000@gcrcla.org
SUMMARY:Every Friday\, Clothing/Houseware Distribution\, at The Chesterfield
DESCRIPTION:Every Friday\, Clothing/Houseware Distribution\, at The Chesterfield
URL:https://gcrcla.org/event/every-friday-clothing-houseware-distribution-at-the-chesterfield/2028-10-13/
LOCATION:The Chesterfield\, 4723 So. Normandie Ave.\, Los Angeles\, CA\, 90062\, United States
CATEGORIES:Chesterfield,Clothing Distribution,Every Friday,Houseware Distribution
ORGANIZER;CN="GCRCLA":MAILTO:info@gcrcla.org, ywanderson@gcrcla.org
END:VEVENT
BEGIN:VEVENT
DTSTART;TZID=UTC:20281018T100000
DTEND;TZID=UTC:20281018T150000
DTSTAMP:20260425T170152
CREATED:20250731T210025Z
LAST-MODIFIED:20250809T040032Z
UID:10001202-1855476000-1855494000@gcrcla.org
SUMMARY:Every Wednesday\, BLOOD PRESSURE SCREENS\, CLOTHING & HOUSEWARE DISTRIBUTION\, FOOD BANK LAX FOOD BAG DISTRIBUTION
DESCRIPTION:Every Wednesday\, BLOOD PRESSURE SCREENS\, CLOTHING & HOUSEWARE DISTRIBUTION\, LAX FOOD BAG DISTRIBUTION
URL:https://gcrcla.org/event/every-wednesday-blood-pressure-screens-clothing-houseware-distribution-lax-food-bag-distribution/2028-10-18/
LOCATION:Metro@Buckingham\, 4018 Buckingham Rd\, Los Angeles\, CA\, 90008\, United States
CATEGORIES:Blood Pressure Screening,Clothing Distribution,First Wednesday,LAX Food Bag Distribution,Metro@Buckingham
ORGANIZER;CN="GCRCLA":MAILTO:info@gcrcla.org, ywanderson@gcrcla.org
END:VEVENT
BEGIN:VEVENT
DTSTART;TZID=UTC:20281020T100000
DTEND;TZID=UTC:20281020T150000
DTSTAMP:20260425T170152
CREATED:20250809T044320Z
LAST-MODIFIED:20250809T044432Z
UID:10001731-1855648800-1855666800@gcrcla.org
SUMMARY:Every Friday\, Clothing/Houseware Distribution\, at The Chesterfield
DESCRIPTION:Every Friday\, Clothing/Houseware Distribution\, at The Chesterfield
URL:https://gcrcla.org/event/every-friday-clothing-houseware-distribution-at-the-chesterfield/2028-10-20/
LOCATION:The Chesterfield\, 4723 So. Normandie Ave.\, Los Angeles\, CA\, 90062\, United States
CATEGORIES:Chesterfield,Clothing Distribution,Every Friday,Houseware Distribution
ORGANIZER;CN="GCRCLA":MAILTO:info@gcrcla.org, ywanderson@gcrcla.org
END:VEVENT
BEGIN:VEVENT
DTSTART;TZID=UTC:20281025T100000
DTEND;TZID=UTC:20281025T150000
DTSTAMP:20260425T170152
CREATED:20250731T210025Z
LAST-MODIFIED:20250809T040032Z
UID:10001203-1856080800-1856098800@gcrcla.org
SUMMARY:Every Wednesday\, BLOOD PRESSURE SCREENS\, CLOTHING & HOUSEWARE DISTRIBUTION\, FOOD BANK LAX FOOD BAG DISTRIBUTION
DESCRIPTION:Every Wednesday\, BLOOD PRESSURE SCREENS\, CLOTHING & HOUSEWARE DISTRIBUTION\, LAX FOOD BAG DISTRIBUTION
URL:https://gcrcla.org/event/every-wednesday-blood-pressure-screens-clothing-houseware-distribution-lax-food-bag-distribution/2028-10-25/
LOCATION:Metro@Buckingham\, 4018 Buckingham Rd\, Los Angeles\, CA\, 90008\, United States
CATEGORIES:Blood Pressure Screening,Clothing Distribution,First Wednesday,LAX Food Bag Distribution,Metro@Buckingham
ORGANIZER;CN="GCRCLA":MAILTO:info@gcrcla.org, ywanderson@gcrcla.org
END:VEVENT
BEGIN:VEVENT
DTSTART;TZID=UTC:20281027T100000
DTEND;TZID=UTC:20281027T150000
DTSTAMP:20260425T170152
CREATED:20250809T044320Z
LAST-MODIFIED:20250809T044432Z
UID:10001732-1856253600-1856271600@gcrcla.org
SUMMARY:Every Friday\, Clothing/Houseware Distribution\, at The Chesterfield
DESCRIPTION:Every Friday\, Clothing/Houseware Distribution\, at The Chesterfield
URL:https://gcrcla.org/event/every-friday-clothing-houseware-distribution-at-the-chesterfield/2028-10-27/
LOCATION:The Chesterfield\, 4723 So. Normandie Ave.\, Los Angeles\, CA\, 90062\, United States
CATEGORIES:Chesterfield,Clothing Distribution,Every Friday,Houseware Distribution
ORGANIZER;CN="GCRCLA":MAILTO:info@gcrcla.org, ywanderson@gcrcla.org
END:VEVENT
BEGIN:VEVENT
DTSTART;TZID=UTC:20281101T100000
DTEND;TZID=UTC:20281101T150000
DTSTAMP:20260425T170152
CREATED:20250731T210025Z
LAST-MODIFIED:20250809T040032Z
UID:10001204-1856685600-1856703600@gcrcla.org
SUMMARY:Every Wednesday\, BLOOD PRESSURE SCREENS\, CLOTHING & HOUSEWARE DISTRIBUTION\, FOOD BANK LAX FOOD BAG DISTRIBUTION
DESCRIPTION:Every Wednesday\, BLOOD PRESSURE SCREENS\, CLOTHING & HOUSEWARE DISTRIBUTION\, LAX FOOD BAG DISTRIBUTION
URL:https://gcrcla.org/event/every-wednesday-blood-pressure-screens-clothing-houseware-distribution-lax-food-bag-distribution/2028-11-01/
LOCATION:Metro@Buckingham\, 4018 Buckingham Rd\, Los Angeles\, CA\, 90008\, United States
CATEGORIES:Blood Pressure Screening,Clothing Distribution,First Wednesday,LAX Food Bag Distribution,Metro@Buckingham
ORGANIZER;CN="GCRCLA":MAILTO:info@gcrcla.org, ywanderson@gcrcla.org
END:VEVENT
BEGIN:VEVENT
DTSTART;TZID=UTC:20281103T100000
DTEND;TZID=UTC:20281103T150000
DTSTAMP:20260425T170152
CREATED:20250809T044320Z
LAST-MODIFIED:20250809T044432Z
UID:10001733-1856858400-1856876400@gcrcla.org
SUMMARY:Every Friday\, Clothing/Houseware Distribution\, at The Chesterfield
DESCRIPTION:Every Friday\, Clothing/Houseware Distribution\, at The Chesterfield
URL:https://gcrcla.org/event/every-friday-clothing-houseware-distribution-at-the-chesterfield/2028-11-03/
LOCATION:The Chesterfield\, 4723 So. Normandie Ave.\, Los Angeles\, CA\, 90062\, United States
CATEGORIES:Chesterfield,Clothing Distribution,Every Friday,Houseware Distribution
ORGANIZER;CN="GCRCLA":MAILTO:info@gcrcla.org, ywanderson@gcrcla.org
END:VEVENT
BEGIN:VEVENT
DTSTART;TZID=UTC:20281108T100000
DTEND;TZID=UTC:20281108T150000
DTSTAMP:20260425T170152
CREATED:20250731T210025Z
LAST-MODIFIED:20250809T040032Z
UID:10001205-1857290400-1857308400@gcrcla.org
SUMMARY:Every Wednesday\, BLOOD PRESSURE SCREENS\, CLOTHING & HOUSEWARE DISTRIBUTION\, FOOD BANK LAX FOOD BAG DISTRIBUTION
DESCRIPTION:Every Wednesday\, BLOOD PRESSURE SCREENS\, CLOTHING & HOUSEWARE DISTRIBUTION\, LAX FOOD BAG DISTRIBUTION
URL:https://gcrcla.org/event/every-wednesday-blood-pressure-screens-clothing-houseware-distribution-lax-food-bag-distribution/2028-11-08/
LOCATION:Metro@Buckingham\, 4018 Buckingham Rd\, Los Angeles\, CA\, 90008\, United States
CATEGORIES:Blood Pressure Screening,Clothing Distribution,First Wednesday,LAX Food Bag Distribution,Metro@Buckingham
ORGANIZER;CN="GCRCLA":MAILTO:info@gcrcla.org, ywanderson@gcrcla.org
END:VEVENT
BEGIN:VEVENT
DTSTART;TZID=UTC:20281110T100000
DTEND;TZID=UTC:20281110T150000
DTSTAMP:20260425T170152
CREATED:20250809T044320Z
LAST-MODIFIED:20250809T044432Z
UID:10001734-1857463200-1857481200@gcrcla.org
SUMMARY:Every Friday\, Clothing/Houseware Distribution\, at The Chesterfield
DESCRIPTION:Every Friday\, Clothing/Houseware Distribution\, at The Chesterfield
URL:https://gcrcla.org/event/every-friday-clothing-houseware-distribution-at-the-chesterfield/2028-11-10/
LOCATION:The Chesterfield\, 4723 So. Normandie Ave.\, Los Angeles\, CA\, 90062\, United States
CATEGORIES:Chesterfield,Clothing Distribution,Every Friday,Houseware Distribution
ORGANIZER;CN="GCRCLA":MAILTO:info@gcrcla.org, ywanderson@gcrcla.org
END:VEVENT
BEGIN:VEVENT
DTSTART;TZID=UTC:20281115T100000
DTEND;TZID=UTC:20281115T150000
DTSTAMP:20260425T170152
CREATED:20250731T210025Z
LAST-MODIFIED:20250809T040032Z
UID:10001206-1857895200-1857913200@gcrcla.org
SUMMARY:Every Wednesday\, BLOOD PRESSURE SCREENS\, CLOTHING & HOUSEWARE DISTRIBUTION\, FOOD BANK LAX FOOD BAG DISTRIBUTION
DESCRIPTION:Every Wednesday\, BLOOD PRESSURE SCREENS\, CLOTHING & HOUSEWARE DISTRIBUTION\, LAX FOOD BAG DISTRIBUTION
URL:https://gcrcla.org/event/every-wednesday-blood-pressure-screens-clothing-houseware-distribution-lax-food-bag-distribution/2028-11-15/
LOCATION:Metro@Buckingham\, 4018 Buckingham Rd\, Los Angeles\, CA\, 90008\, United States
CATEGORIES:Blood Pressure Screening,Clothing Distribution,First Wednesday,LAX Food Bag Distribution,Metro@Buckingham
ORGANIZER;CN="GCRCLA":MAILTO:info@gcrcla.org, ywanderson@gcrcla.org
END:VEVENT
BEGIN:VEVENT
DTSTART;TZID=UTC:20281117T100000
DTEND;TZID=UTC:20281117T150000
DTSTAMP:20260425T170152
CREATED:20250809T044320Z
LAST-MODIFIED:20250809T044432Z
UID:10001735-1858068000-1858086000@gcrcla.org
SUMMARY:Every Friday\, Clothing/Houseware Distribution\, at The Chesterfield
DESCRIPTION:Every Friday\, Clothing/Houseware Distribution\, at The Chesterfield
URL:https://gcrcla.org/event/every-friday-clothing-houseware-distribution-at-the-chesterfield/2028-11-17/
LOCATION:The Chesterfield\, 4723 So. Normandie Ave.\, Los Angeles\, CA\, 90062\, United States
CATEGORIES:Chesterfield,Clothing Distribution,Every Friday,Houseware Distribution
ORGANIZER;CN="GCRCLA":MAILTO:info@gcrcla.org, ywanderson@gcrcla.org
END:VEVENT
BEGIN:VEVENT
DTSTART;TZID=UTC:20281122T100000
DTEND;TZID=UTC:20281122T150000
DTSTAMP:20260425T170152
CREATED:20250731T210025Z
LAST-MODIFIED:20250809T040032Z
UID:10001207-1858500000-1858518000@gcrcla.org
SUMMARY:Every Wednesday\, BLOOD PRESSURE SCREENS\, CLOTHING & HOUSEWARE DISTRIBUTION\, FOOD BANK LAX FOOD BAG DISTRIBUTION
DESCRIPTION:Every Wednesday\, BLOOD PRESSURE SCREENS\, CLOTHING & HOUSEWARE DISTRIBUTION\, LAX FOOD BAG DISTRIBUTION
URL:https://gcrcla.org/event/every-wednesday-blood-pressure-screens-clothing-houseware-distribution-lax-food-bag-distribution/2028-11-22/
LOCATION:Metro@Buckingham\, 4018 Buckingham Rd\, Los Angeles\, CA\, 90008\, United States
CATEGORIES:Blood Pressure Screening,Clothing Distribution,First Wednesday,LAX Food Bag Distribution,Metro@Buckingham
ORGANIZER;CN="GCRCLA":MAILTO:info@gcrcla.org, ywanderson@gcrcla.org
END:VEVENT
BEGIN:VEVENT
DTSTART;TZID=UTC:20281124T100000
DTEND;TZID=UTC:20281124T150000
DTSTAMP:20260425T170152
CREATED:20250809T044320Z
LAST-MODIFIED:20250809T044432Z
UID:10001736-1858672800-1858690800@gcrcla.org
SUMMARY:Every Friday\, Clothing/Houseware Distribution\, at The Chesterfield
DESCRIPTION:Every Friday\, Clothing/Houseware Distribution\, at The Chesterfield
URL:https://gcrcla.org/event/every-friday-clothing-houseware-distribution-at-the-chesterfield/2028-11-24/
LOCATION:The Chesterfield\, 4723 So. Normandie Ave.\, Los Angeles\, CA\, 90062\, United States
CATEGORIES:Chesterfield,Clothing Distribution,Every Friday,Houseware Distribution
ORGANIZER;CN="GCRCLA":MAILTO:info@gcrcla.org, ywanderson@gcrcla.org
END:VEVENT
BEGIN:VEVENT
DTSTART;TZID=UTC:20281129T100000
DTEND;TZID=UTC:20281129T150000
DTSTAMP:20260425T170152
CREATED:20250731T210025Z
LAST-MODIFIED:20250809T040032Z
UID:10001208-1859104800-1859122800@gcrcla.org
SUMMARY:Every Wednesday\, BLOOD PRESSURE SCREENS\, CLOTHING & HOUSEWARE DISTRIBUTION\, FOOD BANK LAX FOOD BAG DISTRIBUTION
DESCRIPTION:Every Wednesday\, BLOOD PRESSURE SCREENS\, CLOTHING & HOUSEWARE DISTRIBUTION\, LAX FOOD BAG DISTRIBUTION
URL:https://gcrcla.org/event/every-wednesday-blood-pressure-screens-clothing-houseware-distribution-lax-food-bag-distribution/2028-11-29/
LOCATION:Metro@Buckingham\, 4018 Buckingham Rd\, Los Angeles\, CA\, 90008\, United States
CATEGORIES:Blood Pressure Screening,Clothing Distribution,First Wednesday,LAX Food Bag Distribution,Metro@Buckingham
ORGANIZER;CN="GCRCLA":MAILTO:info@gcrcla.org, ywanderson@gcrcla.org
END:VEVENT
BEGIN:VEVENT
DTSTART;TZID=UTC:20281201T100000
DTEND;TZID=UTC:20281201T150000
DTSTAMP:20260425T170152
CREATED:20250809T044320Z
LAST-MODIFIED:20250809T044432Z
UID:10001737-1859277600-1859295600@gcrcla.org
SUMMARY:Every Friday\, Clothing/Houseware Distribution\, at The Chesterfield
DESCRIPTION:Every Friday\, Clothing/Houseware Distribution\, at The Chesterfield
URL:https://gcrcla.org/event/every-friday-clothing-houseware-distribution-at-the-chesterfield/2028-12-01/
LOCATION:The Chesterfield\, 4723 So. Normandie Ave.\, Los Angeles\, CA\, 90062\, United States
CATEGORIES:Chesterfield,Clothing Distribution,Every Friday,Houseware Distribution
ORGANIZER;CN="GCRCLA":MAILTO:info@gcrcla.org, ywanderson@gcrcla.org
END:VEVENT
BEGIN:VEVENT
DTSTART;TZID=UTC:20281206T100000
DTEND;TZID=UTC:20281206T150000
DTSTAMP:20260425T170152
CREATED:20250731T210025Z
LAST-MODIFIED:20250809T040032Z
UID:10001209-1859709600-1859727600@gcrcla.org
SUMMARY:Every Wednesday\, BLOOD PRESSURE SCREENS\, CLOTHING & HOUSEWARE DISTRIBUTION\, FOOD BANK LAX FOOD BAG DISTRIBUTION
DESCRIPTION:Every Wednesday\, BLOOD PRESSURE SCREENS\, CLOTHING & HOUSEWARE DISTRIBUTION\, LAX FOOD BAG DISTRIBUTION
URL:https://gcrcla.org/event/every-wednesday-blood-pressure-screens-clothing-houseware-distribution-lax-food-bag-distribution/2028-12-06/
LOCATION:Metro@Buckingham\, 4018 Buckingham Rd\, Los Angeles\, CA\, 90008\, United States
CATEGORIES:Blood Pressure Screening,Clothing Distribution,First Wednesday,LAX Food Bag Distribution,Metro@Buckingham
ORGANIZER;CN="GCRCLA":MAILTO:info@gcrcla.org, ywanderson@gcrcla.org
END:VEVENT
BEGIN:VEVENT
DTSTART;TZID=UTC:20281208T100000
DTEND;TZID=UTC:20281208T150000
DTSTAMP:20260425T170152
CREATED:20250809T044320Z
LAST-MODIFIED:20250809T044432Z
UID:10001738-1859882400-1859900400@gcrcla.org
SUMMARY:Every Friday\, Clothing/Houseware Distribution\, at The Chesterfield
DESCRIPTION:Every Friday\, Clothing/Houseware Distribution\, at The Chesterfield
URL:https://gcrcla.org/event/every-friday-clothing-houseware-distribution-at-the-chesterfield/2028-12-08/
LOCATION:The Chesterfield\, 4723 So. Normandie Ave.\, Los Angeles\, CA\, 90062\, United States
CATEGORIES:Chesterfield,Clothing Distribution,Every Friday,Houseware Distribution
ORGANIZER;CN="GCRCLA":MAILTO:info@gcrcla.org, ywanderson@gcrcla.org
END:VEVENT
BEGIN:VEVENT
DTSTART;TZID=UTC:20281213T100000
DTEND;TZID=UTC:20281213T150000
DTSTAMP:20260425T170152
CREATED:20250731T210025Z
LAST-MODIFIED:20250809T040032Z
UID:10001210-1860314400-1860332400@gcrcla.org
SUMMARY:Every Wednesday\, BLOOD PRESSURE SCREENS\, CLOTHING & HOUSEWARE DISTRIBUTION\, FOOD BANK LAX FOOD BAG DISTRIBUTION
DESCRIPTION:Every Wednesday\, BLOOD PRESSURE SCREENS\, CLOTHING & HOUSEWARE DISTRIBUTION\, LAX FOOD BAG DISTRIBUTION
URL:https://gcrcla.org/event/every-wednesday-blood-pressure-screens-clothing-houseware-distribution-lax-food-bag-distribution/2028-12-13/
LOCATION:Metro@Buckingham\, 4018 Buckingham Rd\, Los Angeles\, CA\, 90008\, United States
CATEGORIES:Blood Pressure Screening,Clothing Distribution,First Wednesday,LAX Food Bag Distribution,Metro@Buckingham
ORGANIZER;CN="GCRCLA":MAILTO:info@gcrcla.org, ywanderson@gcrcla.org
END:VEVENT
BEGIN:VEVENT
DTSTART;TZID=UTC:20281215T100000
DTEND;TZID=UTC:20281215T150000
DTSTAMP:20260425T170152
CREATED:20250809T044320Z
LAST-MODIFIED:20250809T044432Z
UID:10001739-1860487200-1860505200@gcrcla.org
SUMMARY:Every Friday\, Clothing/Houseware Distribution\, at The Chesterfield
DESCRIPTION:Every Friday\, Clothing/Houseware Distribution\, at The Chesterfield
URL:https://gcrcla.org/event/every-friday-clothing-houseware-distribution-at-the-chesterfield/2028-12-15/
LOCATION:The Chesterfield\, 4723 So. Normandie Ave.\, Los Angeles\, CA\, 90062\, United States
CATEGORIES:Chesterfield,Clothing Distribution,Every Friday,Houseware Distribution
ORGANIZER;CN="GCRCLA":MAILTO:info@gcrcla.org, ywanderson@gcrcla.org
END:VEVENT
BEGIN:VEVENT
DTSTART;TZID=UTC:20281220T100000
DTEND;TZID=UTC:20281220T150000
DTSTAMP:20260425T170152
CREATED:20250731T210025Z
LAST-MODIFIED:20250809T040032Z
UID:10001211-1860919200-1860937200@gcrcla.org
SUMMARY:Every Wednesday\, BLOOD PRESSURE SCREENS\, CLOTHING & HOUSEWARE DISTRIBUTION\, FOOD BANK LAX FOOD BAG DISTRIBUTION
DESCRIPTION:Every Wednesday\, BLOOD PRESSURE SCREENS\, CLOTHING & HOUSEWARE DISTRIBUTION\, LAX FOOD BAG DISTRIBUTION
URL:https://gcrcla.org/event/every-wednesday-blood-pressure-screens-clothing-houseware-distribution-lax-food-bag-distribution/2028-12-20/
LOCATION:Metro@Buckingham\, 4018 Buckingham Rd\, Los Angeles\, CA\, 90008\, United States
CATEGORIES:Blood Pressure Screening,Clothing Distribution,First Wednesday,LAX Food Bag Distribution,Metro@Buckingham
ORGANIZER;CN="GCRCLA":MAILTO:info@gcrcla.org, ywanderson@gcrcla.org
END:VEVENT
BEGIN:VEVENT
DTSTART;TZID=UTC:20281222T100000
DTEND;TZID=UTC:20281222T150000
DTSTAMP:20260425T170152
CREATED:20250809T044320Z
LAST-MODIFIED:20250809T044432Z
UID:10001740-1861092000-1861110000@gcrcla.org
SUMMARY:Every Friday\, Clothing/Houseware Distribution\, at The Chesterfield
DESCRIPTION:Every Friday\, Clothing/Houseware Distribution\, at The Chesterfield
URL:https://gcrcla.org/event/every-friday-clothing-houseware-distribution-at-the-chesterfield/2028-12-22/
LOCATION:The Chesterfield\, 4723 So. Normandie Ave.\, Los Angeles\, CA\, 90062\, United States
CATEGORIES:Chesterfield,Clothing Distribution,Every Friday,Houseware Distribution
ORGANIZER;CN="GCRCLA":MAILTO:info@gcrcla.org, ywanderson@gcrcla.org
END:VEVENT
BEGIN:VEVENT
DTSTART;TZID=UTC:20281227T100000
DTEND;TZID=UTC:20281227T150000
DTSTAMP:20260425T170152
CREATED:20250731T210025Z
LAST-MODIFIED:20250809T040032Z
UID:10001212-1861524000-1861542000@gcrcla.org
SUMMARY:Every Wednesday\, BLOOD PRESSURE SCREENS\, CLOTHING & HOUSEWARE DISTRIBUTION\, FOOD BANK LAX FOOD BAG DISTRIBUTION
DESCRIPTION:Every Wednesday\, BLOOD PRESSURE SCREENS\, CLOTHING & HOUSEWARE DISTRIBUTION\, LAX FOOD BAG DISTRIBUTION
URL:https://gcrcla.org/event/every-wednesday-blood-pressure-screens-clothing-houseware-distribution-lax-food-bag-distribution/2028-12-27/
LOCATION:Metro@Buckingham\, 4018 Buckingham Rd\, Los Angeles\, CA\, 90008\, United States
CATEGORIES:Blood Pressure Screening,Clothing Distribution,First Wednesday,LAX Food Bag Distribution,Metro@Buckingham
ORGANIZER;CN="GCRCLA":MAILTO:info@gcrcla.org, ywanderson@gcrcla.org
END:VEVENT
BEGIN:VEVENT
DTSTART;TZID=UTC:20281229T100000
DTEND;TZID=UTC:20281229T150000
DTSTAMP:20260425T170152
CREATED:20250809T044320Z
LAST-MODIFIED:20250809T044432Z
UID:10001741-1861696800-1861714800@gcrcla.org
SUMMARY:Every Friday\, Clothing/Houseware Distribution\, at The Chesterfield
DESCRIPTION:Every Friday\, Clothing/Houseware Distribution\, at The Chesterfield
URL:https://gcrcla.org/event/every-friday-clothing-houseware-distribution-at-the-chesterfield/2028-12-29/
LOCATION:The Chesterfield\, 4723 So. Normandie Ave.\, Los Angeles\, CA\, 90062\, United States
CATEGORIES:Chesterfield,Clothing Distribution,Every Friday,Houseware Distribution
ORGANIZER;CN="GCRCLA":MAILTO:info@gcrcla.org, ywanderson@gcrcla.org
END:VEVENT
BEGIN:VEVENT
DTSTART;TZID=UTC:20290103T100000
DTEND;TZID=UTC:20290103T150000
DTSTAMP:20260425T170152
CREATED:20250731T210025Z
LAST-MODIFIED:20250809T040032Z
UID:10001213-1862128800-1862146800@gcrcla.org
SUMMARY:Every Wednesday\, BLOOD PRESSURE SCREENS\, CLOTHING & HOUSEWARE DISTRIBUTION\, FOOD BANK LAX FOOD BAG DISTRIBUTION
DESCRIPTION:Every Wednesday\, BLOOD PRESSURE SCREENS\, CLOTHING & HOUSEWARE DISTRIBUTION\, LAX FOOD BAG DISTRIBUTION
URL:https://gcrcla.org/event/every-wednesday-blood-pressure-screens-clothing-houseware-distribution-lax-food-bag-distribution/2029-01-03/
LOCATION:Metro@Buckingham\, 4018 Buckingham Rd\, Los Angeles\, CA\, 90008\, United States
CATEGORIES:Blood Pressure Screening,Clothing Distribution,First Wednesday,LAX Food Bag Distribution,Metro@Buckingham
ORGANIZER;CN="GCRCLA":MAILTO:info@gcrcla.org, ywanderson@gcrcla.org
END:VEVENT
BEGIN:VEVENT
DTSTART;TZID=UTC:20290105T100000
DTEND;TZID=UTC:20290105T150000
DTSTAMP:20260425T170152
CREATED:20250809T044320Z
LAST-MODIFIED:20250809T044432Z
UID:10001742-1862301600-1862319600@gcrcla.org
SUMMARY:Every Friday\, Clothing/Houseware Distribution\, at The Chesterfield
DESCRIPTION:Every Friday\, Clothing/Houseware Distribution\, at The Chesterfield
URL:https://gcrcla.org/event/every-friday-clothing-houseware-distribution-at-the-chesterfield/2029-01-05/
LOCATION:The Chesterfield\, 4723 So. Normandie Ave.\, Los Angeles\, CA\, 90062\, United States
CATEGORIES:Chesterfield,Clothing Distribution,Every Friday,Houseware Distribution
ORGANIZER;CN="GCRCLA":MAILTO:info@gcrcla.org, ywanderson@gcrcla.org
END:VEVENT
END:VCALENDAR