BEGIN:VCALENDAR
VERSION:2.0
PRODID:-//GCRCLA - ECPv6.15.20//NONSGML v1.0//EN
CALSCALE:GREGORIAN
METHOD:PUBLISH
X-WR-CALNAME:GCRCLA
X-ORIGINAL-URL:https://gcrcla.org
X-WR-CALDESC:Events for GCRCLA
REFRESH-INTERVAL;VALUE=DURATION:PT1H
X-Robots-Tag:noindex
X-PUBLISHED-TTL:PT1H
BEGIN:VTIMEZONE
TZID:UTC
BEGIN:STANDARD
TZOFFSETFROM:+0000
TZOFFSETTO:+0000
TZNAME:UTC
DTSTART:20280101T000000
END:STANDARD
END:VTIMEZONE
BEGIN:VEVENT
DTSTART;TZID=UTC:20290425T100000
DTEND;TZID=UTC:20290425T150000
DTSTAMP:20260426T004830
CREATED:20250731T210025Z
LAST-MODIFIED:20250809T040032Z
UID:10001229-1871805600-1871823600@gcrcla.org
SUMMARY:Every Wednesday\, BLOOD PRESSURE SCREENS\, CLOTHING & HOUSEWARE DISTRIBUTION\, FOOD BANK LAX FOOD BAG DISTRIBUTION
DESCRIPTION:Every Wednesday\, BLOOD PRESSURE SCREENS\, CLOTHING & HOUSEWARE DISTRIBUTION\, LAX FOOD BAG DISTRIBUTION
URL:https://gcrcla.org/event/every-wednesday-blood-pressure-screens-clothing-houseware-distribution-lax-food-bag-distribution/2029-04-25/
LOCATION:Metro@Buckingham\, 4018 Buckingham Rd\, Los Angeles\, CA\, 90008\, United States
CATEGORIES:Blood Pressure Screening,Clothing Distribution,First Wednesday,LAX Food Bag Distribution,Metro@Buckingham
ORGANIZER;CN="GCRCLA":MAILTO:info@gcrcla.org, ywanderson@gcrcla.org
END:VEVENT
BEGIN:VEVENT
DTSTART;TZID=UTC:20290427T100000
DTEND;TZID=UTC:20290427T150000
DTSTAMP:20260426T004830
CREATED:20250809T044320Z
LAST-MODIFIED:20250809T044432Z
UID:10001758-1871978400-1871996400@gcrcla.org
SUMMARY:Every Friday\, Clothing/Houseware Distribution\, at The Chesterfield
DESCRIPTION:Every Friday\, Clothing/Houseware Distribution\, at The Chesterfield
URL:https://gcrcla.org/event/every-friday-clothing-houseware-distribution-at-the-chesterfield/2029-04-27/
LOCATION:The Chesterfield\, 4723 So. Normandie Ave.\, Los Angeles\, CA\, 90062\, United States
CATEGORIES:Chesterfield,Clothing Distribution,Every Friday,Houseware Distribution
ORGANIZER;CN="GCRCLA":MAILTO:info@gcrcla.org, ywanderson@gcrcla.org
END:VEVENT
BEGIN:VEVENT
DTSTART;TZID=UTC:20290502T100000
DTEND;TZID=UTC:20290502T150000
DTSTAMP:20260426T004830
CREATED:20250731T210025Z
LAST-MODIFIED:20250809T040032Z
UID:10001230-1872410400-1872428400@gcrcla.org
SUMMARY:Every Wednesday\, BLOOD PRESSURE SCREENS\, CLOTHING & HOUSEWARE DISTRIBUTION\, FOOD BANK LAX FOOD BAG DISTRIBUTION
DESCRIPTION:Every Wednesday\, BLOOD PRESSURE SCREENS\, CLOTHING & HOUSEWARE DISTRIBUTION\, LAX FOOD BAG DISTRIBUTION
URL:https://gcrcla.org/event/every-wednesday-blood-pressure-screens-clothing-houseware-distribution-lax-food-bag-distribution/2029-05-02/
LOCATION:Metro@Buckingham\, 4018 Buckingham Rd\, Los Angeles\, CA\, 90008\, United States
CATEGORIES:Blood Pressure Screening,Clothing Distribution,First Wednesday,LAX Food Bag Distribution,Metro@Buckingham
ORGANIZER;CN="GCRCLA":MAILTO:info@gcrcla.org, ywanderson@gcrcla.org
END:VEVENT
BEGIN:VEVENT
DTSTART;TZID=UTC:20290504T100000
DTEND;TZID=UTC:20290504T150000
DTSTAMP:20260426T004830
CREATED:20250809T044320Z
LAST-MODIFIED:20250809T044432Z
UID:10001759-1872583200-1872601200@gcrcla.org
SUMMARY:Every Friday\, Clothing/Houseware Distribution\, at The Chesterfield
DESCRIPTION:Every Friday\, Clothing/Houseware Distribution\, at The Chesterfield
URL:https://gcrcla.org/event/every-friday-clothing-houseware-distribution-at-the-chesterfield/2029-05-04/
LOCATION:The Chesterfield\, 4723 So. Normandie Ave.\, Los Angeles\, CA\, 90062\, United States
CATEGORIES:Chesterfield,Clothing Distribution,Every Friday,Houseware Distribution
ORGANIZER;CN="GCRCLA":MAILTO:info@gcrcla.org, ywanderson@gcrcla.org
END:VEVENT
BEGIN:VEVENT
DTSTART;TZID=UTC:20290509T100000
DTEND;TZID=UTC:20290509T150000
DTSTAMP:20260426T004830
CREATED:20250731T210025Z
LAST-MODIFIED:20250809T040032Z
UID:10001231-1873015200-1873033200@gcrcla.org
SUMMARY:Every Wednesday\, BLOOD PRESSURE SCREENS\, CLOTHING & HOUSEWARE DISTRIBUTION\, FOOD BANK LAX FOOD BAG DISTRIBUTION
DESCRIPTION:Every Wednesday\, BLOOD PRESSURE SCREENS\, CLOTHING & HOUSEWARE DISTRIBUTION\, LAX FOOD BAG DISTRIBUTION
URL:https://gcrcla.org/event/every-wednesday-blood-pressure-screens-clothing-houseware-distribution-lax-food-bag-distribution/2029-05-09/
LOCATION:Metro@Buckingham\, 4018 Buckingham Rd\, Los Angeles\, CA\, 90008\, United States
CATEGORIES:Blood Pressure Screening,Clothing Distribution,First Wednesday,LAX Food Bag Distribution,Metro@Buckingham
ORGANIZER;CN="GCRCLA":MAILTO:info@gcrcla.org, ywanderson@gcrcla.org
END:VEVENT
BEGIN:VEVENT
DTSTART;TZID=UTC:20290511T100000
DTEND;TZID=UTC:20290511T150000
DTSTAMP:20260426T004830
CREATED:20250809T044320Z
LAST-MODIFIED:20250809T044432Z
UID:10001760-1873188000-1873206000@gcrcla.org
SUMMARY:Every Friday\, Clothing/Houseware Distribution\, at The Chesterfield
DESCRIPTION:Every Friday\, Clothing/Houseware Distribution\, at The Chesterfield
URL:https://gcrcla.org/event/every-friday-clothing-houseware-distribution-at-the-chesterfield/2029-05-11/
LOCATION:The Chesterfield\, 4723 So. Normandie Ave.\, Los Angeles\, CA\, 90062\, United States
CATEGORIES:Chesterfield,Clothing Distribution,Every Friday,Houseware Distribution
ORGANIZER;CN="GCRCLA":MAILTO:info@gcrcla.org, ywanderson@gcrcla.org
END:VEVENT
BEGIN:VEVENT
DTSTART;TZID=UTC:20290516T100000
DTEND;TZID=UTC:20290516T150000
DTSTAMP:20260426T004830
CREATED:20250731T210025Z
LAST-MODIFIED:20250809T040032Z
UID:10001232-1873620000-1873638000@gcrcla.org
SUMMARY:Every Wednesday\, BLOOD PRESSURE SCREENS\, CLOTHING & HOUSEWARE DISTRIBUTION\, FOOD BANK LAX FOOD BAG DISTRIBUTION
DESCRIPTION:Every Wednesday\, BLOOD PRESSURE SCREENS\, CLOTHING & HOUSEWARE DISTRIBUTION\, LAX FOOD BAG DISTRIBUTION
URL:https://gcrcla.org/event/every-wednesday-blood-pressure-screens-clothing-houseware-distribution-lax-food-bag-distribution/2029-05-16/
LOCATION:Metro@Buckingham\, 4018 Buckingham Rd\, Los Angeles\, CA\, 90008\, United States
CATEGORIES:Blood Pressure Screening,Clothing Distribution,First Wednesday,LAX Food Bag Distribution,Metro@Buckingham
ORGANIZER;CN="GCRCLA":MAILTO:info@gcrcla.org, ywanderson@gcrcla.org
END:VEVENT
BEGIN:VEVENT
DTSTART;TZID=UTC:20290518T100000
DTEND;TZID=UTC:20290518T150000
DTSTAMP:20260426T004830
CREATED:20250809T044320Z
LAST-MODIFIED:20250809T044432Z
UID:10001761-1873792800-1873810800@gcrcla.org
SUMMARY:Every Friday\, Clothing/Houseware Distribution\, at The Chesterfield
DESCRIPTION:Every Friday\, Clothing/Houseware Distribution\, at The Chesterfield
URL:https://gcrcla.org/event/every-friday-clothing-houseware-distribution-at-the-chesterfield/2029-05-18/
LOCATION:The Chesterfield\, 4723 So. Normandie Ave.\, Los Angeles\, CA\, 90062\, United States
CATEGORIES:Chesterfield,Clothing Distribution,Every Friday,Houseware Distribution
ORGANIZER;CN="GCRCLA":MAILTO:info@gcrcla.org, ywanderson@gcrcla.org
END:VEVENT
BEGIN:VEVENT
DTSTART;TZID=UTC:20290523T100000
DTEND;TZID=UTC:20290523T150000
DTSTAMP:20260426T004830
CREATED:20250731T210025Z
LAST-MODIFIED:20250809T040032Z
UID:10001233-1874224800-1874242800@gcrcla.org
SUMMARY:Every Wednesday\, BLOOD PRESSURE SCREENS\, CLOTHING & HOUSEWARE DISTRIBUTION\, FOOD BANK LAX FOOD BAG DISTRIBUTION
DESCRIPTION:Every Wednesday\, BLOOD PRESSURE SCREENS\, CLOTHING & HOUSEWARE DISTRIBUTION\, LAX FOOD BAG DISTRIBUTION
URL:https://gcrcla.org/event/every-wednesday-blood-pressure-screens-clothing-houseware-distribution-lax-food-bag-distribution/2029-05-23/
LOCATION:Metro@Buckingham\, 4018 Buckingham Rd\, Los Angeles\, CA\, 90008\, United States
CATEGORIES:Blood Pressure Screening,Clothing Distribution,First Wednesday,LAX Food Bag Distribution,Metro@Buckingham
ORGANIZER;CN="GCRCLA":MAILTO:info@gcrcla.org, ywanderson@gcrcla.org
END:VEVENT
BEGIN:VEVENT
DTSTART;TZID=UTC:20290525T100000
DTEND;TZID=UTC:20290525T150000
DTSTAMP:20260426T004830
CREATED:20250809T044320Z
LAST-MODIFIED:20250809T044432Z
UID:10001762-1874397600-1874415600@gcrcla.org
SUMMARY:Every Friday\, Clothing/Houseware Distribution\, at The Chesterfield
DESCRIPTION:Every Friday\, Clothing/Houseware Distribution\, at The Chesterfield
URL:https://gcrcla.org/event/every-friday-clothing-houseware-distribution-at-the-chesterfield/2029-05-25/
LOCATION:The Chesterfield\, 4723 So. Normandie Ave.\, Los Angeles\, CA\, 90062\, United States
CATEGORIES:Chesterfield,Clothing Distribution,Every Friday,Houseware Distribution
ORGANIZER;CN="GCRCLA":MAILTO:info@gcrcla.org, ywanderson@gcrcla.org
END:VEVENT
BEGIN:VEVENT
DTSTART;TZID=UTC:20290530T100000
DTEND;TZID=UTC:20290530T150000
DTSTAMP:20260426T004830
CREATED:20250731T210025Z
LAST-MODIFIED:20250809T040032Z
UID:10001234-1874829600-1874847600@gcrcla.org
SUMMARY:Every Wednesday\, BLOOD PRESSURE SCREENS\, CLOTHING & HOUSEWARE DISTRIBUTION\, FOOD BANK LAX FOOD BAG DISTRIBUTION
DESCRIPTION:Every Wednesday\, BLOOD PRESSURE SCREENS\, CLOTHING & HOUSEWARE DISTRIBUTION\, LAX FOOD BAG DISTRIBUTION
URL:https://gcrcla.org/event/every-wednesday-blood-pressure-screens-clothing-houseware-distribution-lax-food-bag-distribution/2029-05-30/
LOCATION:Metro@Buckingham\, 4018 Buckingham Rd\, Los Angeles\, CA\, 90008\, United States
CATEGORIES:Blood Pressure Screening,Clothing Distribution,First Wednesday,LAX Food Bag Distribution,Metro@Buckingham
ORGANIZER;CN="GCRCLA":MAILTO:info@gcrcla.org, ywanderson@gcrcla.org
END:VEVENT
BEGIN:VEVENT
DTSTART;TZID=UTC:20290601T100000
DTEND;TZID=UTC:20290601T150000
DTSTAMP:20260426T004830
CREATED:20250809T044320Z
LAST-MODIFIED:20250809T044432Z
UID:10001763-1875002400-1875020400@gcrcla.org
SUMMARY:Every Friday\, Clothing/Houseware Distribution\, at The Chesterfield
DESCRIPTION:Every Friday\, Clothing/Houseware Distribution\, at The Chesterfield
URL:https://gcrcla.org/event/every-friday-clothing-houseware-distribution-at-the-chesterfield/2029-06-01/
LOCATION:The Chesterfield\, 4723 So. Normandie Ave.\, Los Angeles\, CA\, 90062\, United States
CATEGORIES:Chesterfield,Clothing Distribution,Every Friday,Houseware Distribution
ORGANIZER;CN="GCRCLA":MAILTO:info@gcrcla.org, ywanderson@gcrcla.org
END:VEVENT
BEGIN:VEVENT
DTSTART;TZID=UTC:20290606T100000
DTEND;TZID=UTC:20290606T150000
DTSTAMP:20260426T004830
CREATED:20250731T210025Z
LAST-MODIFIED:20250809T040032Z
UID:10001235-1875434400-1875452400@gcrcla.org
SUMMARY:Every Wednesday\, BLOOD PRESSURE SCREENS\, CLOTHING & HOUSEWARE DISTRIBUTION\, FOOD BANK LAX FOOD BAG DISTRIBUTION
DESCRIPTION:Every Wednesday\, BLOOD PRESSURE SCREENS\, CLOTHING & HOUSEWARE DISTRIBUTION\, LAX FOOD BAG DISTRIBUTION
URL:https://gcrcla.org/event/every-wednesday-blood-pressure-screens-clothing-houseware-distribution-lax-food-bag-distribution/2029-06-06/
LOCATION:Metro@Buckingham\, 4018 Buckingham Rd\, Los Angeles\, CA\, 90008\, United States
CATEGORIES:Blood Pressure Screening,Clothing Distribution,First Wednesday,LAX Food Bag Distribution,Metro@Buckingham
ORGANIZER;CN="GCRCLA":MAILTO:info@gcrcla.org, ywanderson@gcrcla.org
END:VEVENT
BEGIN:VEVENT
DTSTART;TZID=UTC:20290608T100000
DTEND;TZID=UTC:20290608T150000
DTSTAMP:20260426T004830
CREATED:20250809T044320Z
LAST-MODIFIED:20250809T044432Z
UID:10001764-1875607200-1875625200@gcrcla.org
SUMMARY:Every Friday\, Clothing/Houseware Distribution\, at The Chesterfield
DESCRIPTION:Every Friday\, Clothing/Houseware Distribution\, at The Chesterfield
URL:https://gcrcla.org/event/every-friday-clothing-houseware-distribution-at-the-chesterfield/2029-06-08/
LOCATION:The Chesterfield\, 4723 So. Normandie Ave.\, Los Angeles\, CA\, 90062\, United States
CATEGORIES:Chesterfield,Clothing Distribution,Every Friday,Houseware Distribution
ORGANIZER;CN="GCRCLA":MAILTO:info@gcrcla.org, ywanderson@gcrcla.org
END:VEVENT
BEGIN:VEVENT
DTSTART;TZID=UTC:20290613T100000
DTEND;TZID=UTC:20290613T150000
DTSTAMP:20260426T004830
CREATED:20250731T210025Z
LAST-MODIFIED:20250809T040032Z
UID:10001236-1876039200-1876057200@gcrcla.org
SUMMARY:Every Wednesday\, BLOOD PRESSURE SCREENS\, CLOTHING & HOUSEWARE DISTRIBUTION\, FOOD BANK LAX FOOD BAG DISTRIBUTION
DESCRIPTION:Every Wednesday\, BLOOD PRESSURE SCREENS\, CLOTHING & HOUSEWARE DISTRIBUTION\, LAX FOOD BAG DISTRIBUTION
URL:https://gcrcla.org/event/every-wednesday-blood-pressure-screens-clothing-houseware-distribution-lax-food-bag-distribution/2029-06-13/
LOCATION:Metro@Buckingham\, 4018 Buckingham Rd\, Los Angeles\, CA\, 90008\, United States
CATEGORIES:Blood Pressure Screening,Clothing Distribution,First Wednesday,LAX Food Bag Distribution,Metro@Buckingham
ORGANIZER;CN="GCRCLA":MAILTO:info@gcrcla.org, ywanderson@gcrcla.org
END:VEVENT
BEGIN:VEVENT
DTSTART;TZID=UTC:20290615T100000
DTEND;TZID=UTC:20290615T150000
DTSTAMP:20260426T004830
CREATED:20250809T044320Z
LAST-MODIFIED:20250809T044432Z
UID:10001765-1876212000-1876230000@gcrcla.org
SUMMARY:Every Friday\, Clothing/Houseware Distribution\, at The Chesterfield
DESCRIPTION:Every Friday\, Clothing/Houseware Distribution\, at The Chesterfield
URL:https://gcrcla.org/event/every-friday-clothing-houseware-distribution-at-the-chesterfield/2029-06-15/
LOCATION:The Chesterfield\, 4723 So. Normandie Ave.\, Los Angeles\, CA\, 90062\, United States
CATEGORIES:Chesterfield,Clothing Distribution,Every Friday,Houseware Distribution
ORGANIZER;CN="GCRCLA":MAILTO:info@gcrcla.org, ywanderson@gcrcla.org
END:VEVENT
BEGIN:VEVENT
DTSTART;TZID=UTC:20290620T100000
DTEND;TZID=UTC:20290620T150000
DTSTAMP:20260426T004830
CREATED:20250731T210025Z
LAST-MODIFIED:20250809T040032Z
UID:10001237-1876644000-1876662000@gcrcla.org
SUMMARY:Every Wednesday\, BLOOD PRESSURE SCREENS\, CLOTHING & HOUSEWARE DISTRIBUTION\, FOOD BANK LAX FOOD BAG DISTRIBUTION
DESCRIPTION:Every Wednesday\, BLOOD PRESSURE SCREENS\, CLOTHING & HOUSEWARE DISTRIBUTION\, LAX FOOD BAG DISTRIBUTION
URL:https://gcrcla.org/event/every-wednesday-blood-pressure-screens-clothing-houseware-distribution-lax-food-bag-distribution/2029-06-20/
LOCATION:Metro@Buckingham\, 4018 Buckingham Rd\, Los Angeles\, CA\, 90008\, United States
CATEGORIES:Blood Pressure Screening,Clothing Distribution,First Wednesday,LAX Food Bag Distribution,Metro@Buckingham
ORGANIZER;CN="GCRCLA":MAILTO:info@gcrcla.org, ywanderson@gcrcla.org
END:VEVENT
BEGIN:VEVENT
DTSTART;TZID=UTC:20290622T100000
DTEND;TZID=UTC:20290622T150000
DTSTAMP:20260426T004830
CREATED:20250809T044320Z
LAST-MODIFIED:20250809T044432Z
UID:10001766-1876816800-1876834800@gcrcla.org
SUMMARY:Every Friday\, Clothing/Houseware Distribution\, at The Chesterfield
DESCRIPTION:Every Friday\, Clothing/Houseware Distribution\, at The Chesterfield
URL:https://gcrcla.org/event/every-friday-clothing-houseware-distribution-at-the-chesterfield/2029-06-22/
LOCATION:The Chesterfield\, 4723 So. Normandie Ave.\, Los Angeles\, CA\, 90062\, United States
CATEGORIES:Chesterfield,Clothing Distribution,Every Friday,Houseware Distribution
ORGANIZER;CN="GCRCLA":MAILTO:info@gcrcla.org, ywanderson@gcrcla.org
END:VEVENT
BEGIN:VEVENT
DTSTART;TZID=UTC:20290627T100000
DTEND;TZID=UTC:20290627T150000
DTSTAMP:20260426T004830
CREATED:20250731T210025Z
LAST-MODIFIED:20250809T040032Z
UID:10001238-1877248800-1877266800@gcrcla.org
SUMMARY:Every Wednesday\, BLOOD PRESSURE SCREENS\, CLOTHING & HOUSEWARE DISTRIBUTION\, FOOD BANK LAX FOOD BAG DISTRIBUTION
DESCRIPTION:Every Wednesday\, BLOOD PRESSURE SCREENS\, CLOTHING & HOUSEWARE DISTRIBUTION\, LAX FOOD BAG DISTRIBUTION
URL:https://gcrcla.org/event/every-wednesday-blood-pressure-screens-clothing-houseware-distribution-lax-food-bag-distribution/2029-06-27/
LOCATION:Metro@Buckingham\, 4018 Buckingham Rd\, Los Angeles\, CA\, 90008\, United States
CATEGORIES:Blood Pressure Screening,Clothing Distribution,First Wednesday,LAX Food Bag Distribution,Metro@Buckingham
ORGANIZER;CN="GCRCLA":MAILTO:info@gcrcla.org, ywanderson@gcrcla.org
END:VEVENT
BEGIN:VEVENT
DTSTART;TZID=UTC:20290629T100000
DTEND;TZID=UTC:20290629T150000
DTSTAMP:20260426T004830
CREATED:20250809T044320Z
LAST-MODIFIED:20250809T044432Z
UID:10001767-1877421600-1877439600@gcrcla.org
SUMMARY:Every Friday\, Clothing/Houseware Distribution\, at The Chesterfield
DESCRIPTION:Every Friday\, Clothing/Houseware Distribution\, at The Chesterfield
URL:https://gcrcla.org/event/every-friday-clothing-houseware-distribution-at-the-chesterfield/2029-06-29/
LOCATION:The Chesterfield\, 4723 So. Normandie Ave.\, Los Angeles\, CA\, 90062\, United States
CATEGORIES:Chesterfield,Clothing Distribution,Every Friday,Houseware Distribution
ORGANIZER;CN="GCRCLA":MAILTO:info@gcrcla.org, ywanderson@gcrcla.org
END:VEVENT
BEGIN:VEVENT
DTSTART;TZID=UTC:20290704T100000
DTEND;TZID=UTC:20290704T150000
DTSTAMP:20260426T004830
CREATED:20250731T210025Z
LAST-MODIFIED:20250809T040032Z
UID:10001239-1877853600-1877871600@gcrcla.org
SUMMARY:Every Wednesday\, BLOOD PRESSURE SCREENS\, CLOTHING & HOUSEWARE DISTRIBUTION\, FOOD BANK LAX FOOD BAG DISTRIBUTION
DESCRIPTION:Every Wednesday\, BLOOD PRESSURE SCREENS\, CLOTHING & HOUSEWARE DISTRIBUTION\, LAX FOOD BAG DISTRIBUTION
URL:https://gcrcla.org/event/every-wednesday-blood-pressure-screens-clothing-houseware-distribution-lax-food-bag-distribution/2029-07-04/
LOCATION:Metro@Buckingham\, 4018 Buckingham Rd\, Los Angeles\, CA\, 90008\, United States
CATEGORIES:Blood Pressure Screening,Clothing Distribution,First Wednesday,LAX Food Bag Distribution,Metro@Buckingham
ORGANIZER;CN="GCRCLA":MAILTO:info@gcrcla.org, ywanderson@gcrcla.org
END:VEVENT
BEGIN:VEVENT
DTSTART;TZID=UTC:20290706T100000
DTEND;TZID=UTC:20290706T150000
DTSTAMP:20260426T004830
CREATED:20250809T044320Z
LAST-MODIFIED:20250809T044432Z
UID:10001768-1878026400-1878044400@gcrcla.org
SUMMARY:Every Friday\, Clothing/Houseware Distribution\, at The Chesterfield
DESCRIPTION:Every Friday\, Clothing/Houseware Distribution\, at The Chesterfield
URL:https://gcrcla.org/event/every-friday-clothing-houseware-distribution-at-the-chesterfield/2029-07-06/
LOCATION:The Chesterfield\, 4723 So. Normandie Ave.\, Los Angeles\, CA\, 90062\, United States
CATEGORIES:Chesterfield,Clothing Distribution,Every Friday,Houseware Distribution
ORGANIZER;CN="GCRCLA":MAILTO:info@gcrcla.org, ywanderson@gcrcla.org
END:VEVENT
BEGIN:VEVENT
DTSTART;TZID=UTC:20290711T100000
DTEND;TZID=UTC:20290711T150000
DTSTAMP:20260426T004830
CREATED:20250731T210025Z
LAST-MODIFIED:20250809T040032Z
UID:10001240-1878458400-1878476400@gcrcla.org
SUMMARY:Every Wednesday\, BLOOD PRESSURE SCREENS\, CLOTHING & HOUSEWARE DISTRIBUTION\, FOOD BANK LAX FOOD BAG DISTRIBUTION
DESCRIPTION:Every Wednesday\, BLOOD PRESSURE SCREENS\, CLOTHING & HOUSEWARE DISTRIBUTION\, LAX FOOD BAG DISTRIBUTION
URL:https://gcrcla.org/event/every-wednesday-blood-pressure-screens-clothing-houseware-distribution-lax-food-bag-distribution/2029-07-11/
LOCATION:Metro@Buckingham\, 4018 Buckingham Rd\, Los Angeles\, CA\, 90008\, United States
CATEGORIES:Blood Pressure Screening,Clothing Distribution,First Wednesday,LAX Food Bag Distribution,Metro@Buckingham
ORGANIZER;CN="GCRCLA":MAILTO:info@gcrcla.org, ywanderson@gcrcla.org
END:VEVENT
BEGIN:VEVENT
DTSTART;TZID=UTC:20290713T100000
DTEND;TZID=UTC:20290713T150000
DTSTAMP:20260426T004830
CREATED:20250809T044320Z
LAST-MODIFIED:20250809T044432Z
UID:10001769-1878631200-1878649200@gcrcla.org
SUMMARY:Every Friday\, Clothing/Houseware Distribution\, at The Chesterfield
DESCRIPTION:Every Friday\, Clothing/Houseware Distribution\, at The Chesterfield
URL:https://gcrcla.org/event/every-friday-clothing-houseware-distribution-at-the-chesterfield/2029-07-13/
LOCATION:The Chesterfield\, 4723 So. Normandie Ave.\, Los Angeles\, CA\, 90062\, United States
CATEGORIES:Chesterfield,Clothing Distribution,Every Friday,Houseware Distribution
ORGANIZER;CN="GCRCLA":MAILTO:info@gcrcla.org, ywanderson@gcrcla.org
END:VEVENT
BEGIN:VEVENT
DTSTART;TZID=UTC:20290718T100000
DTEND;TZID=UTC:20290718T150000
DTSTAMP:20260426T004830
CREATED:20250731T210025Z
LAST-MODIFIED:20250809T040032Z
UID:10001241-1879063200-1879081200@gcrcla.org
SUMMARY:Every Wednesday\, BLOOD PRESSURE SCREENS\, CLOTHING & HOUSEWARE DISTRIBUTION\, FOOD BANK LAX FOOD BAG DISTRIBUTION
DESCRIPTION:Every Wednesday\, BLOOD PRESSURE SCREENS\, CLOTHING & HOUSEWARE DISTRIBUTION\, LAX FOOD BAG DISTRIBUTION
URL:https://gcrcla.org/event/every-wednesday-blood-pressure-screens-clothing-houseware-distribution-lax-food-bag-distribution/2029-07-18/
LOCATION:Metro@Buckingham\, 4018 Buckingham Rd\, Los Angeles\, CA\, 90008\, United States
CATEGORIES:Blood Pressure Screening,Clothing Distribution,First Wednesday,LAX Food Bag Distribution,Metro@Buckingham
ORGANIZER;CN="GCRCLA":MAILTO:info@gcrcla.org, ywanderson@gcrcla.org
END:VEVENT
BEGIN:VEVENT
DTSTART;TZID=UTC:20290720T100000
DTEND;TZID=UTC:20290720T150000
DTSTAMP:20260426T004830
CREATED:20250809T044320Z
LAST-MODIFIED:20250809T044432Z
UID:10001770-1879236000-1879254000@gcrcla.org
SUMMARY:Every Friday\, Clothing/Houseware Distribution\, at The Chesterfield
DESCRIPTION:Every Friday\, Clothing/Houseware Distribution\, at The Chesterfield
URL:https://gcrcla.org/event/every-friday-clothing-houseware-distribution-at-the-chesterfield/2029-07-20/
LOCATION:The Chesterfield\, 4723 So. Normandie Ave.\, Los Angeles\, CA\, 90062\, United States
CATEGORIES:Chesterfield,Clothing Distribution,Every Friday,Houseware Distribution
ORGANIZER;CN="GCRCLA":MAILTO:info@gcrcla.org, ywanderson@gcrcla.org
END:VEVENT
BEGIN:VEVENT
DTSTART;TZID=UTC:20290725T100000
DTEND;TZID=UTC:20290725T150000
DTSTAMP:20260426T004830
CREATED:20250731T210025Z
LAST-MODIFIED:20250809T040032Z
UID:10001242-1879668000-1879686000@gcrcla.org
SUMMARY:Every Wednesday\, BLOOD PRESSURE SCREENS\, CLOTHING & HOUSEWARE DISTRIBUTION\, FOOD BANK LAX FOOD BAG DISTRIBUTION
DESCRIPTION:Every Wednesday\, BLOOD PRESSURE SCREENS\, CLOTHING & HOUSEWARE DISTRIBUTION\, LAX FOOD BAG DISTRIBUTION
URL:https://gcrcla.org/event/every-wednesday-blood-pressure-screens-clothing-houseware-distribution-lax-food-bag-distribution/2029-07-25/
LOCATION:Metro@Buckingham\, 4018 Buckingham Rd\, Los Angeles\, CA\, 90008\, United States
CATEGORIES:Blood Pressure Screening,Clothing Distribution,First Wednesday,LAX Food Bag Distribution,Metro@Buckingham
ORGANIZER;CN="GCRCLA":MAILTO:info@gcrcla.org, ywanderson@gcrcla.org
END:VEVENT
BEGIN:VEVENT
DTSTART;TZID=UTC:20290727T100000
DTEND;TZID=UTC:20290727T150000
DTSTAMP:20260426T004830
CREATED:20250809T044320Z
LAST-MODIFIED:20250809T044432Z
UID:10001771-1879840800-1879858800@gcrcla.org
SUMMARY:Every Friday\, Clothing/Houseware Distribution\, at The Chesterfield
DESCRIPTION:Every Friday\, Clothing/Houseware Distribution\, at The Chesterfield
URL:https://gcrcla.org/event/every-friday-clothing-houseware-distribution-at-the-chesterfield/2029-07-27/
LOCATION:The Chesterfield\, 4723 So. Normandie Ave.\, Los Angeles\, CA\, 90062\, United States
CATEGORIES:Chesterfield,Clothing Distribution,Every Friday,Houseware Distribution
ORGANIZER;CN="GCRCLA":MAILTO:info@gcrcla.org, ywanderson@gcrcla.org
END:VEVENT
BEGIN:VEVENT
DTSTART;TZID=UTC:20290801T100000
DTEND;TZID=UTC:20290801T150000
DTSTAMP:20260426T004830
CREATED:20250731T210025Z
LAST-MODIFIED:20250809T040032Z
UID:10001243-1880272800-1880290800@gcrcla.org
SUMMARY:Every Wednesday\, BLOOD PRESSURE SCREENS\, CLOTHING & HOUSEWARE DISTRIBUTION\, FOOD BANK LAX FOOD BAG DISTRIBUTION
DESCRIPTION:Every Wednesday\, BLOOD PRESSURE SCREENS\, CLOTHING & HOUSEWARE DISTRIBUTION\, LAX FOOD BAG DISTRIBUTION
URL:https://gcrcla.org/event/every-wednesday-blood-pressure-screens-clothing-houseware-distribution-lax-food-bag-distribution/2029-08-01/
LOCATION:Metro@Buckingham\, 4018 Buckingham Rd\, Los Angeles\, CA\, 90008\, United States
CATEGORIES:Blood Pressure Screening,Clothing Distribution,First Wednesday,LAX Food Bag Distribution,Metro@Buckingham
ORGANIZER;CN="GCRCLA":MAILTO:info@gcrcla.org, ywanderson@gcrcla.org
END:VEVENT
BEGIN:VEVENT
DTSTART;TZID=UTC:20290803T100000
DTEND;TZID=UTC:20290803T150000
DTSTAMP:20260426T004830
CREATED:20250809T044320Z
LAST-MODIFIED:20250809T044432Z
UID:10001772-1880445600-1880463600@gcrcla.org
SUMMARY:Every Friday\, Clothing/Houseware Distribution\, at The Chesterfield
DESCRIPTION:Every Friday\, Clothing/Houseware Distribution\, at The Chesterfield
URL:https://gcrcla.org/event/every-friday-clothing-houseware-distribution-at-the-chesterfield/2029-08-03/
LOCATION:The Chesterfield\, 4723 So. Normandie Ave.\, Los Angeles\, CA\, 90062\, United States
CATEGORIES:Chesterfield,Clothing Distribution,Every Friday,Houseware Distribution
ORGANIZER;CN="GCRCLA":MAILTO:info@gcrcla.org, ywanderson@gcrcla.org
END:VEVENT
END:VCALENDAR