BEGIN:VCALENDAR
VERSION:2.0
PRODID:-//GCRCLA - ECPv6.15.20//NONSGML v1.0//EN
CALSCALE:GREGORIAN
METHOD:PUBLISH
X-WR-CALNAME:GCRCLA
X-ORIGINAL-URL:https://gcrcla.org
X-WR-CALDESC:Events for GCRCLA
REFRESH-INTERVAL;VALUE=DURATION:PT1H
X-Robots-Tag:noindex
X-PUBLISHED-TTL:PT1H
BEGIN:VTIMEZONE
TZID:UTC
BEGIN:STANDARD
TZOFFSETFROM:+0000
TZOFFSETTO:+0000
TZNAME:UTC
DTSTART:20240101T000000
END:STANDARD
END:VTIMEZONE
BEGIN:VEVENT
DTSTART;TZID=UTC:20250513T130000
DTEND;TZID=UTC:20250513T150000
DTSTAMP:20260425T004325
CREATED:20250509T024425Z
LAST-MODIFIED:20250509T024444Z
UID:10000156-1747141200-1747148400@gcrcla.org
SUMMARY:Second Tuesday
DESCRIPTION:Mother’s Day Celebration- Depot 1:00 to 3:00
URL:https://gcrcla.org/event/second-tuesday-6/
LOCATION:Westmont Apartments\, 4126 Arlington Ave\, Los Angeles\, CA\, United States
CATEGORIES:Second Tuesday
ORGANIZER;CN="GCRCLA":MAILTO:info@gcrcla.org, ywanderson@gcrcla.org
END:VEVENT
END:VCALENDAR