BEGIN:VCALENDAR
VERSION:2.0
PRODID:-//GCRCLA - ECPv6.15.20//NONSGML v1.0//EN
CALSCALE:GREGORIAN
METHOD:PUBLISH
X-WR-CALNAME:GCRCLA
X-ORIGINAL-URL:https://gcrcla.org
X-WR-CALDESC:Events for GCRCLA
REFRESH-INTERVAL;VALUE=DURATION:PT1H
X-Robots-Tag:noindex
X-PUBLISHED-TTL:PT1H
BEGIN:VTIMEZONE
TZID:UTC
BEGIN:STANDARD
TZOFFSETFROM:+0000
TZOFFSETTO:+0000
TZNAME:UTC
DTSTART:20260101T000000
END:STANDARD
END:VTIMEZONE
BEGIN:VEVENT
DTSTART;TZID=UTC:20270101T100000
DTEND;TZID=UTC:20270101T140000
DTSTAMP:20260424T070606
CREATED:20250809T043316Z
LAST-MODIFIED:20250809T043350Z
UID:10001373-1798797600-1798812000@gcrcla.org
SUMMARY:Every Friday\, BLOOD PRESSURE SCREENS\, at The Chesterfield
DESCRIPTION:Every Friday\, BLOOD PRESSURE SCREENS\, at The Chesterfield
URL:https://gcrcla.org/event/every-friday-blood-pressure-screens-at-the-chesterfield/2027-01-01/
LOCATION:The Chesterfield\, 4723 So. Normandie Ave.\, Los Angeles\, CA\, 90062\, United States
CATEGORIES:Blood Pressure Screening,Chesterfield,Every Friday
ORGANIZER;CN="GCRCLA":MAILTO:info@gcrcla.org, ywanderson@gcrcla.org
END:VEVENT
BEGIN:VEVENT
DTSTART;TZID=UTC:20270101T100000
DTEND;TZID=UTC:20270101T150000
DTSTAMP:20260424T070606
CREATED:20250809T044320Z
LAST-MODIFIED:20250809T044432Z
UID:10001637-1798797600-1798815600@gcrcla.org
SUMMARY:Every Friday\, Clothing/Houseware Distribution\, at The Chesterfield
DESCRIPTION:Every Friday\, Clothing/Houseware Distribution\, at The Chesterfield
URL:https://gcrcla.org/event/every-friday-clothing-houseware-distribution-at-the-chesterfield/2027-01-01/
LOCATION:The Chesterfield\, 4723 So. Normandie Ave.\, Los Angeles\, CA\, 90062\, United States
CATEGORIES:Chesterfield,Clothing Distribution,Every Friday,Houseware Distribution
ORGANIZER;CN="GCRCLA":MAILTO:info@gcrcla.org, ywanderson@gcrcla.org
END:VEVENT
BEGIN:VEVENT
DTSTART;TZID=UTC:20270108T100000
DTEND;TZID=UTC:20270108T140000
DTSTAMP:20260424T070606
CREATED:20250809T043316Z
LAST-MODIFIED:20250809T043350Z
UID:10001374-1799402400-1799416800@gcrcla.org
SUMMARY:Every Friday\, BLOOD PRESSURE SCREENS\, at The Chesterfield
DESCRIPTION:Every Friday\, BLOOD PRESSURE SCREENS\, at The Chesterfield
URL:https://gcrcla.org/event/every-friday-blood-pressure-screens-at-the-chesterfield/2027-01-08/
LOCATION:The Chesterfield\, 4723 So. Normandie Ave.\, Los Angeles\, CA\, 90062\, United States
CATEGORIES:Blood Pressure Screening,Chesterfield,Every Friday
ORGANIZER;CN="GCRCLA":MAILTO:info@gcrcla.org, ywanderson@gcrcla.org
END:VEVENT
BEGIN:VEVENT
DTSTART;TZID=UTC:20270108T100000
DTEND;TZID=UTC:20270108T150000
DTSTAMP:20260424T070606
CREATED:20250809T044320Z
LAST-MODIFIED:20250809T044432Z
UID:10001638-1799402400-1799420400@gcrcla.org
SUMMARY:Every Friday\, Clothing/Houseware Distribution\, at The Chesterfield
DESCRIPTION:Every Friday\, Clothing/Houseware Distribution\, at The Chesterfield
URL:https://gcrcla.org/event/every-friday-clothing-houseware-distribution-at-the-chesterfield/2027-01-08/
LOCATION:The Chesterfield\, 4723 So. Normandie Ave.\, Los Angeles\, CA\, 90062\, United States
CATEGORIES:Chesterfield,Clothing Distribution,Every Friday,Houseware Distribution
ORGANIZER;CN="GCRCLA":MAILTO:info@gcrcla.org, ywanderson@gcrcla.org
END:VEVENT
BEGIN:VEVENT
DTSTART;TZID=UTC:20270115T100000
DTEND;TZID=UTC:20270115T140000
DTSTAMP:20260424T070606
CREATED:20250809T043316Z
LAST-MODIFIED:20250809T043350Z
UID:10001375-1800007200-1800021600@gcrcla.org
SUMMARY:Every Friday\, BLOOD PRESSURE SCREENS\, at The Chesterfield
DESCRIPTION:Every Friday\, BLOOD PRESSURE SCREENS\, at The Chesterfield
URL:https://gcrcla.org/event/every-friday-blood-pressure-screens-at-the-chesterfield/2027-01-15/
LOCATION:The Chesterfield\, 4723 So. Normandie Ave.\, Los Angeles\, CA\, 90062\, United States
CATEGORIES:Blood Pressure Screening,Chesterfield,Every Friday
ORGANIZER;CN="GCRCLA":MAILTO:info@gcrcla.org, ywanderson@gcrcla.org
END:VEVENT
BEGIN:VEVENT
DTSTART;TZID=UTC:20270115T100000
DTEND;TZID=UTC:20270115T150000
DTSTAMP:20260424T070606
CREATED:20250809T044320Z
LAST-MODIFIED:20250809T044432Z
UID:10001639-1800007200-1800025200@gcrcla.org
SUMMARY:Every Friday\, Clothing/Houseware Distribution\, at The Chesterfield
DESCRIPTION:Every Friday\, Clothing/Houseware Distribution\, at The Chesterfield
URL:https://gcrcla.org/event/every-friday-clothing-houseware-distribution-at-the-chesterfield/2027-01-15/
LOCATION:The Chesterfield\, 4723 So. Normandie Ave.\, Los Angeles\, CA\, 90062\, United States
CATEGORIES:Chesterfield,Clothing Distribution,Every Friday,Houseware Distribution
ORGANIZER;CN="GCRCLA":MAILTO:info@gcrcla.org, ywanderson@gcrcla.org
END:VEVENT
BEGIN:VEVENT
DTSTART;TZID=UTC:20270122T100000
DTEND;TZID=UTC:20270122T140000
DTSTAMP:20260424T070606
CREATED:20250809T043316Z
LAST-MODIFIED:20250809T043350Z
UID:10001376-1800612000-1800626400@gcrcla.org
SUMMARY:Every Friday\, BLOOD PRESSURE SCREENS\, at The Chesterfield
DESCRIPTION:Every Friday\, BLOOD PRESSURE SCREENS\, at The Chesterfield
URL:https://gcrcla.org/event/every-friday-blood-pressure-screens-at-the-chesterfield/2027-01-22/
LOCATION:The Chesterfield\, 4723 So. Normandie Ave.\, Los Angeles\, CA\, 90062\, United States
CATEGORIES:Blood Pressure Screening,Chesterfield,Every Friday
ORGANIZER;CN="GCRCLA":MAILTO:info@gcrcla.org, ywanderson@gcrcla.org
END:VEVENT
BEGIN:VEVENT
DTSTART;TZID=UTC:20270122T100000
DTEND;TZID=UTC:20270122T150000
DTSTAMP:20260424T070606
CREATED:20250809T044320Z
LAST-MODIFIED:20250809T044432Z
UID:10001640-1800612000-1800630000@gcrcla.org
SUMMARY:Every Friday\, Clothing/Houseware Distribution\, at The Chesterfield
DESCRIPTION:Every Friday\, Clothing/Houseware Distribution\, at The Chesterfield
URL:https://gcrcla.org/event/every-friday-clothing-houseware-distribution-at-the-chesterfield/2027-01-22/
LOCATION:The Chesterfield\, 4723 So. Normandie Ave.\, Los Angeles\, CA\, 90062\, United States
CATEGORIES:Chesterfield,Clothing Distribution,Every Friday,Houseware Distribution
ORGANIZER;CN="GCRCLA":MAILTO:info@gcrcla.org, ywanderson@gcrcla.org
END:VEVENT
BEGIN:VEVENT
DTSTART;TZID=UTC:20270129T100000
DTEND;TZID=UTC:20270129T140000
DTSTAMP:20260424T070606
CREATED:20250809T043316Z
LAST-MODIFIED:20250809T043350Z
UID:10001377-1801216800-1801231200@gcrcla.org
SUMMARY:Every Friday\, BLOOD PRESSURE SCREENS\, at The Chesterfield
DESCRIPTION:Every Friday\, BLOOD PRESSURE SCREENS\, at The Chesterfield
URL:https://gcrcla.org/event/every-friday-blood-pressure-screens-at-the-chesterfield/2027-01-29/
LOCATION:The Chesterfield\, 4723 So. Normandie Ave.\, Los Angeles\, CA\, 90062\, United States
CATEGORIES:Blood Pressure Screening,Chesterfield,Every Friday
ORGANIZER;CN="GCRCLA":MAILTO:info@gcrcla.org, ywanderson@gcrcla.org
END:VEVENT
BEGIN:VEVENT
DTSTART;TZID=UTC:20270129T100000
DTEND;TZID=UTC:20270129T150000
DTSTAMP:20260424T070606
CREATED:20250809T044320Z
LAST-MODIFIED:20250809T044432Z
UID:10001641-1801216800-1801234800@gcrcla.org
SUMMARY:Every Friday\, Clothing/Houseware Distribution\, at The Chesterfield
DESCRIPTION:Every Friday\, Clothing/Houseware Distribution\, at The Chesterfield
URL:https://gcrcla.org/event/every-friday-clothing-houseware-distribution-at-the-chesterfield/2027-01-29/
LOCATION:The Chesterfield\, 4723 So. Normandie Ave.\, Los Angeles\, CA\, 90062\, United States
CATEGORIES:Chesterfield,Clothing Distribution,Every Friday,Houseware Distribution
ORGANIZER;CN="GCRCLA":MAILTO:info@gcrcla.org, ywanderson@gcrcla.org
END:VEVENT
END:VCALENDAR