BEGIN:VCALENDAR
VERSION:2.0
PRODID:-//GCRCLA - ECPv6.15.20//NONSGML v1.0//EN
CALSCALE:GREGORIAN
METHOD:PUBLISH
X-ORIGINAL-URL:https://gcrcla.org
X-WR-CALDESC:Events for GCRCLA
REFRESH-INTERVAL;VALUE=DURATION:PT1H
X-Robots-Tag:noindex
X-PUBLISHED-TTL:PT1H
BEGIN:VTIMEZONE
TZID:UTC
BEGIN:STANDARD
TZOFFSETFROM:+0000
TZOFFSETTO:+0000
TZNAME:UTC
DTSTART:20240101T000000
END:STANDARD
END:VTIMEZONE
BEGIN:VEVENT
DTSTART;TZID=UTC:20250604T100000
DTEND;TZID=UTC:20250604T150000
DTSTAMP:20260424T150825
CREATED:20250602T142801Z
LAST-MODIFIED:20250602T142801Z
UID:10000174-1749031200-1749049200@gcrcla.org
SUMMARY:Every Wednesday BLOOD PRESSURE SCREENING
DESCRIPTION:Every Wednesday\, BLOOD PRESSURE SCREENING
URL:https://gcrcla.org/event/every-wednesday-blood-pressure-screening/
LOCATION:Metro@Buckingham\, 4018 Buckingham Rd\, Los Angeles\, CA\, 90008\, United States
CATEGORIES:Blood Pressure Screening,Every Wednesday,Metro@Buckingham
ORGANIZER;CN="GCRCLA":MAILTO:info@gcrcla.org, ywanderson@gcrcla.org
END:VEVENT
BEGIN:VEVENT
DTSTART;TZID=UTC:20250611T100000
DTEND;TZID=UTC:20250611T140000
DTSTAMP:20260424T150825
CREATED:20250602T143910Z
LAST-MODIFIED:20250602T143949Z
UID:10000177-1749636000-1749650400@gcrcla.org
SUMMARY:Every Wednesday BLOOD PRESSURE SCREENING
DESCRIPTION:Every Wednesday\, BLOOD PRESSURE SCREENING
URL:https://gcrcla.org/event/every-wednesday-blood-pressure-screening-2/
LOCATION:Metro@Buckingham\, 4018 Buckingham Rd\, Los Angeles\, CA\, 90008\, United States
CATEGORIES:Blood Pressure Screening,Every Wednesday,Metro@Buckingham
ORGANIZER;CN="GCRCLA":MAILTO:info@gcrcla.org, ywanderson@gcrcla.org
END:VEVENT
BEGIN:VEVENT
DTSTART;TZID=UTC:20250618T100000
DTEND;TZID=UTC:20250618T140000
DTSTAMP:20260424T150825
CREATED:20250602T144942Z
LAST-MODIFIED:20250602T144942Z
UID:10000180-1750240800-1750255200@gcrcla.org
SUMMARY:Every Wednesday BLOOD PRESSURE SCREENING
DESCRIPTION:Every Wednesday\, BLOOD PRESSURE SCREENING
URL:https://gcrcla.org/event/every-wednesday-blood-pressure-screening-3/
LOCATION:Metro@Buckingham\, 4018 Buckingham Rd\, Los Angeles\, CA\, 90008\, United States
CATEGORIES:Blood Pressure Screening,Every Wednesday,Metro@Buckingham
ORGANIZER;CN="GCRCLA":MAILTO:info@gcrcla.org, ywanderson@gcrcla.org
END:VEVENT
BEGIN:VEVENT
DTSTART;TZID=UTC:20250625T100000
DTEND;TZID=UTC:20250625T150000
DTSTAMP:20260424T150825
CREATED:20250602T145645Z
LAST-MODIFIED:20250602T145645Z
UID:10000182-1750845600-1750863600@gcrcla.org
SUMMARY:Every Wednesday BLOOD PRESSURE SCREENING
DESCRIPTION:Every Wednesday\, BLOOD PRESSURE SCREENING
URL:https://gcrcla.org/event/every-wednesday-blood-pressure-screening-4/
LOCATION:Metro@Buckingham\, 4018 Buckingham Rd\, Los Angeles\, CA\, 90008\, United States
CATEGORIES:Blood Pressure Screening,Every Wednesday,Metro@Buckingham
ORGANIZER;CN="GCRCLA":MAILTO:info@gcrcla.org, ywanderson@gcrcla.org
END:VEVENT
END:VCALENDAR