BEGIN:VCALENDAR
VERSION:2.0
PRODID:-//GCRCLA - ECPv6.15.20//NONSGML v1.0//EN
CALSCALE:GREGORIAN
METHOD:PUBLISH
X-ORIGINAL-URL:https://gcrcla.org
X-WR-CALDESC:Events for GCRCLA
REFRESH-INTERVAL;VALUE=DURATION:PT1H
X-Robots-Tag:noindex
X-PUBLISHED-TTL:PT1H
BEGIN:VTIMEZONE
TZID:UTC
BEGIN:STANDARD
TZOFFSETFROM:+0000
TZOFFSETTO:+0000
TZNAME:UTC
DTSTART:20240101T000000
END:STANDARD
END:VTIMEZONE
BEGIN:VEVENT
DTSTART;TZID=UTC:20250606T100000
DTEND;TZID=UTC:20250606T150000
DTSTAMP:20260424T211112
CREATED:20250602T154439Z
LAST-MODIFIED:20250602T154439Z
UID:10000192-1749204000-1749222000@gcrcla.org
SUMMARY:First Friday\, Father’s Day Celebration
DESCRIPTION:Father’s Day Celebration\, Westmont 1:00 to 3:00
URL:https://gcrcla.org/event/first-friday-fathers-day-celebration/
LOCATION:Westmont Apartments\, 4126 Arlington Ave\, Los Angeles\, CA\, United States
CATEGORIES:Father's Day,First Friday,Westmont Apartments
ORGANIZER;CN="GCRCLA":MAILTO:info@gcrcla.org, ywanderson@gcrcla.org
END:VEVENT
END:VCALENDAR