BEGIN:VCALENDAR
VERSION:2.0
PRODID:-//GCRCLA - ECPv6.15.20//NONSGML v1.0//EN
CALSCALE:GREGORIAN
METHOD:PUBLISH
X-ORIGINAL-URL:https://gcrcla.org
X-WR-CALDESC:Events for GCRCLA
REFRESH-INTERVAL;VALUE=DURATION:PT1H
X-Robots-Tag:noindex
X-PUBLISHED-TTL:PT1H
BEGIN:VTIMEZONE
TZID:UTC
BEGIN:STANDARD
TZOFFSETFROM:+0000
TZOFFSETTO:+0000
TZNAME:UTC
DTSTART:20240101T000000
END:STANDARD
END:VTIMEZONE
BEGIN:VEVENT
DTSTART;TZID=UTC:20250506T110000
DTEND;TZID=UTC:20250506T120000
DTSTAMP:20260425T004949
CREATED:20250509T023258Z
LAST-MODIFIED:20250509T023258Z
UID:10000153-1746529200-1746532800@gcrcla.org
SUMMARY:First Tuesday
DESCRIPTION:Tenant Meeting – Westmont 11:00 -12:00
URL:https://gcrcla.org/event/first-tuesday/
LOCATION:Westmont Apartments\, 4126 Arlington Ave\, Los Angeles\, CA\, United States
CATEGORIES:First Tuesday
ORGANIZER;CN="GCRCLA":MAILTO:info@gcrcla.org, ywanderson@gcrcla.org
END:VEVENT
END:VCALENDAR