BEGIN:VCALENDAR
VERSION:2.0
PRODID:-//GCRCLA - ECPv6.15.20//NONSGML v1.0//EN
CALSCALE:GREGORIAN
METHOD:PUBLISH
X-WR-CALNAME:GCRCLA
X-ORIGINAL-URL:https://gcrcla.org
X-WR-CALDESC:Events for GCRCLA
REFRESH-INTERVAL;VALUE=DURATION:PT1H
X-Robots-Tag:noindex
X-PUBLISHED-TTL:PT1H
BEGIN:VTIMEZONE
TZID:UTC
BEGIN:STANDARD
TZOFFSETFROM:+0000
TZOFFSETTO:+0000
TZNAME:UTC
DTSTART:20240101T000000
END:STANDARD
END:VTIMEZONE
BEGIN:VEVENT
DTSTART;TZID=UTC:20250604T130000
DTEND;TZID=UTC:20250604T150000
DTSTAMP:20260424T153415
CREATED:20250602T143214Z
LAST-MODIFIED:20250602T143214Z
UID:10000175-1749042000-1749049200@gcrcla.org
SUMMARY:First Wednesday Depot – Crafts
DESCRIPTION:First Wednesday Depot – Crafts 1:00 to 3:00
URL:https://gcrcla.org/event/first-wednesday-depot-crafts/
LOCATION:Westmont Apartments\, 4126 Arlington Ave\, Los Angeles\, CA\, United States
CATEGORIES:Depot – Crafts,First Wednesday
ORGANIZER;CN="GCRCLA":MAILTO:info@gcrcla.org, ywanderson@gcrcla.org
END:VEVENT
END:VCALENDAR