BEGIN:VCALENDAR
VERSION:2.0
PRODID:-//GCRCLA - ECPv6.15.20//NONSGML v1.0//EN
CALSCALE:GREGORIAN
METHOD:PUBLISH
X-ORIGINAL-URL:https://gcrcla.org
X-WR-CALDESC:Events for GCRCLA
REFRESH-INTERVAL;VALUE=DURATION:PT1H
X-Robots-Tag:noindex
X-PUBLISHED-TTL:PT1H
BEGIN:VTIMEZONE
TZID:UTC
BEGIN:STANDARD
TZOFFSETFROM:+0000
TZOFFSETTO:+0000
TZNAME:UTC
DTSTART:20260101T000000
END:STANDARD
END:VTIMEZONE
BEGIN:VEVENT
DTSTART;TZID=UTC:20270913T100000
DTEND;TZID=UTC:20270913T150000
DTSTAMP:20260424T120044
CREATED:20250809T032115Z
LAST-MODIFIED:20250809T032115Z
UID:10000621-1820829600-1820847600@gcrcla.org
SUMMARY:Every Monday\, Blood Pressure Screening\, Food Distribution\, Clothing/Housing Distribution
DESCRIPTION:Every Monday\, Blood Pressure Screening\, Food Distribution\, Clothing/Housing Distribution
URL:https://gcrcla.org/event/every-monday-blood-pressure-screening-food-distribution-clothing-housing-distribution/2027-09-13/
LOCATION:The Wilcox\, 1040 N Kenmore Ave\, Los Angeles\, CA\, 90029\, United States
CATEGORIES:Blood Pressure Screening,Clothing Distribution,Food Distribution,Houseware Distribution,The Wilcox
ORGANIZER;CN="GCRCLA":MAILTO:info@gcrcla.org, ywanderson@gcrcla.org
END:VEVENT
BEGIN:VEVENT
DTSTART;TZID=UTC:20270914T080000
DTEND;TZID=UTC:20270914T170000
DTSTAMP:20260424T120044
CREATED:20250731T202023Z
LAST-MODIFIED:20250809T034013Z
UID:10000883-1820908800-1820941200@gcrcla.org
SUMMARY:Every Tuesday\, Clothing Distribution\, Food Distribution\, Blood Pressure Screens
DESCRIPTION:Every Tuesday\, Clothing Distribution\, Food Distribution\, Blood Pressure Screens\, The Quincy
URL:https://gcrcla.org/event/every-tuesday-clothing-distribution-food-distribution-blood-pressure-screens/2027-09-14/
LOCATION:The Quincy\, 2652 West Pico Blvd\, Los Angeles\, CA\, 90006\, United States
CATEGORIES:Blood Pressure Screening,Clothing Distribution,Every Tuesday,Food Distribution,The Quincy
ORGANIZER;CN="GCRCLA":MAILTO:info@gcrcla.org, ywanderson@gcrcla.org
END:VEVENT
BEGIN:VEVENT
DTSTART;TZID=UTC:20270920T100000
DTEND;TZID=UTC:20270920T150000
DTSTAMP:20260424T120044
CREATED:20250809T032115Z
LAST-MODIFIED:20250809T032115Z
UID:10000622-1821434400-1821452400@gcrcla.org
SUMMARY:Every Monday\, Blood Pressure Screening\, Food Distribution\, Clothing/Housing Distribution
DESCRIPTION:Every Monday\, Blood Pressure Screening\, Food Distribution\, Clothing/Housing Distribution
URL:https://gcrcla.org/event/every-monday-blood-pressure-screening-food-distribution-clothing-housing-distribution/2027-09-20/
LOCATION:The Wilcox\, 1040 N Kenmore Ave\, Los Angeles\, CA\, 90029\, United States
CATEGORIES:Blood Pressure Screening,Clothing Distribution,Food Distribution,Houseware Distribution,The Wilcox
ORGANIZER;CN="GCRCLA":MAILTO:info@gcrcla.org, ywanderson@gcrcla.org
END:VEVENT
BEGIN:VEVENT
DTSTART;TZID=UTC:20270921T080000
DTEND;TZID=UTC:20270921T170000
DTSTAMP:20260424T120044
CREATED:20250731T202023Z
LAST-MODIFIED:20250809T034013Z
UID:10000884-1821513600-1821546000@gcrcla.org
SUMMARY:Every Tuesday\, Clothing Distribution\, Food Distribution\, Blood Pressure Screens
DESCRIPTION:Every Tuesday\, Clothing Distribution\, Food Distribution\, Blood Pressure Screens\, The Quincy
URL:https://gcrcla.org/event/every-tuesday-clothing-distribution-food-distribution-blood-pressure-screens/2027-09-21/
LOCATION:The Quincy\, 2652 West Pico Blvd\, Los Angeles\, CA\, 90006\, United States
CATEGORIES:Blood Pressure Screening,Clothing Distribution,Every Tuesday,Food Distribution,The Quincy
ORGANIZER;CN="GCRCLA":MAILTO:info@gcrcla.org, ywanderson@gcrcla.org
END:VEVENT
BEGIN:VEVENT
DTSTART;TZID=UTC:20270927T100000
DTEND;TZID=UTC:20270927T150000
DTSTAMP:20260424T120044
CREATED:20250809T032115Z
LAST-MODIFIED:20250809T032115Z
UID:10000623-1822039200-1822057200@gcrcla.org
SUMMARY:Every Monday\, Blood Pressure Screening\, Food Distribution\, Clothing/Housing Distribution
DESCRIPTION:Every Monday\, Blood Pressure Screening\, Food Distribution\, Clothing/Housing Distribution
URL:https://gcrcla.org/event/every-monday-blood-pressure-screening-food-distribution-clothing-housing-distribution/2027-09-27/
LOCATION:The Wilcox\, 1040 N Kenmore Ave\, Los Angeles\, CA\, 90029\, United States
CATEGORIES:Blood Pressure Screening,Clothing Distribution,Food Distribution,Houseware Distribution,The Wilcox
ORGANIZER;CN="GCRCLA":MAILTO:info@gcrcla.org, ywanderson@gcrcla.org
END:VEVENT
BEGIN:VEVENT
DTSTART;TZID=UTC:20270928T080000
DTEND;TZID=UTC:20270928T170000
DTSTAMP:20260424T120044
CREATED:20250731T202023Z
LAST-MODIFIED:20250809T034013Z
UID:10000885-1822118400-1822150800@gcrcla.org
SUMMARY:Every Tuesday\, Clothing Distribution\, Food Distribution\, Blood Pressure Screens
DESCRIPTION:Every Tuesday\, Clothing Distribution\, Food Distribution\, Blood Pressure Screens\, The Quincy
URL:https://gcrcla.org/event/every-tuesday-clothing-distribution-food-distribution-blood-pressure-screens/2027-09-28/
LOCATION:The Quincy\, 2652 West Pico Blvd\, Los Angeles\, CA\, 90006\, United States
CATEGORIES:Blood Pressure Screening,Clothing Distribution,Every Tuesday,Food Distribution,The Quincy
ORGANIZER;CN="GCRCLA":MAILTO:info@gcrcla.org, ywanderson@gcrcla.org
END:VEVENT
BEGIN:VEVENT
DTSTART;TZID=UTC:20271004T100000
DTEND;TZID=UTC:20271004T150000
DTSTAMP:20260424T120044
CREATED:20250809T032115Z
LAST-MODIFIED:20250809T032115Z
UID:10000624-1822644000-1822662000@gcrcla.org
SUMMARY:Every Monday\, Blood Pressure Screening\, Food Distribution\, Clothing/Housing Distribution
DESCRIPTION:Every Monday\, Blood Pressure Screening\, Food Distribution\, Clothing/Housing Distribution
URL:https://gcrcla.org/event/every-monday-blood-pressure-screening-food-distribution-clothing-housing-distribution/2027-10-04/
LOCATION:The Wilcox\, 1040 N Kenmore Ave\, Los Angeles\, CA\, 90029\, United States
CATEGORIES:Blood Pressure Screening,Clothing Distribution,Food Distribution,Houseware Distribution,The Wilcox
ORGANIZER;CN="GCRCLA":MAILTO:info@gcrcla.org, ywanderson@gcrcla.org
END:VEVENT
BEGIN:VEVENT
DTSTART;TZID=UTC:20271005T080000
DTEND;TZID=UTC:20271005T170000
DTSTAMP:20260424T120044
CREATED:20250731T202023Z
LAST-MODIFIED:20250809T034013Z
UID:10000886-1822723200-1822755600@gcrcla.org
SUMMARY:Every Tuesday\, Clothing Distribution\, Food Distribution\, Blood Pressure Screens
DESCRIPTION:Every Tuesday\, Clothing Distribution\, Food Distribution\, Blood Pressure Screens\, The Quincy
URL:https://gcrcla.org/event/every-tuesday-clothing-distribution-food-distribution-blood-pressure-screens/2027-10-05/
LOCATION:The Quincy\, 2652 West Pico Blvd\, Los Angeles\, CA\, 90006\, United States
CATEGORIES:Blood Pressure Screening,Clothing Distribution,Every Tuesday,Food Distribution,The Quincy
ORGANIZER;CN="GCRCLA":MAILTO:info@gcrcla.org, ywanderson@gcrcla.org
END:VEVENT
BEGIN:VEVENT
DTSTART;TZID=UTC:20271011T100000
DTEND;TZID=UTC:20271011T150000
DTSTAMP:20260424T120044
CREATED:20250809T032115Z
LAST-MODIFIED:20250809T032115Z
UID:10000625-1823248800-1823266800@gcrcla.org
SUMMARY:Every Monday\, Blood Pressure Screening\, Food Distribution\, Clothing/Housing Distribution
DESCRIPTION:Every Monday\, Blood Pressure Screening\, Food Distribution\, Clothing/Housing Distribution
URL:https://gcrcla.org/event/every-monday-blood-pressure-screening-food-distribution-clothing-housing-distribution/2027-10-11/
LOCATION:The Wilcox\, 1040 N Kenmore Ave\, Los Angeles\, CA\, 90029\, United States
CATEGORIES:Blood Pressure Screening,Clothing Distribution,Food Distribution,Houseware Distribution,The Wilcox
ORGANIZER;CN="GCRCLA":MAILTO:info@gcrcla.org, ywanderson@gcrcla.org
END:VEVENT
BEGIN:VEVENT
DTSTART;TZID=UTC:20271012T080000
DTEND;TZID=UTC:20271012T170000
DTSTAMP:20260424T120044
CREATED:20250731T202023Z
LAST-MODIFIED:20250809T034013Z
UID:10000887-1823328000-1823360400@gcrcla.org
SUMMARY:Every Tuesday\, Clothing Distribution\, Food Distribution\, Blood Pressure Screens
DESCRIPTION:Every Tuesday\, Clothing Distribution\, Food Distribution\, Blood Pressure Screens\, The Quincy
URL:https://gcrcla.org/event/every-tuesday-clothing-distribution-food-distribution-blood-pressure-screens/2027-10-12/
LOCATION:The Quincy\, 2652 West Pico Blvd\, Los Angeles\, CA\, 90006\, United States
CATEGORIES:Blood Pressure Screening,Clothing Distribution,Every Tuesday,Food Distribution,The Quincy
ORGANIZER;CN="GCRCLA":MAILTO:info@gcrcla.org, ywanderson@gcrcla.org
END:VEVENT
BEGIN:VEVENT
DTSTART;TZID=UTC:20271018T100000
DTEND;TZID=UTC:20271018T150000
DTSTAMP:20260424T120044
CREATED:20250809T032115Z
LAST-MODIFIED:20250809T032115Z
UID:10000626-1823853600-1823871600@gcrcla.org
SUMMARY:Every Monday\, Blood Pressure Screening\, Food Distribution\, Clothing/Housing Distribution
DESCRIPTION:Every Monday\, Blood Pressure Screening\, Food Distribution\, Clothing/Housing Distribution
URL:https://gcrcla.org/event/every-monday-blood-pressure-screening-food-distribution-clothing-housing-distribution/2027-10-18/
LOCATION:The Wilcox\, 1040 N Kenmore Ave\, Los Angeles\, CA\, 90029\, United States
CATEGORIES:Blood Pressure Screening,Clothing Distribution,Food Distribution,Houseware Distribution,The Wilcox
ORGANIZER;CN="GCRCLA":MAILTO:info@gcrcla.org, ywanderson@gcrcla.org
END:VEVENT
BEGIN:VEVENT
DTSTART;TZID=UTC:20271019T080000
DTEND;TZID=UTC:20271019T170000
DTSTAMP:20260424T120044
CREATED:20250731T202023Z
LAST-MODIFIED:20250809T034013Z
UID:10000888-1823932800-1823965200@gcrcla.org
SUMMARY:Every Tuesday\, Clothing Distribution\, Food Distribution\, Blood Pressure Screens
DESCRIPTION:Every Tuesday\, Clothing Distribution\, Food Distribution\, Blood Pressure Screens\, The Quincy
URL:https://gcrcla.org/event/every-tuesday-clothing-distribution-food-distribution-blood-pressure-screens/2027-10-19/
LOCATION:The Quincy\, 2652 West Pico Blvd\, Los Angeles\, CA\, 90006\, United States
CATEGORIES:Blood Pressure Screening,Clothing Distribution,Every Tuesday,Food Distribution,The Quincy
ORGANIZER;CN="GCRCLA":MAILTO:info@gcrcla.org, ywanderson@gcrcla.org
END:VEVENT
BEGIN:VEVENT
DTSTART;TZID=UTC:20271025T100000
DTEND;TZID=UTC:20271025T150000
DTSTAMP:20260424T120044
CREATED:20250809T032115Z
LAST-MODIFIED:20250809T032115Z
UID:10000627-1824458400-1824476400@gcrcla.org
SUMMARY:Every Monday\, Blood Pressure Screening\, Food Distribution\, Clothing/Housing Distribution
DESCRIPTION:Every Monday\, Blood Pressure Screening\, Food Distribution\, Clothing/Housing Distribution
URL:https://gcrcla.org/event/every-monday-blood-pressure-screening-food-distribution-clothing-housing-distribution/2027-10-25/
LOCATION:The Wilcox\, 1040 N Kenmore Ave\, Los Angeles\, CA\, 90029\, United States
CATEGORIES:Blood Pressure Screening,Clothing Distribution,Food Distribution,Houseware Distribution,The Wilcox
ORGANIZER;CN="GCRCLA":MAILTO:info@gcrcla.org, ywanderson@gcrcla.org
END:VEVENT
BEGIN:VEVENT
DTSTART;TZID=UTC:20271026T080000
DTEND;TZID=UTC:20271026T170000
DTSTAMP:20260424T120044
CREATED:20250731T202023Z
LAST-MODIFIED:20250809T034013Z
UID:10000889-1824537600-1824570000@gcrcla.org
SUMMARY:Every Tuesday\, Clothing Distribution\, Food Distribution\, Blood Pressure Screens
DESCRIPTION:Every Tuesday\, Clothing Distribution\, Food Distribution\, Blood Pressure Screens\, The Quincy
URL:https://gcrcla.org/event/every-tuesday-clothing-distribution-food-distribution-blood-pressure-screens/2027-10-26/
LOCATION:The Quincy\, 2652 West Pico Blvd\, Los Angeles\, CA\, 90006\, United States
CATEGORIES:Blood Pressure Screening,Clothing Distribution,Every Tuesday,Food Distribution,The Quincy
ORGANIZER;CN="GCRCLA":MAILTO:info@gcrcla.org, ywanderson@gcrcla.org
END:VEVENT
BEGIN:VEVENT
DTSTART;TZID=UTC:20271101T100000
DTEND;TZID=UTC:20271101T150000
DTSTAMP:20260424T120044
CREATED:20250809T032115Z
LAST-MODIFIED:20250809T032115Z
UID:10000628-1825063200-1825081200@gcrcla.org
SUMMARY:Every Monday\, Blood Pressure Screening\, Food Distribution\, Clothing/Housing Distribution
DESCRIPTION:Every Monday\, Blood Pressure Screening\, Food Distribution\, Clothing/Housing Distribution
URL:https://gcrcla.org/event/every-monday-blood-pressure-screening-food-distribution-clothing-housing-distribution/2027-11-01/
LOCATION:The Wilcox\, 1040 N Kenmore Ave\, Los Angeles\, CA\, 90029\, United States
CATEGORIES:Blood Pressure Screening,Clothing Distribution,Food Distribution,Houseware Distribution,The Wilcox
ORGANIZER;CN="GCRCLA":MAILTO:info@gcrcla.org, ywanderson@gcrcla.org
END:VEVENT
BEGIN:VEVENT
DTSTART;TZID=UTC:20271102T080000
DTEND;TZID=UTC:20271102T170000
DTSTAMP:20260424T120044
CREATED:20250731T202023Z
LAST-MODIFIED:20250809T034013Z
UID:10000890-1825142400-1825174800@gcrcla.org
SUMMARY:Every Tuesday\, Clothing Distribution\, Food Distribution\, Blood Pressure Screens
DESCRIPTION:Every Tuesday\, Clothing Distribution\, Food Distribution\, Blood Pressure Screens\, The Quincy
URL:https://gcrcla.org/event/every-tuesday-clothing-distribution-food-distribution-blood-pressure-screens/2027-11-02/
LOCATION:The Quincy\, 2652 West Pico Blvd\, Los Angeles\, CA\, 90006\, United States
CATEGORIES:Blood Pressure Screening,Clothing Distribution,Every Tuesday,Food Distribution,The Quincy
ORGANIZER;CN="GCRCLA":MAILTO:info@gcrcla.org, ywanderson@gcrcla.org
END:VEVENT
BEGIN:VEVENT
DTSTART;TZID=UTC:20271108T100000
DTEND;TZID=UTC:20271108T150000
DTSTAMP:20260424T120044
CREATED:20250809T032115Z
LAST-MODIFIED:20250809T032115Z
UID:10000629-1825668000-1825686000@gcrcla.org
SUMMARY:Every Monday\, Blood Pressure Screening\, Food Distribution\, Clothing/Housing Distribution
DESCRIPTION:Every Monday\, Blood Pressure Screening\, Food Distribution\, Clothing/Housing Distribution
URL:https://gcrcla.org/event/every-monday-blood-pressure-screening-food-distribution-clothing-housing-distribution/2027-11-08/
LOCATION:The Wilcox\, 1040 N Kenmore Ave\, Los Angeles\, CA\, 90029\, United States
CATEGORIES:Blood Pressure Screening,Clothing Distribution,Food Distribution,Houseware Distribution,The Wilcox
ORGANIZER;CN="GCRCLA":MAILTO:info@gcrcla.org, ywanderson@gcrcla.org
END:VEVENT
BEGIN:VEVENT
DTSTART;TZID=UTC:20271109T080000
DTEND;TZID=UTC:20271109T170000
DTSTAMP:20260424T120044
CREATED:20250731T202023Z
LAST-MODIFIED:20250809T034013Z
UID:10000891-1825747200-1825779600@gcrcla.org
SUMMARY:Every Tuesday\, Clothing Distribution\, Food Distribution\, Blood Pressure Screens
DESCRIPTION:Every Tuesday\, Clothing Distribution\, Food Distribution\, Blood Pressure Screens\, The Quincy
URL:https://gcrcla.org/event/every-tuesday-clothing-distribution-food-distribution-blood-pressure-screens/2027-11-09/
LOCATION:The Quincy\, 2652 West Pico Blvd\, Los Angeles\, CA\, 90006\, United States
CATEGORIES:Blood Pressure Screening,Clothing Distribution,Every Tuesday,Food Distribution,The Quincy
ORGANIZER;CN="GCRCLA":MAILTO:info@gcrcla.org, ywanderson@gcrcla.org
END:VEVENT
BEGIN:VEVENT
DTSTART;TZID=UTC:20271115T100000
DTEND;TZID=UTC:20271115T150000
DTSTAMP:20260424T120044
CREATED:20250809T032115Z
LAST-MODIFIED:20250809T032115Z
UID:10000630-1826272800-1826290800@gcrcla.org
SUMMARY:Every Monday\, Blood Pressure Screening\, Food Distribution\, Clothing/Housing Distribution
DESCRIPTION:Every Monday\, Blood Pressure Screening\, Food Distribution\, Clothing/Housing Distribution
URL:https://gcrcla.org/event/every-monday-blood-pressure-screening-food-distribution-clothing-housing-distribution/2027-11-15/
LOCATION:The Wilcox\, 1040 N Kenmore Ave\, Los Angeles\, CA\, 90029\, United States
CATEGORIES:Blood Pressure Screening,Clothing Distribution,Food Distribution,Houseware Distribution,The Wilcox
ORGANIZER;CN="GCRCLA":MAILTO:info@gcrcla.org, ywanderson@gcrcla.org
END:VEVENT
BEGIN:VEVENT
DTSTART;TZID=UTC:20271116T080000
DTEND;TZID=UTC:20271116T170000
DTSTAMP:20260424T120044
CREATED:20250731T202023Z
LAST-MODIFIED:20250809T034013Z
UID:10000892-1826352000-1826384400@gcrcla.org
SUMMARY:Every Tuesday\, Clothing Distribution\, Food Distribution\, Blood Pressure Screens
DESCRIPTION:Every Tuesday\, Clothing Distribution\, Food Distribution\, Blood Pressure Screens\, The Quincy
URL:https://gcrcla.org/event/every-tuesday-clothing-distribution-food-distribution-blood-pressure-screens/2027-11-16/
LOCATION:The Quincy\, 2652 West Pico Blvd\, Los Angeles\, CA\, 90006\, United States
CATEGORIES:Blood Pressure Screening,Clothing Distribution,Every Tuesday,Food Distribution,The Quincy
ORGANIZER;CN="GCRCLA":MAILTO:info@gcrcla.org, ywanderson@gcrcla.org
END:VEVENT
BEGIN:VEVENT
DTSTART;TZID=UTC:20271122T100000
DTEND;TZID=UTC:20271122T150000
DTSTAMP:20260424T120044
CREATED:20250809T032115Z
LAST-MODIFIED:20250809T032115Z
UID:10000631-1826877600-1826895600@gcrcla.org
SUMMARY:Every Monday\, Blood Pressure Screening\, Food Distribution\, Clothing/Housing Distribution
DESCRIPTION:Every Monday\, Blood Pressure Screening\, Food Distribution\, Clothing/Housing Distribution
URL:https://gcrcla.org/event/every-monday-blood-pressure-screening-food-distribution-clothing-housing-distribution/2027-11-22/
LOCATION:The Wilcox\, 1040 N Kenmore Ave\, Los Angeles\, CA\, 90029\, United States
CATEGORIES:Blood Pressure Screening,Clothing Distribution,Food Distribution,Houseware Distribution,The Wilcox
ORGANIZER;CN="GCRCLA":MAILTO:info@gcrcla.org, ywanderson@gcrcla.org
END:VEVENT
BEGIN:VEVENT
DTSTART;TZID=UTC:20271123T080000
DTEND;TZID=UTC:20271123T170000
DTSTAMP:20260424T120044
CREATED:20250731T202023Z
LAST-MODIFIED:20250809T034013Z
UID:10000893-1826956800-1826989200@gcrcla.org
SUMMARY:Every Tuesday\, Clothing Distribution\, Food Distribution\, Blood Pressure Screens
DESCRIPTION:Every Tuesday\, Clothing Distribution\, Food Distribution\, Blood Pressure Screens\, The Quincy
URL:https://gcrcla.org/event/every-tuesday-clothing-distribution-food-distribution-blood-pressure-screens/2027-11-23/
LOCATION:The Quincy\, 2652 West Pico Blvd\, Los Angeles\, CA\, 90006\, United States
CATEGORIES:Blood Pressure Screening,Clothing Distribution,Every Tuesday,Food Distribution,The Quincy
ORGANIZER;CN="GCRCLA":MAILTO:info@gcrcla.org, ywanderson@gcrcla.org
END:VEVENT
BEGIN:VEVENT
DTSTART;TZID=UTC:20271129T100000
DTEND;TZID=UTC:20271129T150000
DTSTAMP:20260424T120044
CREATED:20250809T032115Z
LAST-MODIFIED:20250809T032115Z
UID:10000632-1827482400-1827500400@gcrcla.org
SUMMARY:Every Monday\, Blood Pressure Screening\, Food Distribution\, Clothing/Housing Distribution
DESCRIPTION:Every Monday\, Blood Pressure Screening\, Food Distribution\, Clothing/Housing Distribution
URL:https://gcrcla.org/event/every-monday-blood-pressure-screening-food-distribution-clothing-housing-distribution/2027-11-29/
LOCATION:The Wilcox\, 1040 N Kenmore Ave\, Los Angeles\, CA\, 90029\, United States
CATEGORIES:Blood Pressure Screening,Clothing Distribution,Food Distribution,Houseware Distribution,The Wilcox
ORGANIZER;CN="GCRCLA":MAILTO:info@gcrcla.org, ywanderson@gcrcla.org
END:VEVENT
BEGIN:VEVENT
DTSTART;TZID=UTC:20271130T080000
DTEND;TZID=UTC:20271130T170000
DTSTAMP:20260424T120044
CREATED:20250731T202023Z
LAST-MODIFIED:20250809T034013Z
UID:10000894-1827561600-1827594000@gcrcla.org
SUMMARY:Every Tuesday\, Clothing Distribution\, Food Distribution\, Blood Pressure Screens
DESCRIPTION:Every Tuesday\, Clothing Distribution\, Food Distribution\, Blood Pressure Screens\, The Quincy
URL:https://gcrcla.org/event/every-tuesday-clothing-distribution-food-distribution-blood-pressure-screens/2027-11-30/
LOCATION:The Quincy\, 2652 West Pico Blvd\, Los Angeles\, CA\, 90006\, United States
CATEGORIES:Blood Pressure Screening,Clothing Distribution,Every Tuesday,Food Distribution,The Quincy
ORGANIZER;CN="GCRCLA":MAILTO:info@gcrcla.org, ywanderson@gcrcla.org
END:VEVENT
BEGIN:VEVENT
DTSTART;TZID=UTC:20271206T100000
DTEND;TZID=UTC:20271206T150000
DTSTAMP:20260424T120044
CREATED:20250809T032115Z
LAST-MODIFIED:20250809T032115Z
UID:10000633-1828087200-1828105200@gcrcla.org
SUMMARY:Every Monday\, Blood Pressure Screening\, Food Distribution\, Clothing/Housing Distribution
DESCRIPTION:Every Monday\, Blood Pressure Screening\, Food Distribution\, Clothing/Housing Distribution
URL:https://gcrcla.org/event/every-monday-blood-pressure-screening-food-distribution-clothing-housing-distribution/2027-12-06/
LOCATION:The Wilcox\, 1040 N Kenmore Ave\, Los Angeles\, CA\, 90029\, United States
CATEGORIES:Blood Pressure Screening,Clothing Distribution,Food Distribution,Houseware Distribution,The Wilcox
ORGANIZER;CN="GCRCLA":MAILTO:info@gcrcla.org, ywanderson@gcrcla.org
END:VEVENT
BEGIN:VEVENT
DTSTART;TZID=UTC:20271207T080000
DTEND;TZID=UTC:20271207T170000
DTSTAMP:20260424T120044
CREATED:20250731T202023Z
LAST-MODIFIED:20250809T034013Z
UID:10000895-1828166400-1828198800@gcrcla.org
SUMMARY:Every Tuesday\, Clothing Distribution\, Food Distribution\, Blood Pressure Screens
DESCRIPTION:Every Tuesday\, Clothing Distribution\, Food Distribution\, Blood Pressure Screens\, The Quincy
URL:https://gcrcla.org/event/every-tuesday-clothing-distribution-food-distribution-blood-pressure-screens/2027-12-07/
LOCATION:The Quincy\, 2652 West Pico Blvd\, Los Angeles\, CA\, 90006\, United States
CATEGORIES:Blood Pressure Screening,Clothing Distribution,Every Tuesday,Food Distribution,The Quincy
ORGANIZER;CN="GCRCLA":MAILTO:info@gcrcla.org, ywanderson@gcrcla.org
END:VEVENT
BEGIN:VEVENT
DTSTART;TZID=UTC:20271213T100000
DTEND;TZID=UTC:20271213T150000
DTSTAMP:20260424T120044
CREATED:20250809T032115Z
LAST-MODIFIED:20250809T032115Z
UID:10000634-1828692000-1828710000@gcrcla.org
SUMMARY:Every Monday\, Blood Pressure Screening\, Food Distribution\, Clothing/Housing Distribution
DESCRIPTION:Every Monday\, Blood Pressure Screening\, Food Distribution\, Clothing/Housing Distribution
URL:https://gcrcla.org/event/every-monday-blood-pressure-screening-food-distribution-clothing-housing-distribution/2027-12-13/
LOCATION:The Wilcox\, 1040 N Kenmore Ave\, Los Angeles\, CA\, 90029\, United States
CATEGORIES:Blood Pressure Screening,Clothing Distribution,Food Distribution,Houseware Distribution,The Wilcox
ORGANIZER;CN="GCRCLA":MAILTO:info@gcrcla.org, ywanderson@gcrcla.org
END:VEVENT
BEGIN:VEVENT
DTSTART;TZID=UTC:20271214T080000
DTEND;TZID=UTC:20271214T170000
DTSTAMP:20260424T120044
CREATED:20250731T202023Z
LAST-MODIFIED:20250809T034013Z
UID:10000896-1828771200-1828803600@gcrcla.org
SUMMARY:Every Tuesday\, Clothing Distribution\, Food Distribution\, Blood Pressure Screens
DESCRIPTION:Every Tuesday\, Clothing Distribution\, Food Distribution\, Blood Pressure Screens\, The Quincy
URL:https://gcrcla.org/event/every-tuesday-clothing-distribution-food-distribution-blood-pressure-screens/2027-12-14/
LOCATION:The Quincy\, 2652 West Pico Blvd\, Los Angeles\, CA\, 90006\, United States
CATEGORIES:Blood Pressure Screening,Clothing Distribution,Every Tuesday,Food Distribution,The Quincy
ORGANIZER;CN="GCRCLA":MAILTO:info@gcrcla.org, ywanderson@gcrcla.org
END:VEVENT
BEGIN:VEVENT
DTSTART;TZID=UTC:20271220T100000
DTEND;TZID=UTC:20271220T150000
DTSTAMP:20260424T120044
CREATED:20250809T032115Z
LAST-MODIFIED:20250809T032115Z
UID:10000635-1829296800-1829314800@gcrcla.org
SUMMARY:Every Monday\, Blood Pressure Screening\, Food Distribution\, Clothing/Housing Distribution
DESCRIPTION:Every Monday\, Blood Pressure Screening\, Food Distribution\, Clothing/Housing Distribution
URL:https://gcrcla.org/event/every-monday-blood-pressure-screening-food-distribution-clothing-housing-distribution/2027-12-20/
LOCATION:The Wilcox\, 1040 N Kenmore Ave\, Los Angeles\, CA\, 90029\, United States
CATEGORIES:Blood Pressure Screening,Clothing Distribution,Food Distribution,Houseware Distribution,The Wilcox
ORGANIZER;CN="GCRCLA":MAILTO:info@gcrcla.org, ywanderson@gcrcla.org
END:VEVENT
BEGIN:VEVENT
DTSTART;TZID=UTC:20271221T080000
DTEND;TZID=UTC:20271221T170000
DTSTAMP:20260424T120044
CREATED:20250731T202023Z
LAST-MODIFIED:20250809T034013Z
UID:10000897-1829376000-1829408400@gcrcla.org
SUMMARY:Every Tuesday\, Clothing Distribution\, Food Distribution\, Blood Pressure Screens
DESCRIPTION:Every Tuesday\, Clothing Distribution\, Food Distribution\, Blood Pressure Screens\, The Quincy
URL:https://gcrcla.org/event/every-tuesday-clothing-distribution-food-distribution-blood-pressure-screens/2027-12-21/
LOCATION:The Quincy\, 2652 West Pico Blvd\, Los Angeles\, CA\, 90006\, United States
CATEGORIES:Blood Pressure Screening,Clothing Distribution,Every Tuesday,Food Distribution,The Quincy
ORGANIZER;CN="GCRCLA":MAILTO:info@gcrcla.org, ywanderson@gcrcla.org
END:VEVENT
END:VCALENDAR