BEGIN:VCALENDAR
VERSION:2.0
PRODID:-//GCRCLA - ECPv6.15.20//NONSGML v1.0//EN
CALSCALE:GREGORIAN
METHOD:PUBLISH
X-WR-CALNAME:GCRCLA
X-ORIGINAL-URL:https://gcrcla.org
X-WR-CALDESC:Events for GCRCLA
REFRESH-INTERVAL;VALUE=DURATION:PT1H
X-Robots-Tag:noindex
X-PUBLISHED-TTL:PT1H
BEGIN:VTIMEZONE
TZID:UTC
BEGIN:STANDARD
TZOFFSETFROM:+0000
TZOFFSETTO:+0000
TZNAME:UTC
DTSTART:20290101T000000
END:STANDARD
END:VTIMEZONE
BEGIN:VEVENT
DTSTART;TZID=UTC:20300325T100000
DTEND;TZID=UTC:20300325T150000
DTSTAMP:20260426T004844
CREATED:20250809T032115Z
LAST-MODIFIED:20250809T032115Z
UID:10000753-1900663200-1900681200@gcrcla.org
SUMMARY:Every Monday\, Blood Pressure Screening\, Food Distribution\, Clothing/Housing Distribution
DESCRIPTION:Every Monday\, Blood Pressure Screening\, Food Distribution\, Clothing/Housing Distribution
URL:https://gcrcla.org/event/every-monday-blood-pressure-screening-food-distribution-clothing-housing-distribution/2030-03-25/
LOCATION:The Wilcox\, 1040 N Kenmore Ave\, Los Angeles\, CA\, 90029\, United States
CATEGORIES:Blood Pressure Screening,Clothing Distribution,Food Distribution,Houseware Distribution,The Wilcox
ORGANIZER;CN="GCRCLA":MAILTO:info@gcrcla.org, ywanderson@gcrcla.org
END:VEVENT
BEGIN:VEVENT
DTSTART;TZID=UTC:20300326T080000
DTEND;TZID=UTC:20300326T170000
DTSTAMP:20260426T004844
CREATED:20250731T202023Z
LAST-MODIFIED:20250809T034013Z
UID:10001015-1900742400-1900774800@gcrcla.org
SUMMARY:Every Tuesday\, Clothing Distribution\, Food Distribution\, Blood Pressure Screens
DESCRIPTION:Every Tuesday\, Clothing Distribution\, Food Distribution\, Blood Pressure Screens\, The Quincy
URL:https://gcrcla.org/event/every-tuesday-clothing-distribution-food-distribution-blood-pressure-screens/2030-03-26/
LOCATION:The Quincy\, 2652 West Pico Blvd\, Los Angeles\, CA\, 90006\, United States
CATEGORIES:Blood Pressure Screening,Clothing Distribution,Every Tuesday,Food Distribution,The Quincy
ORGANIZER;CN="GCRCLA":MAILTO:info@gcrcla.org, ywanderson@gcrcla.org
END:VEVENT
BEGIN:VEVENT
DTSTART;TZID=UTC:20300401T100000
DTEND;TZID=UTC:20300401T150000
DTSTAMP:20260426T004844
CREATED:20250809T032115Z
LAST-MODIFIED:20250809T032115Z
UID:10000754-1901268000-1901286000@gcrcla.org
SUMMARY:Every Monday\, Blood Pressure Screening\, Food Distribution\, Clothing/Housing Distribution
DESCRIPTION:Every Monday\, Blood Pressure Screening\, Food Distribution\, Clothing/Housing Distribution
URL:https://gcrcla.org/event/every-monday-blood-pressure-screening-food-distribution-clothing-housing-distribution/2030-04-01/
LOCATION:The Wilcox\, 1040 N Kenmore Ave\, Los Angeles\, CA\, 90029\, United States
CATEGORIES:Blood Pressure Screening,Clothing Distribution,Food Distribution,Houseware Distribution,The Wilcox
ORGANIZER;CN="GCRCLA":MAILTO:info@gcrcla.org, ywanderson@gcrcla.org
END:VEVENT
BEGIN:VEVENT
DTSTART;TZID=UTC:20300402T080000
DTEND;TZID=UTC:20300402T170000
DTSTAMP:20260426T004844
CREATED:20250731T202023Z
LAST-MODIFIED:20250809T034013Z
UID:10001016-1901347200-1901379600@gcrcla.org
SUMMARY:Every Tuesday\, Clothing Distribution\, Food Distribution\, Blood Pressure Screens
DESCRIPTION:Every Tuesday\, Clothing Distribution\, Food Distribution\, Blood Pressure Screens\, The Quincy
URL:https://gcrcla.org/event/every-tuesday-clothing-distribution-food-distribution-blood-pressure-screens/2030-04-02/
LOCATION:The Quincy\, 2652 West Pico Blvd\, Los Angeles\, CA\, 90006\, United States
CATEGORIES:Blood Pressure Screening,Clothing Distribution,Every Tuesday,Food Distribution,The Quincy
ORGANIZER;CN="GCRCLA":MAILTO:info@gcrcla.org, ywanderson@gcrcla.org
END:VEVENT
BEGIN:VEVENT
DTSTART;TZID=UTC:20300408T100000
DTEND;TZID=UTC:20300408T150000
DTSTAMP:20260426T004844
CREATED:20250809T032115Z
LAST-MODIFIED:20250809T032115Z
UID:10000755-1901872800-1901890800@gcrcla.org
SUMMARY:Every Monday\, Blood Pressure Screening\, Food Distribution\, Clothing/Housing Distribution
DESCRIPTION:Every Monday\, Blood Pressure Screening\, Food Distribution\, Clothing/Housing Distribution
URL:https://gcrcla.org/event/every-monday-blood-pressure-screening-food-distribution-clothing-housing-distribution/2030-04-08/
LOCATION:The Wilcox\, 1040 N Kenmore Ave\, Los Angeles\, CA\, 90029\, United States
CATEGORIES:Blood Pressure Screening,Clothing Distribution,Food Distribution,Houseware Distribution,The Wilcox
ORGANIZER;CN="GCRCLA":MAILTO:info@gcrcla.org, ywanderson@gcrcla.org
END:VEVENT
BEGIN:VEVENT
DTSTART;TZID=UTC:20300409T080000
DTEND;TZID=UTC:20300409T170000
DTSTAMP:20260426T004844
CREATED:20250731T202023Z
LAST-MODIFIED:20250809T034013Z
UID:10001017-1901952000-1901984400@gcrcla.org
SUMMARY:Every Tuesday\, Clothing Distribution\, Food Distribution\, Blood Pressure Screens
DESCRIPTION:Every Tuesday\, Clothing Distribution\, Food Distribution\, Blood Pressure Screens\, The Quincy
URL:https://gcrcla.org/event/every-tuesday-clothing-distribution-food-distribution-blood-pressure-screens/2030-04-09/
LOCATION:The Quincy\, 2652 West Pico Blvd\, Los Angeles\, CA\, 90006\, United States
CATEGORIES:Blood Pressure Screening,Clothing Distribution,Every Tuesday,Food Distribution,The Quincy
ORGANIZER;CN="GCRCLA":MAILTO:info@gcrcla.org, ywanderson@gcrcla.org
END:VEVENT
BEGIN:VEVENT
DTSTART;TZID=UTC:20300415T100000
DTEND;TZID=UTC:20300415T150000
DTSTAMP:20260426T004844
CREATED:20250809T032115Z
LAST-MODIFIED:20250809T032115Z
UID:10000756-1902477600-1902495600@gcrcla.org
SUMMARY:Every Monday\, Blood Pressure Screening\, Food Distribution\, Clothing/Housing Distribution
DESCRIPTION:Every Monday\, Blood Pressure Screening\, Food Distribution\, Clothing/Housing Distribution
URL:https://gcrcla.org/event/every-monday-blood-pressure-screening-food-distribution-clothing-housing-distribution/2030-04-15/
LOCATION:The Wilcox\, 1040 N Kenmore Ave\, Los Angeles\, CA\, 90029\, United States
CATEGORIES:Blood Pressure Screening,Clothing Distribution,Food Distribution,Houseware Distribution,The Wilcox
ORGANIZER;CN="GCRCLA":MAILTO:info@gcrcla.org, ywanderson@gcrcla.org
END:VEVENT
BEGIN:VEVENT
DTSTART;TZID=UTC:20300416T080000
DTEND;TZID=UTC:20300416T170000
DTSTAMP:20260426T004844
CREATED:20250731T202023Z
LAST-MODIFIED:20250809T034013Z
UID:10001018-1902556800-1902589200@gcrcla.org
SUMMARY:Every Tuesday\, Clothing Distribution\, Food Distribution\, Blood Pressure Screens
DESCRIPTION:Every Tuesday\, Clothing Distribution\, Food Distribution\, Blood Pressure Screens\, The Quincy
URL:https://gcrcla.org/event/every-tuesday-clothing-distribution-food-distribution-blood-pressure-screens/2030-04-16/
LOCATION:The Quincy\, 2652 West Pico Blvd\, Los Angeles\, CA\, 90006\, United States
CATEGORIES:Blood Pressure Screening,Clothing Distribution,Every Tuesday,Food Distribution,The Quincy
ORGANIZER;CN="GCRCLA":MAILTO:info@gcrcla.org, ywanderson@gcrcla.org
END:VEVENT
BEGIN:VEVENT
DTSTART;TZID=UTC:20300422T100000
DTEND;TZID=UTC:20300422T150000
DTSTAMP:20260426T004844
CREATED:20250809T032115Z
LAST-MODIFIED:20250809T032115Z
UID:10000757-1903082400-1903100400@gcrcla.org
SUMMARY:Every Monday\, Blood Pressure Screening\, Food Distribution\, Clothing/Housing Distribution
DESCRIPTION:Every Monday\, Blood Pressure Screening\, Food Distribution\, Clothing/Housing Distribution
URL:https://gcrcla.org/event/every-monday-blood-pressure-screening-food-distribution-clothing-housing-distribution/2030-04-22/
LOCATION:The Wilcox\, 1040 N Kenmore Ave\, Los Angeles\, CA\, 90029\, United States
CATEGORIES:Blood Pressure Screening,Clothing Distribution,Food Distribution,Houseware Distribution,The Wilcox
ORGANIZER;CN="GCRCLA":MAILTO:info@gcrcla.org, ywanderson@gcrcla.org
END:VEVENT
BEGIN:VEVENT
DTSTART;TZID=UTC:20300423T080000
DTEND;TZID=UTC:20300423T170000
DTSTAMP:20260426T004844
CREATED:20250731T202023Z
LAST-MODIFIED:20250809T034013Z
UID:10001019-1903161600-1903194000@gcrcla.org
SUMMARY:Every Tuesday\, Clothing Distribution\, Food Distribution\, Blood Pressure Screens
DESCRIPTION:Every Tuesday\, Clothing Distribution\, Food Distribution\, Blood Pressure Screens\, The Quincy
URL:https://gcrcla.org/event/every-tuesday-clothing-distribution-food-distribution-blood-pressure-screens/2030-04-23/
LOCATION:The Quincy\, 2652 West Pico Blvd\, Los Angeles\, CA\, 90006\, United States
CATEGORIES:Blood Pressure Screening,Clothing Distribution,Every Tuesday,Food Distribution,The Quincy
ORGANIZER;CN="GCRCLA":MAILTO:info@gcrcla.org, ywanderson@gcrcla.org
END:VEVENT
BEGIN:VEVENT
DTSTART;TZID=UTC:20300429T100000
DTEND;TZID=UTC:20300429T150000
DTSTAMP:20260426T004844
CREATED:20250809T032115Z
LAST-MODIFIED:20250809T032115Z
UID:10000758-1903687200-1903705200@gcrcla.org
SUMMARY:Every Monday\, Blood Pressure Screening\, Food Distribution\, Clothing/Housing Distribution
DESCRIPTION:Every Monday\, Blood Pressure Screening\, Food Distribution\, Clothing/Housing Distribution
URL:https://gcrcla.org/event/every-monday-blood-pressure-screening-food-distribution-clothing-housing-distribution/2030-04-29/
LOCATION:The Wilcox\, 1040 N Kenmore Ave\, Los Angeles\, CA\, 90029\, United States
CATEGORIES:Blood Pressure Screening,Clothing Distribution,Food Distribution,Houseware Distribution,The Wilcox
ORGANIZER;CN="GCRCLA":MAILTO:info@gcrcla.org, ywanderson@gcrcla.org
END:VEVENT
BEGIN:VEVENT
DTSTART;TZID=UTC:20300430T080000
DTEND;TZID=UTC:20300430T170000
DTSTAMP:20260426T004844
CREATED:20250731T202023Z
LAST-MODIFIED:20250809T034013Z
UID:10001020-1903766400-1903798800@gcrcla.org
SUMMARY:Every Tuesday\, Clothing Distribution\, Food Distribution\, Blood Pressure Screens
DESCRIPTION:Every Tuesday\, Clothing Distribution\, Food Distribution\, Blood Pressure Screens\, The Quincy
URL:https://gcrcla.org/event/every-tuesday-clothing-distribution-food-distribution-blood-pressure-screens/2030-04-30/
LOCATION:The Quincy\, 2652 West Pico Blvd\, Los Angeles\, CA\, 90006\, United States
CATEGORIES:Blood Pressure Screening,Clothing Distribution,Every Tuesday,Food Distribution,The Quincy
ORGANIZER;CN="GCRCLA":MAILTO:info@gcrcla.org, ywanderson@gcrcla.org
END:VEVENT
BEGIN:VEVENT
DTSTART;TZID=UTC:20300506T100000
DTEND;TZID=UTC:20300506T150000
DTSTAMP:20260426T004845
CREATED:20250809T032115Z
LAST-MODIFIED:20250809T032115Z
UID:10000759-1904292000-1904310000@gcrcla.org
SUMMARY:Every Monday\, Blood Pressure Screening\, Food Distribution\, Clothing/Housing Distribution
DESCRIPTION:Every Monday\, Blood Pressure Screening\, Food Distribution\, Clothing/Housing Distribution
URL:https://gcrcla.org/event/every-monday-blood-pressure-screening-food-distribution-clothing-housing-distribution/2030-05-06/
LOCATION:The Wilcox\, 1040 N Kenmore Ave\, Los Angeles\, CA\, 90029\, United States
CATEGORIES:Blood Pressure Screening,Clothing Distribution,Food Distribution,Houseware Distribution,The Wilcox
ORGANIZER;CN="GCRCLA":MAILTO:info@gcrcla.org, ywanderson@gcrcla.org
END:VEVENT
BEGIN:VEVENT
DTSTART;TZID=UTC:20300507T080000
DTEND;TZID=UTC:20300507T170000
DTSTAMP:20260426T004845
CREATED:20250731T202023Z
LAST-MODIFIED:20250809T034013Z
UID:10001021-1904371200-1904403600@gcrcla.org
SUMMARY:Every Tuesday\, Clothing Distribution\, Food Distribution\, Blood Pressure Screens
DESCRIPTION:Every Tuesday\, Clothing Distribution\, Food Distribution\, Blood Pressure Screens\, The Quincy
URL:https://gcrcla.org/event/every-tuesday-clothing-distribution-food-distribution-blood-pressure-screens/2030-05-07/
LOCATION:The Quincy\, 2652 West Pico Blvd\, Los Angeles\, CA\, 90006\, United States
CATEGORIES:Blood Pressure Screening,Clothing Distribution,Every Tuesday,Food Distribution,The Quincy
ORGANIZER;CN="GCRCLA":MAILTO:info@gcrcla.org, ywanderson@gcrcla.org
END:VEVENT
BEGIN:VEVENT
DTSTART;TZID=UTC:20300513T100000
DTEND;TZID=UTC:20300513T150000
DTSTAMP:20260426T004845
CREATED:20250809T032115Z
LAST-MODIFIED:20250809T032115Z
UID:10000760-1904896800-1904914800@gcrcla.org
SUMMARY:Every Monday\, Blood Pressure Screening\, Food Distribution\, Clothing/Housing Distribution
DESCRIPTION:Every Monday\, Blood Pressure Screening\, Food Distribution\, Clothing/Housing Distribution
URL:https://gcrcla.org/event/every-monday-blood-pressure-screening-food-distribution-clothing-housing-distribution/2030-05-13/
LOCATION:The Wilcox\, 1040 N Kenmore Ave\, Los Angeles\, CA\, 90029\, United States
CATEGORIES:Blood Pressure Screening,Clothing Distribution,Food Distribution,Houseware Distribution,The Wilcox
ORGANIZER;CN="GCRCLA":MAILTO:info@gcrcla.org, ywanderson@gcrcla.org
END:VEVENT
BEGIN:VEVENT
DTSTART;TZID=UTC:20300514T080000
DTEND;TZID=UTC:20300514T170000
DTSTAMP:20260426T004845
CREATED:20250731T202023Z
LAST-MODIFIED:20250809T034013Z
UID:10001022-1904976000-1905008400@gcrcla.org
SUMMARY:Every Tuesday\, Clothing Distribution\, Food Distribution\, Blood Pressure Screens
DESCRIPTION:Every Tuesday\, Clothing Distribution\, Food Distribution\, Blood Pressure Screens\, The Quincy
URL:https://gcrcla.org/event/every-tuesday-clothing-distribution-food-distribution-blood-pressure-screens/2030-05-14/
LOCATION:The Quincy\, 2652 West Pico Blvd\, Los Angeles\, CA\, 90006\, United States
CATEGORIES:Blood Pressure Screening,Clothing Distribution,Every Tuesday,Food Distribution,The Quincy
ORGANIZER;CN="GCRCLA":MAILTO:info@gcrcla.org, ywanderson@gcrcla.org
END:VEVENT
BEGIN:VEVENT
DTSTART;TZID=UTC:20300520T100000
DTEND;TZID=UTC:20300520T150000
DTSTAMP:20260426T004845
CREATED:20250809T032115Z
LAST-MODIFIED:20250809T032115Z
UID:10000761-1905501600-1905519600@gcrcla.org
SUMMARY:Every Monday\, Blood Pressure Screening\, Food Distribution\, Clothing/Housing Distribution
DESCRIPTION:Every Monday\, Blood Pressure Screening\, Food Distribution\, Clothing/Housing Distribution
URL:https://gcrcla.org/event/every-monday-blood-pressure-screening-food-distribution-clothing-housing-distribution/2030-05-20/
LOCATION:The Wilcox\, 1040 N Kenmore Ave\, Los Angeles\, CA\, 90029\, United States
CATEGORIES:Blood Pressure Screening,Clothing Distribution,Food Distribution,Houseware Distribution,The Wilcox
ORGANIZER;CN="GCRCLA":MAILTO:info@gcrcla.org, ywanderson@gcrcla.org
END:VEVENT
BEGIN:VEVENT
DTSTART;TZID=UTC:20300521T080000
DTEND;TZID=UTC:20300521T170000
DTSTAMP:20260426T004845
CREATED:20250731T202023Z
LAST-MODIFIED:20250809T034013Z
UID:10001023-1905580800-1905613200@gcrcla.org
SUMMARY:Every Tuesday\, Clothing Distribution\, Food Distribution\, Blood Pressure Screens
DESCRIPTION:Every Tuesday\, Clothing Distribution\, Food Distribution\, Blood Pressure Screens\, The Quincy
URL:https://gcrcla.org/event/every-tuesday-clothing-distribution-food-distribution-blood-pressure-screens/2030-05-21/
LOCATION:The Quincy\, 2652 West Pico Blvd\, Los Angeles\, CA\, 90006\, United States
CATEGORIES:Blood Pressure Screening,Clothing Distribution,Every Tuesday,Food Distribution,The Quincy
ORGANIZER;CN="GCRCLA":MAILTO:info@gcrcla.org, ywanderson@gcrcla.org
END:VEVENT
BEGIN:VEVENT
DTSTART;TZID=UTC:20300527T100000
DTEND;TZID=UTC:20300527T150000
DTSTAMP:20260426T004845
CREATED:20250809T032115Z
LAST-MODIFIED:20250809T032115Z
UID:10000762-1906106400-1906124400@gcrcla.org
SUMMARY:Every Monday\, Blood Pressure Screening\, Food Distribution\, Clothing/Housing Distribution
DESCRIPTION:Every Monday\, Blood Pressure Screening\, Food Distribution\, Clothing/Housing Distribution
URL:https://gcrcla.org/event/every-monday-blood-pressure-screening-food-distribution-clothing-housing-distribution/2030-05-27/
LOCATION:The Wilcox\, 1040 N Kenmore Ave\, Los Angeles\, CA\, 90029\, United States
CATEGORIES:Blood Pressure Screening,Clothing Distribution,Food Distribution,Houseware Distribution,The Wilcox
ORGANIZER;CN="GCRCLA":MAILTO:info@gcrcla.org, ywanderson@gcrcla.org
END:VEVENT
BEGIN:VEVENT
DTSTART;TZID=UTC:20300528T080000
DTEND;TZID=UTC:20300528T170000
DTSTAMP:20260426T004845
CREATED:20250731T202023Z
LAST-MODIFIED:20250809T034013Z
UID:10001024-1906185600-1906218000@gcrcla.org
SUMMARY:Every Tuesday\, Clothing Distribution\, Food Distribution\, Blood Pressure Screens
DESCRIPTION:Every Tuesday\, Clothing Distribution\, Food Distribution\, Blood Pressure Screens\, The Quincy
URL:https://gcrcla.org/event/every-tuesday-clothing-distribution-food-distribution-blood-pressure-screens/2030-05-28/
LOCATION:The Quincy\, 2652 West Pico Blvd\, Los Angeles\, CA\, 90006\, United States
CATEGORIES:Blood Pressure Screening,Clothing Distribution,Every Tuesday,Food Distribution,The Quincy
ORGANIZER;CN="GCRCLA":MAILTO:info@gcrcla.org, ywanderson@gcrcla.org
END:VEVENT
BEGIN:VEVENT
DTSTART;TZID=UTC:20300603T100000
DTEND;TZID=UTC:20300603T150000
DTSTAMP:20260426T004845
CREATED:20250809T032115Z
LAST-MODIFIED:20250809T032115Z
UID:10000763-1906711200-1906729200@gcrcla.org
SUMMARY:Every Monday\, Blood Pressure Screening\, Food Distribution\, Clothing/Housing Distribution
DESCRIPTION:Every Monday\, Blood Pressure Screening\, Food Distribution\, Clothing/Housing Distribution
URL:https://gcrcla.org/event/every-monday-blood-pressure-screening-food-distribution-clothing-housing-distribution/2030-06-03/
LOCATION:The Wilcox\, 1040 N Kenmore Ave\, Los Angeles\, CA\, 90029\, United States
CATEGORIES:Blood Pressure Screening,Clothing Distribution,Food Distribution,Houseware Distribution,The Wilcox
ORGANIZER;CN="GCRCLA":MAILTO:info@gcrcla.org, ywanderson@gcrcla.org
END:VEVENT
BEGIN:VEVENT
DTSTART;TZID=UTC:20300604T080000
DTEND;TZID=UTC:20300604T170000
DTSTAMP:20260426T004845
CREATED:20250731T202023Z
LAST-MODIFIED:20250809T034013Z
UID:10001025-1906790400-1906822800@gcrcla.org
SUMMARY:Every Tuesday\, Clothing Distribution\, Food Distribution\, Blood Pressure Screens
DESCRIPTION:Every Tuesday\, Clothing Distribution\, Food Distribution\, Blood Pressure Screens\, The Quincy
URL:https://gcrcla.org/event/every-tuesday-clothing-distribution-food-distribution-blood-pressure-screens/2030-06-04/
LOCATION:The Quincy\, 2652 West Pico Blvd\, Los Angeles\, CA\, 90006\, United States
CATEGORIES:Blood Pressure Screening,Clothing Distribution,Every Tuesday,Food Distribution,The Quincy
ORGANIZER;CN="GCRCLA":MAILTO:info@gcrcla.org, ywanderson@gcrcla.org
END:VEVENT
BEGIN:VEVENT
DTSTART;TZID=UTC:20300610T100000
DTEND;TZID=UTC:20300610T150000
DTSTAMP:20260426T004845
CREATED:20250809T032115Z
LAST-MODIFIED:20250809T032115Z
UID:10000764-1907316000-1907334000@gcrcla.org
SUMMARY:Every Monday\, Blood Pressure Screening\, Food Distribution\, Clothing/Housing Distribution
DESCRIPTION:Every Monday\, Blood Pressure Screening\, Food Distribution\, Clothing/Housing Distribution
URL:https://gcrcla.org/event/every-monday-blood-pressure-screening-food-distribution-clothing-housing-distribution/2030-06-10/
LOCATION:The Wilcox\, 1040 N Kenmore Ave\, Los Angeles\, CA\, 90029\, United States
CATEGORIES:Blood Pressure Screening,Clothing Distribution,Food Distribution,Houseware Distribution,The Wilcox
ORGANIZER;CN="GCRCLA":MAILTO:info@gcrcla.org, ywanderson@gcrcla.org
END:VEVENT
BEGIN:VEVENT
DTSTART;TZID=UTC:20300611T080000
DTEND;TZID=UTC:20300611T170000
DTSTAMP:20260426T004845
CREATED:20250731T202023Z
LAST-MODIFIED:20250809T034013Z
UID:10001026-1907395200-1907427600@gcrcla.org
SUMMARY:Every Tuesday\, Clothing Distribution\, Food Distribution\, Blood Pressure Screens
DESCRIPTION:Every Tuesday\, Clothing Distribution\, Food Distribution\, Blood Pressure Screens\, The Quincy
URL:https://gcrcla.org/event/every-tuesday-clothing-distribution-food-distribution-blood-pressure-screens/2030-06-11/
LOCATION:The Quincy\, 2652 West Pico Blvd\, Los Angeles\, CA\, 90006\, United States
CATEGORIES:Blood Pressure Screening,Clothing Distribution,Every Tuesday,Food Distribution,The Quincy
ORGANIZER;CN="GCRCLA":MAILTO:info@gcrcla.org, ywanderson@gcrcla.org
END:VEVENT
BEGIN:VEVENT
DTSTART;TZID=UTC:20300617T100000
DTEND;TZID=UTC:20300617T150000
DTSTAMP:20260426T004845
CREATED:20250809T032115Z
LAST-MODIFIED:20250809T032115Z
UID:10000765-1907920800-1907938800@gcrcla.org
SUMMARY:Every Monday\, Blood Pressure Screening\, Food Distribution\, Clothing/Housing Distribution
DESCRIPTION:Every Monday\, Blood Pressure Screening\, Food Distribution\, Clothing/Housing Distribution
URL:https://gcrcla.org/event/every-monday-blood-pressure-screening-food-distribution-clothing-housing-distribution/2030-06-17/
LOCATION:The Wilcox\, 1040 N Kenmore Ave\, Los Angeles\, CA\, 90029\, United States
CATEGORIES:Blood Pressure Screening,Clothing Distribution,Food Distribution,Houseware Distribution,The Wilcox
ORGANIZER;CN="GCRCLA":MAILTO:info@gcrcla.org, ywanderson@gcrcla.org
END:VEVENT
BEGIN:VEVENT
DTSTART;TZID=UTC:20300618T080000
DTEND;TZID=UTC:20300618T170000
DTSTAMP:20260426T004845
CREATED:20250731T202023Z
LAST-MODIFIED:20250809T034013Z
UID:10001027-1908000000-1908032400@gcrcla.org
SUMMARY:Every Tuesday\, Clothing Distribution\, Food Distribution\, Blood Pressure Screens
DESCRIPTION:Every Tuesday\, Clothing Distribution\, Food Distribution\, Blood Pressure Screens\, The Quincy
URL:https://gcrcla.org/event/every-tuesday-clothing-distribution-food-distribution-blood-pressure-screens/2030-06-18/
LOCATION:The Quincy\, 2652 West Pico Blvd\, Los Angeles\, CA\, 90006\, United States
CATEGORIES:Blood Pressure Screening,Clothing Distribution,Every Tuesday,Food Distribution,The Quincy
ORGANIZER;CN="GCRCLA":MAILTO:info@gcrcla.org, ywanderson@gcrcla.org
END:VEVENT
BEGIN:VEVENT
DTSTART;TZID=UTC:20300624T100000
DTEND;TZID=UTC:20300624T150000
DTSTAMP:20260426T004845
CREATED:20250809T032115Z
LAST-MODIFIED:20250809T032115Z
UID:10000766-1908525600-1908543600@gcrcla.org
SUMMARY:Every Monday\, Blood Pressure Screening\, Food Distribution\, Clothing/Housing Distribution
DESCRIPTION:Every Monday\, Blood Pressure Screening\, Food Distribution\, Clothing/Housing Distribution
URL:https://gcrcla.org/event/every-monday-blood-pressure-screening-food-distribution-clothing-housing-distribution/2030-06-24/
LOCATION:The Wilcox\, 1040 N Kenmore Ave\, Los Angeles\, CA\, 90029\, United States
CATEGORIES:Blood Pressure Screening,Clothing Distribution,Food Distribution,Houseware Distribution,The Wilcox
ORGANIZER;CN="GCRCLA":MAILTO:info@gcrcla.org, ywanderson@gcrcla.org
END:VEVENT
BEGIN:VEVENT
DTSTART;TZID=UTC:20300625T080000
DTEND;TZID=UTC:20300625T170000
DTSTAMP:20260426T004845
CREATED:20250731T202023Z
LAST-MODIFIED:20250809T034013Z
UID:10001028-1908604800-1908637200@gcrcla.org
SUMMARY:Every Tuesday\, Clothing Distribution\, Food Distribution\, Blood Pressure Screens
DESCRIPTION:Every Tuesday\, Clothing Distribution\, Food Distribution\, Blood Pressure Screens\, The Quincy
URL:https://gcrcla.org/event/every-tuesday-clothing-distribution-food-distribution-blood-pressure-screens/2030-06-25/
LOCATION:The Quincy\, 2652 West Pico Blvd\, Los Angeles\, CA\, 90006\, United States
CATEGORIES:Blood Pressure Screening,Clothing Distribution,Every Tuesday,Food Distribution,The Quincy
ORGANIZER;CN="GCRCLA":MAILTO:info@gcrcla.org, ywanderson@gcrcla.org
END:VEVENT
BEGIN:VEVENT
DTSTART;TZID=UTC:20300701T100000
DTEND;TZID=UTC:20300701T150000
DTSTAMP:20260426T004845
CREATED:20250809T032115Z
LAST-MODIFIED:20250809T032115Z
UID:10000767-1909130400-1909148400@gcrcla.org
SUMMARY:Every Monday\, Blood Pressure Screening\, Food Distribution\, Clothing/Housing Distribution
DESCRIPTION:Every Monday\, Blood Pressure Screening\, Food Distribution\, Clothing/Housing Distribution
URL:https://gcrcla.org/event/every-monday-blood-pressure-screening-food-distribution-clothing-housing-distribution/2030-07-01/
LOCATION:The Wilcox\, 1040 N Kenmore Ave\, Los Angeles\, CA\, 90029\, United States
CATEGORIES:Blood Pressure Screening,Clothing Distribution,Food Distribution,Houseware Distribution,The Wilcox
ORGANIZER;CN="GCRCLA":MAILTO:info@gcrcla.org, ywanderson@gcrcla.org
END:VEVENT
BEGIN:VEVENT
DTSTART;TZID=UTC:20300702T080000
DTEND;TZID=UTC:20300702T170000
DTSTAMP:20260426T004845
CREATED:20250731T202023Z
LAST-MODIFIED:20250809T034013Z
UID:10001029-1909209600-1909242000@gcrcla.org
SUMMARY:Every Tuesday\, Clothing Distribution\, Food Distribution\, Blood Pressure Screens
DESCRIPTION:Every Tuesday\, Clothing Distribution\, Food Distribution\, Blood Pressure Screens\, The Quincy
URL:https://gcrcla.org/event/every-tuesday-clothing-distribution-food-distribution-blood-pressure-screens/2030-07-02/
LOCATION:The Quincy\, 2652 West Pico Blvd\, Los Angeles\, CA\, 90006\, United States
CATEGORIES:Blood Pressure Screening,Clothing Distribution,Every Tuesday,Food Distribution,The Quincy
ORGANIZER;CN="GCRCLA":MAILTO:info@gcrcla.org, ywanderson@gcrcla.org
END:VEVENT
END:VCALENDAR