BEGIN:VCALENDAR
VERSION:2.0
PRODID:-//GCRCLA - ECPv6.15.20//NONSGML v1.0//EN
CALSCALE:GREGORIAN
METHOD:PUBLISH
X-ORIGINAL-URL:https://gcrcla.org
X-WR-CALDESC:Events for GCRCLA
REFRESH-INTERVAL;VALUE=DURATION:PT1H
X-Robots-Tag:noindex
X-PUBLISHED-TTL:PT1H
BEGIN:VTIMEZONE
TZID:UTC
BEGIN:STANDARD
TZOFFSETFROM:+0000
TZOFFSETTO:+0000
TZNAME:UTC
DTSTART:20240101T000000
END:STANDARD
END:VTIMEZONE
BEGIN:VEVENT
DTSTART;TZID=UTC:20250523T110000
DTEND;TZID=UTC:20250523T120000
DTSTAMP:20260424T140323
CREATED:20250509T025503Z
LAST-MODIFIED:20250509T025503Z
UID:10000159-1747998000-1748001600@gcrcla.org
SUMMARY:Fourth Fridays
DESCRIPTION:Fourth Fridays Tenant Meeting – Depot 11:00 to 12:00
URL:https://gcrcla.org/event/fourth-fridays/
CATEGORIES:Fourth Friday
END:VEVENT
END:VCALENDAR