BEGIN:VCALENDAR
VERSION:2.0
PRODID:-//GCRCLA - ECPv6.15.20//NONSGML v1.0//EN
CALSCALE:GREGORIAN
METHOD:PUBLISH
X-ORIGINAL-URL:https://gcrcla.org
X-WR-CALDESC:Events for GCRCLA
REFRESH-INTERVAL;VALUE=DURATION:PT1H
X-Robots-Tag:noindex
X-PUBLISHED-TTL:PT1H
BEGIN:VTIMEZONE
TZID:UTC
BEGIN:STANDARD
TZOFFSETFROM:+0000
TZOFFSETTO:+0000
TZNAME:UTC
DTSTART:20280101T000000
END:STANDARD
END:VTIMEZONE
BEGIN:VEVENT
DTSTART;TZID=UTC:20290307T100000
DTEND;TZID=UTC:20290307T150000
DTSTAMP:20260425T225914
CREATED:20250731T210025Z
LAST-MODIFIED:20250809T040032Z
UID:10001222-1867572000-1867590000@gcrcla.org
SUMMARY:Every Wednesday\, BLOOD PRESSURE SCREENS\, CLOTHING & HOUSEWARE DISTRIBUTION\, FOOD BANK LAX FOOD BAG DISTRIBUTION
DESCRIPTION:Every Wednesday\, BLOOD PRESSURE SCREENS\, CLOTHING & HOUSEWARE DISTRIBUTION\, LAX FOOD BAG DISTRIBUTION
URL:https://gcrcla.org/event/every-wednesday-blood-pressure-screens-clothing-houseware-distribution-lax-food-bag-distribution/2029-03-07/
LOCATION:Metro@Buckingham\, 4018 Buckingham Rd\, Los Angeles\, CA\, 90008\, United States
CATEGORIES:Blood Pressure Screening,Clothing Distribution,First Wednesday,LAX Food Bag Distribution,Metro@Buckingham
ORGANIZER;CN="GCRCLA":MAILTO:info@gcrcla.org, ywanderson@gcrcla.org
END:VEVENT
BEGIN:VEVENT
DTSTART;TZID=UTC:20290314T100000
DTEND;TZID=UTC:20290314T150000
DTSTAMP:20260425T225914
CREATED:20250731T210025Z
LAST-MODIFIED:20250809T040032Z
UID:10001223-1868176800-1868194800@gcrcla.org
SUMMARY:Every Wednesday\, BLOOD PRESSURE SCREENS\, CLOTHING & HOUSEWARE DISTRIBUTION\, FOOD BANK LAX FOOD BAG DISTRIBUTION
DESCRIPTION:Every Wednesday\, BLOOD PRESSURE SCREENS\, CLOTHING & HOUSEWARE DISTRIBUTION\, LAX FOOD BAG DISTRIBUTION
URL:https://gcrcla.org/event/every-wednesday-blood-pressure-screens-clothing-houseware-distribution-lax-food-bag-distribution/2029-03-14/
LOCATION:Metro@Buckingham\, 4018 Buckingham Rd\, Los Angeles\, CA\, 90008\, United States
CATEGORIES:Blood Pressure Screening,Clothing Distribution,First Wednesday,LAX Food Bag Distribution,Metro@Buckingham
ORGANIZER;CN="GCRCLA":MAILTO:info@gcrcla.org, ywanderson@gcrcla.org
END:VEVENT
BEGIN:VEVENT
DTSTART;TZID=UTC:20290321T100000
DTEND;TZID=UTC:20290321T150000
DTSTAMP:20260425T225914
CREATED:20250731T210025Z
LAST-MODIFIED:20250809T040032Z
UID:10001224-1868781600-1868799600@gcrcla.org
SUMMARY:Every Wednesday\, BLOOD PRESSURE SCREENS\, CLOTHING & HOUSEWARE DISTRIBUTION\, FOOD BANK LAX FOOD BAG DISTRIBUTION
DESCRIPTION:Every Wednesday\, BLOOD PRESSURE SCREENS\, CLOTHING & HOUSEWARE DISTRIBUTION\, LAX FOOD BAG DISTRIBUTION
URL:https://gcrcla.org/event/every-wednesday-blood-pressure-screens-clothing-houseware-distribution-lax-food-bag-distribution/2029-03-21/
LOCATION:Metro@Buckingham\, 4018 Buckingham Rd\, Los Angeles\, CA\, 90008\, United States
CATEGORIES:Blood Pressure Screening,Clothing Distribution,First Wednesday,LAX Food Bag Distribution,Metro@Buckingham
ORGANIZER;CN="GCRCLA":MAILTO:info@gcrcla.org, ywanderson@gcrcla.org
END:VEVENT
BEGIN:VEVENT
DTSTART;TZID=UTC:20290328T100000
DTEND;TZID=UTC:20290328T150000
DTSTAMP:20260425T225914
CREATED:20250731T210025Z
LAST-MODIFIED:20250809T040032Z
UID:10001225-1869386400-1869404400@gcrcla.org
SUMMARY:Every Wednesday\, BLOOD PRESSURE SCREENS\, CLOTHING & HOUSEWARE DISTRIBUTION\, FOOD BANK LAX FOOD BAG DISTRIBUTION
DESCRIPTION:Every Wednesday\, BLOOD PRESSURE SCREENS\, CLOTHING & HOUSEWARE DISTRIBUTION\, LAX FOOD BAG DISTRIBUTION
URL:https://gcrcla.org/event/every-wednesday-blood-pressure-screens-clothing-houseware-distribution-lax-food-bag-distribution/2029-03-28/
LOCATION:Metro@Buckingham\, 4018 Buckingham Rd\, Los Angeles\, CA\, 90008\, United States
CATEGORIES:Blood Pressure Screening,Clothing Distribution,First Wednesday,LAX Food Bag Distribution,Metro@Buckingham
ORGANIZER;CN="GCRCLA":MAILTO:info@gcrcla.org, ywanderson@gcrcla.org
END:VEVENT
END:VCALENDAR