BEGIN:VCALENDAR
VERSION:2.0
PRODID:-//GCRCLA - ECPv6.15.20//NONSGML v1.0//EN
CALSCALE:GREGORIAN
METHOD:PUBLISH
X-WR-CALNAME:GCRCLA
X-ORIGINAL-URL:https://gcrcla.org
X-WR-CALDESC:Events for GCRCLA
REFRESH-INTERVAL;VALUE=DURATION:PT1H
X-Robots-Tag:noindex
X-PUBLISHED-TTL:PT1H
BEGIN:VTIMEZONE
TZID:UTC
BEGIN:STANDARD
TZOFFSETFROM:+0000
TZOFFSETTO:+0000
TZNAME:UTC
DTSTART:20240101T000000
END:STANDARD
END:VTIMEZONE
BEGIN:VEVENT
DTSTART;TZID=UTC:20250514T130000
DTEND;TZID=UTC:20250514T150000
DTSTAMP:20260424T183602
CREATED:20250509T024734Z
LAST-MODIFIED:20250509T024734Z
UID:10000157-1747227600-1747234800@gcrcla.org
SUMMARY:Second Wednesday
DESCRIPTION:Living Room – Westmont Crafts\, Fellowship 1:00 to 2:00
URL:https://gcrcla.org/event/second-wednesday-4/
LOCATION:Westmont Apartments\, 4126 Arlington Ave\, Los Angeles\, CA\, United States
CATEGORIES:Second Wednesday
ORGANIZER;CN="GCRCLA":MAILTO:info@gcrcla.org, ywanderson@gcrcla.org
END:VEVENT
END:VCALENDAR