BEGIN:VCALENDAR
VERSION:2.0
PRODID:-//GCRCLA - ECPv6.15.20//NONSGML v1.0//EN
CALSCALE:GREGORIAN
METHOD:PUBLISH
X-ORIGINAL-URL:https://gcrcla.org
X-WR-CALDESC:Events for GCRCLA
REFRESH-INTERVAL;VALUE=DURATION:PT1H
X-Robots-Tag:noindex
X-PUBLISHED-TTL:PT1H
BEGIN:VTIMEZONE
TZID:UTC
BEGIN:STANDARD
TZOFFSETFROM:+0000
TZOFFSETTO:+0000
TZNAME:UTC
DTSTART:20270101T000000
END:STANDARD
END:VTIMEZONE
BEGIN:VEVENT
DTSTART;TZID=UTC:20280229T080000
DTEND;TZID=UTC:20280229T170000
DTSTAMP:20260424T082925
CREATED:20250731T202023Z
LAST-MODIFIED:20250809T034013Z
UID:10000907-1835424000-1835456400@gcrcla.org
SUMMARY:Every Tuesday\, Clothing Distribution\, Food Distribution\, Blood Pressure Screens
DESCRIPTION:Every Tuesday\, Clothing Distribution\, Food Distribution\, Blood Pressure Screens\, The Quincy
URL:https://gcrcla.org/event/every-tuesday-clothing-distribution-food-distribution-blood-pressure-screens/2028-02-29/
LOCATION:The Quincy\, 2652 West Pico Blvd\, Los Angeles\, CA\, 90006\, United States
CATEGORIES:Blood Pressure Screening,Clothing Distribution,Every Tuesday,Food Distribution,The Quincy
ORGANIZER;CN="GCRCLA":MAILTO:info@gcrcla.org, ywanderson@gcrcla.org
END:VEVENT
BEGIN:VEVENT
DTSTART;TZID=UTC:20280307T080000
DTEND;TZID=UTC:20280307T170000
DTSTAMP:20260424T082925
CREATED:20250731T202023Z
LAST-MODIFIED:20250809T034013Z
UID:10000908-1836028800-1836061200@gcrcla.org
SUMMARY:Every Tuesday\, Clothing Distribution\, Food Distribution\, Blood Pressure Screens
DESCRIPTION:Every Tuesday\, Clothing Distribution\, Food Distribution\, Blood Pressure Screens\, The Quincy
URL:https://gcrcla.org/event/every-tuesday-clothing-distribution-food-distribution-blood-pressure-screens/2028-03-07/
LOCATION:The Quincy\, 2652 West Pico Blvd\, Los Angeles\, CA\, 90006\, United States
CATEGORIES:Blood Pressure Screening,Clothing Distribution,Every Tuesday,Food Distribution,The Quincy
ORGANIZER;CN="GCRCLA":MAILTO:info@gcrcla.org, ywanderson@gcrcla.org
END:VEVENT
BEGIN:VEVENT
DTSTART;TZID=UTC:20280314T080000
DTEND;TZID=UTC:20280314T170000
DTSTAMP:20260424T082925
CREATED:20250731T202023Z
LAST-MODIFIED:20250809T034013Z
UID:10000909-1836633600-1836666000@gcrcla.org
SUMMARY:Every Tuesday\, Clothing Distribution\, Food Distribution\, Blood Pressure Screens
DESCRIPTION:Every Tuesday\, Clothing Distribution\, Food Distribution\, Blood Pressure Screens\, The Quincy
URL:https://gcrcla.org/event/every-tuesday-clothing-distribution-food-distribution-blood-pressure-screens/2028-03-14/
LOCATION:The Quincy\, 2652 West Pico Blvd\, Los Angeles\, CA\, 90006\, United States
CATEGORIES:Blood Pressure Screening,Clothing Distribution,Every Tuesday,Food Distribution,The Quincy
ORGANIZER;CN="GCRCLA":MAILTO:info@gcrcla.org, ywanderson@gcrcla.org
END:VEVENT
BEGIN:VEVENT
DTSTART;TZID=UTC:20280321T080000
DTEND;TZID=UTC:20280321T170000
DTSTAMP:20260424T082925
CREATED:20250731T202023Z
LAST-MODIFIED:20250809T034013Z
UID:10000910-1837238400-1837270800@gcrcla.org
SUMMARY:Every Tuesday\, Clothing Distribution\, Food Distribution\, Blood Pressure Screens
DESCRIPTION:Every Tuesday\, Clothing Distribution\, Food Distribution\, Blood Pressure Screens\, The Quincy
URL:https://gcrcla.org/event/every-tuesday-clothing-distribution-food-distribution-blood-pressure-screens/2028-03-21/
LOCATION:The Quincy\, 2652 West Pico Blvd\, Los Angeles\, CA\, 90006\, United States
CATEGORIES:Blood Pressure Screening,Clothing Distribution,Every Tuesday,Food Distribution,The Quincy
ORGANIZER;CN="GCRCLA":MAILTO:info@gcrcla.org, ywanderson@gcrcla.org
END:VEVENT
BEGIN:VEVENT
DTSTART;TZID=UTC:20280328T080000
DTEND;TZID=UTC:20280328T170000
DTSTAMP:20260424T082925
CREATED:20250731T202023Z
LAST-MODIFIED:20250809T034013Z
UID:10000911-1837843200-1837875600@gcrcla.org
SUMMARY:Every Tuesday\, Clothing Distribution\, Food Distribution\, Blood Pressure Screens
DESCRIPTION:Every Tuesday\, Clothing Distribution\, Food Distribution\, Blood Pressure Screens\, The Quincy
URL:https://gcrcla.org/event/every-tuesday-clothing-distribution-food-distribution-blood-pressure-screens/2028-03-28/
LOCATION:The Quincy\, 2652 West Pico Blvd\, Los Angeles\, CA\, 90006\, United States
CATEGORIES:Blood Pressure Screening,Clothing Distribution,Every Tuesday,Food Distribution,The Quincy
ORGANIZER;CN="GCRCLA":MAILTO:info@gcrcla.org, ywanderson@gcrcla.org
END:VEVENT
BEGIN:VEVENT
DTSTART;TZID=UTC:20280404T080000
DTEND;TZID=UTC:20280404T170000
DTSTAMP:20260424T082925
CREATED:20250731T202023Z
LAST-MODIFIED:20250809T034013Z
UID:10000912-1838448000-1838480400@gcrcla.org
SUMMARY:Every Tuesday\, Clothing Distribution\, Food Distribution\, Blood Pressure Screens
DESCRIPTION:Every Tuesday\, Clothing Distribution\, Food Distribution\, Blood Pressure Screens\, The Quincy
URL:https://gcrcla.org/event/every-tuesday-clothing-distribution-food-distribution-blood-pressure-screens/2028-04-04/
LOCATION:The Quincy\, 2652 West Pico Blvd\, Los Angeles\, CA\, 90006\, United States
CATEGORIES:Blood Pressure Screening,Clothing Distribution,Every Tuesday,Food Distribution,The Quincy
ORGANIZER;CN="GCRCLA":MAILTO:info@gcrcla.org, ywanderson@gcrcla.org
END:VEVENT
BEGIN:VEVENT
DTSTART;TZID=UTC:20280411T080000
DTEND;TZID=UTC:20280411T170000
DTSTAMP:20260424T082925
CREATED:20250731T202023Z
LAST-MODIFIED:20250809T034013Z
UID:10000913-1839052800-1839085200@gcrcla.org
SUMMARY:Every Tuesday\, Clothing Distribution\, Food Distribution\, Blood Pressure Screens
DESCRIPTION:Every Tuesday\, Clothing Distribution\, Food Distribution\, Blood Pressure Screens\, The Quincy
URL:https://gcrcla.org/event/every-tuesday-clothing-distribution-food-distribution-blood-pressure-screens/2028-04-11/
LOCATION:The Quincy\, 2652 West Pico Blvd\, Los Angeles\, CA\, 90006\, United States
CATEGORIES:Blood Pressure Screening,Clothing Distribution,Every Tuesday,Food Distribution,The Quincy
ORGANIZER;CN="GCRCLA":MAILTO:info@gcrcla.org, ywanderson@gcrcla.org
END:VEVENT
BEGIN:VEVENT
DTSTART;TZID=UTC:20280418T080000
DTEND;TZID=UTC:20280418T170000
DTSTAMP:20260424T082925
CREATED:20250731T202023Z
LAST-MODIFIED:20250809T034013Z
UID:10000914-1839657600-1839690000@gcrcla.org
SUMMARY:Every Tuesday\, Clothing Distribution\, Food Distribution\, Blood Pressure Screens
DESCRIPTION:Every Tuesday\, Clothing Distribution\, Food Distribution\, Blood Pressure Screens\, The Quincy
URL:https://gcrcla.org/event/every-tuesday-clothing-distribution-food-distribution-blood-pressure-screens/2028-04-18/
LOCATION:The Quincy\, 2652 West Pico Blvd\, Los Angeles\, CA\, 90006\, United States
CATEGORIES:Blood Pressure Screening,Clothing Distribution,Every Tuesday,Food Distribution,The Quincy
ORGANIZER;CN="GCRCLA":MAILTO:info@gcrcla.org, ywanderson@gcrcla.org
END:VEVENT
BEGIN:VEVENT
DTSTART;TZID=UTC:20280425T080000
DTEND;TZID=UTC:20280425T170000
DTSTAMP:20260424T082925
CREATED:20250731T202023Z
LAST-MODIFIED:20250809T034013Z
UID:10000915-1840262400-1840294800@gcrcla.org
SUMMARY:Every Tuesday\, Clothing Distribution\, Food Distribution\, Blood Pressure Screens
DESCRIPTION:Every Tuesday\, Clothing Distribution\, Food Distribution\, Blood Pressure Screens\, The Quincy
URL:https://gcrcla.org/event/every-tuesday-clothing-distribution-food-distribution-blood-pressure-screens/2028-04-25/
LOCATION:The Quincy\, 2652 West Pico Blvd\, Los Angeles\, CA\, 90006\, United States
CATEGORIES:Blood Pressure Screening,Clothing Distribution,Every Tuesday,Food Distribution,The Quincy
ORGANIZER;CN="GCRCLA":MAILTO:info@gcrcla.org, ywanderson@gcrcla.org
END:VEVENT
BEGIN:VEVENT
DTSTART;TZID=UTC:20280502T080000
DTEND;TZID=UTC:20280502T170000
DTSTAMP:20260424T082925
CREATED:20250731T202023Z
LAST-MODIFIED:20250809T034013Z
UID:10000916-1840867200-1840899600@gcrcla.org
SUMMARY:Every Tuesday\, Clothing Distribution\, Food Distribution\, Blood Pressure Screens
DESCRIPTION:Every Tuesday\, Clothing Distribution\, Food Distribution\, Blood Pressure Screens\, The Quincy
URL:https://gcrcla.org/event/every-tuesday-clothing-distribution-food-distribution-blood-pressure-screens/2028-05-02/
LOCATION:The Quincy\, 2652 West Pico Blvd\, Los Angeles\, CA\, 90006\, United States
CATEGORIES:Blood Pressure Screening,Clothing Distribution,Every Tuesday,Food Distribution,The Quincy
ORGANIZER;CN="GCRCLA":MAILTO:info@gcrcla.org, ywanderson@gcrcla.org
END:VEVENT
BEGIN:VEVENT
DTSTART;TZID=UTC:20280509T080000
DTEND;TZID=UTC:20280509T170000
DTSTAMP:20260424T082925
CREATED:20250731T202023Z
LAST-MODIFIED:20250809T034013Z
UID:10000917-1841472000-1841504400@gcrcla.org
SUMMARY:Every Tuesday\, Clothing Distribution\, Food Distribution\, Blood Pressure Screens
DESCRIPTION:Every Tuesday\, Clothing Distribution\, Food Distribution\, Blood Pressure Screens\, The Quincy
URL:https://gcrcla.org/event/every-tuesday-clothing-distribution-food-distribution-blood-pressure-screens/2028-05-09/
LOCATION:The Quincy\, 2652 West Pico Blvd\, Los Angeles\, CA\, 90006\, United States
CATEGORIES:Blood Pressure Screening,Clothing Distribution,Every Tuesday,Food Distribution,The Quincy
ORGANIZER;CN="GCRCLA":MAILTO:info@gcrcla.org, ywanderson@gcrcla.org
END:VEVENT
BEGIN:VEVENT
DTSTART;TZID=UTC:20280516T080000
DTEND;TZID=UTC:20280516T170000
DTSTAMP:20260424T082925
CREATED:20250731T202023Z
LAST-MODIFIED:20250809T034013Z
UID:10000918-1842076800-1842109200@gcrcla.org
SUMMARY:Every Tuesday\, Clothing Distribution\, Food Distribution\, Blood Pressure Screens
DESCRIPTION:Every Tuesday\, Clothing Distribution\, Food Distribution\, Blood Pressure Screens\, The Quincy
URL:https://gcrcla.org/event/every-tuesday-clothing-distribution-food-distribution-blood-pressure-screens/2028-05-16/
LOCATION:The Quincy\, 2652 West Pico Blvd\, Los Angeles\, CA\, 90006\, United States
CATEGORIES:Blood Pressure Screening,Clothing Distribution,Every Tuesday,Food Distribution,The Quincy
ORGANIZER;CN="GCRCLA":MAILTO:info@gcrcla.org, ywanderson@gcrcla.org
END:VEVENT
BEGIN:VEVENT
DTSTART;TZID=UTC:20280523T080000
DTEND;TZID=UTC:20280523T170000
DTSTAMP:20260424T082925
CREATED:20250731T202023Z
LAST-MODIFIED:20250809T034013Z
UID:10000919-1842681600-1842714000@gcrcla.org
SUMMARY:Every Tuesday\, Clothing Distribution\, Food Distribution\, Blood Pressure Screens
DESCRIPTION:Every Tuesday\, Clothing Distribution\, Food Distribution\, Blood Pressure Screens\, The Quincy
URL:https://gcrcla.org/event/every-tuesday-clothing-distribution-food-distribution-blood-pressure-screens/2028-05-23/
LOCATION:The Quincy\, 2652 West Pico Blvd\, Los Angeles\, CA\, 90006\, United States
CATEGORIES:Blood Pressure Screening,Clothing Distribution,Every Tuesday,Food Distribution,The Quincy
ORGANIZER;CN="GCRCLA":MAILTO:info@gcrcla.org, ywanderson@gcrcla.org
END:VEVENT
BEGIN:VEVENT
DTSTART;TZID=UTC:20280530T080000
DTEND;TZID=UTC:20280530T170000
DTSTAMP:20260424T082925
CREATED:20250731T202023Z
LAST-MODIFIED:20250809T034013Z
UID:10000920-1843286400-1843318800@gcrcla.org
SUMMARY:Every Tuesday\, Clothing Distribution\, Food Distribution\, Blood Pressure Screens
DESCRIPTION:Every Tuesday\, Clothing Distribution\, Food Distribution\, Blood Pressure Screens\, The Quincy
URL:https://gcrcla.org/event/every-tuesday-clothing-distribution-food-distribution-blood-pressure-screens/2028-05-30/
LOCATION:The Quincy\, 2652 West Pico Blvd\, Los Angeles\, CA\, 90006\, United States
CATEGORIES:Blood Pressure Screening,Clothing Distribution,Every Tuesday,Food Distribution,The Quincy
ORGANIZER;CN="GCRCLA":MAILTO:info@gcrcla.org, ywanderson@gcrcla.org
END:VEVENT
BEGIN:VEVENT
DTSTART;TZID=UTC:20280606T080000
DTEND;TZID=UTC:20280606T170000
DTSTAMP:20260424T082925
CREATED:20250731T202023Z
LAST-MODIFIED:20250809T034013Z
UID:10000921-1843891200-1843923600@gcrcla.org
SUMMARY:Every Tuesday\, Clothing Distribution\, Food Distribution\, Blood Pressure Screens
DESCRIPTION:Every Tuesday\, Clothing Distribution\, Food Distribution\, Blood Pressure Screens\, The Quincy
URL:https://gcrcla.org/event/every-tuesday-clothing-distribution-food-distribution-blood-pressure-screens/2028-06-06/
LOCATION:The Quincy\, 2652 West Pico Blvd\, Los Angeles\, CA\, 90006\, United States
CATEGORIES:Blood Pressure Screening,Clothing Distribution,Every Tuesday,Food Distribution,The Quincy
ORGANIZER;CN="GCRCLA":MAILTO:info@gcrcla.org, ywanderson@gcrcla.org
END:VEVENT
BEGIN:VEVENT
DTSTART;TZID=UTC:20280613T080000
DTEND;TZID=UTC:20280613T170000
DTSTAMP:20260424T082925
CREATED:20250731T202023Z
LAST-MODIFIED:20250809T034013Z
UID:10000922-1844496000-1844528400@gcrcla.org
SUMMARY:Every Tuesday\, Clothing Distribution\, Food Distribution\, Blood Pressure Screens
DESCRIPTION:Every Tuesday\, Clothing Distribution\, Food Distribution\, Blood Pressure Screens\, The Quincy
URL:https://gcrcla.org/event/every-tuesday-clothing-distribution-food-distribution-blood-pressure-screens/2028-06-13/
LOCATION:The Quincy\, 2652 West Pico Blvd\, Los Angeles\, CA\, 90006\, United States
CATEGORIES:Blood Pressure Screening,Clothing Distribution,Every Tuesday,Food Distribution,The Quincy
ORGANIZER;CN="GCRCLA":MAILTO:info@gcrcla.org, ywanderson@gcrcla.org
END:VEVENT
BEGIN:VEVENT
DTSTART;TZID=UTC:20280620T080000
DTEND;TZID=UTC:20280620T170000
DTSTAMP:20260424T082925
CREATED:20250731T202023Z
LAST-MODIFIED:20250809T034013Z
UID:10000923-1845100800-1845133200@gcrcla.org
SUMMARY:Every Tuesday\, Clothing Distribution\, Food Distribution\, Blood Pressure Screens
DESCRIPTION:Every Tuesday\, Clothing Distribution\, Food Distribution\, Blood Pressure Screens\, The Quincy
URL:https://gcrcla.org/event/every-tuesday-clothing-distribution-food-distribution-blood-pressure-screens/2028-06-20/
LOCATION:The Quincy\, 2652 West Pico Blvd\, Los Angeles\, CA\, 90006\, United States
CATEGORIES:Blood Pressure Screening,Clothing Distribution,Every Tuesday,Food Distribution,The Quincy
ORGANIZER;CN="GCRCLA":MAILTO:info@gcrcla.org, ywanderson@gcrcla.org
END:VEVENT
BEGIN:VEVENT
DTSTART;TZID=UTC:20280627T080000
DTEND;TZID=UTC:20280627T170000
DTSTAMP:20260424T082925
CREATED:20250731T202023Z
LAST-MODIFIED:20250809T034013Z
UID:10000924-1845705600-1845738000@gcrcla.org
SUMMARY:Every Tuesday\, Clothing Distribution\, Food Distribution\, Blood Pressure Screens
DESCRIPTION:Every Tuesday\, Clothing Distribution\, Food Distribution\, Blood Pressure Screens\, The Quincy
URL:https://gcrcla.org/event/every-tuesday-clothing-distribution-food-distribution-blood-pressure-screens/2028-06-27/
LOCATION:The Quincy\, 2652 West Pico Blvd\, Los Angeles\, CA\, 90006\, United States
CATEGORIES:Blood Pressure Screening,Clothing Distribution,Every Tuesday,Food Distribution,The Quincy
ORGANIZER;CN="GCRCLA":MAILTO:info@gcrcla.org, ywanderson@gcrcla.org
END:VEVENT
BEGIN:VEVENT
DTSTART;TZID=UTC:20280704T080000
DTEND;TZID=UTC:20280704T170000
DTSTAMP:20260424T082925
CREATED:20250731T202023Z
LAST-MODIFIED:20250809T034013Z
UID:10000925-1846310400-1846342800@gcrcla.org
SUMMARY:Every Tuesday\, Clothing Distribution\, Food Distribution\, Blood Pressure Screens
DESCRIPTION:Every Tuesday\, Clothing Distribution\, Food Distribution\, Blood Pressure Screens\, The Quincy
URL:https://gcrcla.org/event/every-tuesday-clothing-distribution-food-distribution-blood-pressure-screens/2028-07-04/
LOCATION:The Quincy\, 2652 West Pico Blvd\, Los Angeles\, CA\, 90006\, United States
CATEGORIES:Blood Pressure Screening,Clothing Distribution,Every Tuesday,Food Distribution,The Quincy
ORGANIZER;CN="GCRCLA":MAILTO:info@gcrcla.org, ywanderson@gcrcla.org
END:VEVENT
BEGIN:VEVENT
DTSTART;TZID=UTC:20280711T080000
DTEND;TZID=UTC:20280711T170000
DTSTAMP:20260424T082925
CREATED:20250731T202023Z
LAST-MODIFIED:20250809T034013Z
UID:10000926-1846915200-1846947600@gcrcla.org
SUMMARY:Every Tuesday\, Clothing Distribution\, Food Distribution\, Blood Pressure Screens
DESCRIPTION:Every Tuesday\, Clothing Distribution\, Food Distribution\, Blood Pressure Screens\, The Quincy
URL:https://gcrcla.org/event/every-tuesday-clothing-distribution-food-distribution-blood-pressure-screens/2028-07-11/
LOCATION:The Quincy\, 2652 West Pico Blvd\, Los Angeles\, CA\, 90006\, United States
CATEGORIES:Blood Pressure Screening,Clothing Distribution,Every Tuesday,Food Distribution,The Quincy
ORGANIZER;CN="GCRCLA":MAILTO:info@gcrcla.org, ywanderson@gcrcla.org
END:VEVENT
BEGIN:VEVENT
DTSTART;TZID=UTC:20280718T080000
DTEND;TZID=UTC:20280718T170000
DTSTAMP:20260424T082925
CREATED:20250731T202023Z
LAST-MODIFIED:20250809T034013Z
UID:10000927-1847520000-1847552400@gcrcla.org
SUMMARY:Every Tuesday\, Clothing Distribution\, Food Distribution\, Blood Pressure Screens
DESCRIPTION:Every Tuesday\, Clothing Distribution\, Food Distribution\, Blood Pressure Screens\, The Quincy
URL:https://gcrcla.org/event/every-tuesday-clothing-distribution-food-distribution-blood-pressure-screens/2028-07-18/
LOCATION:The Quincy\, 2652 West Pico Blvd\, Los Angeles\, CA\, 90006\, United States
CATEGORIES:Blood Pressure Screening,Clothing Distribution,Every Tuesday,Food Distribution,The Quincy
ORGANIZER;CN="GCRCLA":MAILTO:info@gcrcla.org, ywanderson@gcrcla.org
END:VEVENT
BEGIN:VEVENT
DTSTART;TZID=UTC:20280725T080000
DTEND;TZID=UTC:20280725T170000
DTSTAMP:20260424T082925
CREATED:20250731T202023Z
LAST-MODIFIED:20250809T034013Z
UID:10000928-1848124800-1848157200@gcrcla.org
SUMMARY:Every Tuesday\, Clothing Distribution\, Food Distribution\, Blood Pressure Screens
DESCRIPTION:Every Tuesday\, Clothing Distribution\, Food Distribution\, Blood Pressure Screens\, The Quincy
URL:https://gcrcla.org/event/every-tuesday-clothing-distribution-food-distribution-blood-pressure-screens/2028-07-25/
LOCATION:The Quincy\, 2652 West Pico Blvd\, Los Angeles\, CA\, 90006\, United States
CATEGORIES:Blood Pressure Screening,Clothing Distribution,Every Tuesday,Food Distribution,The Quincy
ORGANIZER;CN="GCRCLA":MAILTO:info@gcrcla.org, ywanderson@gcrcla.org
END:VEVENT
BEGIN:VEVENT
DTSTART;TZID=UTC:20280801T080000
DTEND;TZID=UTC:20280801T170000
DTSTAMP:20260424T082925
CREATED:20250731T202023Z
LAST-MODIFIED:20250809T034013Z
UID:10000929-1848729600-1848762000@gcrcla.org
SUMMARY:Every Tuesday\, Clothing Distribution\, Food Distribution\, Blood Pressure Screens
DESCRIPTION:Every Tuesday\, Clothing Distribution\, Food Distribution\, Blood Pressure Screens\, The Quincy
URL:https://gcrcla.org/event/every-tuesday-clothing-distribution-food-distribution-blood-pressure-screens/2028-08-01/
LOCATION:The Quincy\, 2652 West Pico Blvd\, Los Angeles\, CA\, 90006\, United States
CATEGORIES:Blood Pressure Screening,Clothing Distribution,Every Tuesday,Food Distribution,The Quincy
ORGANIZER;CN="GCRCLA":MAILTO:info@gcrcla.org, ywanderson@gcrcla.org
END:VEVENT
BEGIN:VEVENT
DTSTART;TZID=UTC:20280808T080000
DTEND;TZID=UTC:20280808T170000
DTSTAMP:20260424T082925
CREATED:20250731T202023Z
LAST-MODIFIED:20250809T034013Z
UID:10000930-1849334400-1849366800@gcrcla.org
SUMMARY:Every Tuesday\, Clothing Distribution\, Food Distribution\, Blood Pressure Screens
DESCRIPTION:Every Tuesday\, Clothing Distribution\, Food Distribution\, Blood Pressure Screens\, The Quincy
URL:https://gcrcla.org/event/every-tuesday-clothing-distribution-food-distribution-blood-pressure-screens/2028-08-08/
LOCATION:The Quincy\, 2652 West Pico Blvd\, Los Angeles\, CA\, 90006\, United States
CATEGORIES:Blood Pressure Screening,Clothing Distribution,Every Tuesday,Food Distribution,The Quincy
ORGANIZER;CN="GCRCLA":MAILTO:info@gcrcla.org, ywanderson@gcrcla.org
END:VEVENT
BEGIN:VEVENT
DTSTART;TZID=UTC:20280815T080000
DTEND;TZID=UTC:20280815T170000
DTSTAMP:20260424T082925
CREATED:20250731T202023Z
LAST-MODIFIED:20250809T034013Z
UID:10000931-1849939200-1849971600@gcrcla.org
SUMMARY:Every Tuesday\, Clothing Distribution\, Food Distribution\, Blood Pressure Screens
DESCRIPTION:Every Tuesday\, Clothing Distribution\, Food Distribution\, Blood Pressure Screens\, The Quincy
URL:https://gcrcla.org/event/every-tuesday-clothing-distribution-food-distribution-blood-pressure-screens/2028-08-15/
LOCATION:The Quincy\, 2652 West Pico Blvd\, Los Angeles\, CA\, 90006\, United States
CATEGORIES:Blood Pressure Screening,Clothing Distribution,Every Tuesday,Food Distribution,The Quincy
ORGANIZER;CN="GCRCLA":MAILTO:info@gcrcla.org, ywanderson@gcrcla.org
END:VEVENT
BEGIN:VEVENT
DTSTART;TZID=UTC:20280822T080000
DTEND;TZID=UTC:20280822T170000
DTSTAMP:20260424T082925
CREATED:20250731T202023Z
LAST-MODIFIED:20250809T034013Z
UID:10000932-1850544000-1850576400@gcrcla.org
SUMMARY:Every Tuesday\, Clothing Distribution\, Food Distribution\, Blood Pressure Screens
DESCRIPTION:Every Tuesday\, Clothing Distribution\, Food Distribution\, Blood Pressure Screens\, The Quincy
URL:https://gcrcla.org/event/every-tuesday-clothing-distribution-food-distribution-blood-pressure-screens/2028-08-22/
LOCATION:The Quincy\, 2652 West Pico Blvd\, Los Angeles\, CA\, 90006\, United States
CATEGORIES:Blood Pressure Screening,Clothing Distribution,Every Tuesday,Food Distribution,The Quincy
ORGANIZER;CN="GCRCLA":MAILTO:info@gcrcla.org, ywanderson@gcrcla.org
END:VEVENT
BEGIN:VEVENT
DTSTART;TZID=UTC:20280829T080000
DTEND;TZID=UTC:20280829T170000
DTSTAMP:20260424T082925
CREATED:20250731T202023Z
LAST-MODIFIED:20250809T034013Z
UID:10000933-1851148800-1851181200@gcrcla.org
SUMMARY:Every Tuesday\, Clothing Distribution\, Food Distribution\, Blood Pressure Screens
DESCRIPTION:Every Tuesday\, Clothing Distribution\, Food Distribution\, Blood Pressure Screens\, The Quincy
URL:https://gcrcla.org/event/every-tuesday-clothing-distribution-food-distribution-blood-pressure-screens/2028-08-29/
LOCATION:The Quincy\, 2652 West Pico Blvd\, Los Angeles\, CA\, 90006\, United States
CATEGORIES:Blood Pressure Screening,Clothing Distribution,Every Tuesday,Food Distribution,The Quincy
ORGANIZER;CN="GCRCLA":MAILTO:info@gcrcla.org, ywanderson@gcrcla.org
END:VEVENT
BEGIN:VEVENT
DTSTART;TZID=UTC:20280905T080000
DTEND;TZID=UTC:20280905T170000
DTSTAMP:20260424T082925
CREATED:20250731T202023Z
LAST-MODIFIED:20250809T034013Z
UID:10000934-1851753600-1851786000@gcrcla.org
SUMMARY:Every Tuesday\, Clothing Distribution\, Food Distribution\, Blood Pressure Screens
DESCRIPTION:Every Tuesday\, Clothing Distribution\, Food Distribution\, Blood Pressure Screens\, The Quincy
URL:https://gcrcla.org/event/every-tuesday-clothing-distribution-food-distribution-blood-pressure-screens/2028-09-05/
LOCATION:The Quincy\, 2652 West Pico Blvd\, Los Angeles\, CA\, 90006\, United States
CATEGORIES:Blood Pressure Screening,Clothing Distribution,Every Tuesday,Food Distribution,The Quincy
ORGANIZER;CN="GCRCLA":MAILTO:info@gcrcla.org, ywanderson@gcrcla.org
END:VEVENT
BEGIN:VEVENT
DTSTART;TZID=UTC:20280912T080000
DTEND;TZID=UTC:20280912T170000
DTSTAMP:20260424T082925
CREATED:20250731T202023Z
LAST-MODIFIED:20250809T034013Z
UID:10000935-1852358400-1852390800@gcrcla.org
SUMMARY:Every Tuesday\, Clothing Distribution\, Food Distribution\, Blood Pressure Screens
DESCRIPTION:Every Tuesday\, Clothing Distribution\, Food Distribution\, Blood Pressure Screens\, The Quincy
URL:https://gcrcla.org/event/every-tuesday-clothing-distribution-food-distribution-blood-pressure-screens/2028-09-12/
LOCATION:The Quincy\, 2652 West Pico Blvd\, Los Angeles\, CA\, 90006\, United States
CATEGORIES:Blood Pressure Screening,Clothing Distribution,Every Tuesday,Food Distribution,The Quincy
ORGANIZER;CN="GCRCLA":MAILTO:info@gcrcla.org, ywanderson@gcrcla.org
END:VEVENT
BEGIN:VEVENT
DTSTART;TZID=UTC:20280919T080000
DTEND;TZID=UTC:20280919T170000
DTSTAMP:20260424T082925
CREATED:20250731T202023Z
LAST-MODIFIED:20250809T034013Z
UID:10000936-1852963200-1852995600@gcrcla.org
SUMMARY:Every Tuesday\, Clothing Distribution\, Food Distribution\, Blood Pressure Screens
DESCRIPTION:Every Tuesday\, Clothing Distribution\, Food Distribution\, Blood Pressure Screens\, The Quincy
URL:https://gcrcla.org/event/every-tuesday-clothing-distribution-food-distribution-blood-pressure-screens/2028-09-19/
LOCATION:The Quincy\, 2652 West Pico Blvd\, Los Angeles\, CA\, 90006\, United States
CATEGORIES:Blood Pressure Screening,Clothing Distribution,Every Tuesday,Food Distribution,The Quincy
ORGANIZER;CN="GCRCLA":MAILTO:info@gcrcla.org, ywanderson@gcrcla.org
END:VEVENT
END:VCALENDAR