BEGIN:VCALENDAR
VERSION:2.0
PRODID:-//GCRCLA - ECPv6.15.20//NONSGML v1.0//EN
CALSCALE:GREGORIAN
METHOD:PUBLISH
X-ORIGINAL-URL:https://gcrcla.org
X-WR-CALDESC:Events for GCRCLA
REFRESH-INTERVAL;VALUE=DURATION:PT1H
X-Robots-Tag:noindex
X-PUBLISHED-TTL:PT1H
BEGIN:VTIMEZONE
TZID:UTC
BEGIN:STANDARD
TZOFFSETFROM:+0000
TZOFFSETTO:+0000
TZNAME:UTC
DTSTART:20240101T000000
END:STANDARD
END:VTIMEZONE
BEGIN:VEVENT
DTSTART;TZID=UTC:20250814T100000
DTEND;TZID=UTC:20250814T140000
DTSTAMP:20260424T114305
CREATED:20250801T121825Z
LAST-MODIFIED:20250809T041618Z
UID:10000238-1755165600-1755180000@gcrcla.org
SUMMARY:Thursday\, Once A Month\, at Buckingham\, Produce\, Meat\, Beverage\, Dry Good Box Distribution
DESCRIPTION:Thursday\, Once A Month\, at Buckingham\, Produce\, Meat\, Beverage\, Dry Good Box Distribution
URL:https://gcrcla.org/event/thursday-once-a-month-at-buckingham-produce-meat-beverage-dry-good-box-distribution/
LOCATION:Metro@Buckingham\, 4018 Buckingham Rd\, Los Angeles\, CA\, 90008\, United States
CATEGORIES:BEVERAGE,DRY GOOD BOX DISTRIBUTION,MEAT,Metro@Buckingham,Once A Month,PRODUCE,Second Thursday
ORGANIZER;CN="GCRCLA":MAILTO:info@gcrcla.org, ywanderson@gcrcla.org
END:VEVENT
END:VCALENDAR