BEGIN:VCALENDAR
VERSION:2.0
PRODID:-//GCRCLA - ECPv6.15.20//NONSGML v1.0//EN
CALSCALE:GREGORIAN
METHOD:PUBLISH
X-ORIGINAL-URL:https://gcrcla.org
X-WR-CALDESC:Events for GCRCLA
REFRESH-INTERVAL;VALUE=DURATION:PT1H
X-Robots-Tag:noindex
X-PUBLISHED-TTL:PT1H
BEGIN:VTIMEZONE
TZID:UTC
BEGIN:STANDARD
TZOFFSETFROM:+0000
TZOFFSETTO:+0000
TZNAME:UTC
DTSTART:20250101T000000
END:STANDARD
END:VTIMEZONE
BEGIN:VEVENT
DTSTART;TZID=UTC:20260423T053000
DTEND;TZID=UTC:20260423T193000
DTSTAMP:20260423T164407
CREATED:20260409T185330Z
LAST-MODIFIED:20260409T190259Z
UID:10001843-1776922200-1776972600@gcrcla.org
SUMMARY:BE WELL NEWSLETTER Community Impact | April 2026
DESCRIPTION:BE WELL NEWSLETTER Community Impact | April 2026\,\nFinancial Literacy Workshops\nApril 9\, 16\, 23\, 30\, 2026\n5:30 – 7:30 PM\n4126 Arlington Avenue\, Los Angeles\, CA 90008\nFinancial Literacy Workshops\,\nFinancial Literacy for the Middle Class\,\nCommunity Share\,\nSee’s Candy Fundraiser\,\n 
URL:https://gcrcla.org/event/be-well-newsletter-community-impact-april-2026/2026-04-23/
LOCATION:Lincoln UCC\, 4126 Arlington Ave\, Los Angeles\, CA\, 90008\, United States
CATEGORIES:Community Impact,Event
ATTACH;FMTTYPE=image/jpeg:https://gcrcla.org/wp-content/uploads/2026/04/GCRCs-Newsletter-April-2026-jpg_Page_1.jpg
ORGANIZER;CN="GCRCLA":MAILTO:info@gcrcla.org, ywanderson@gcrcla.org
END:VEVENT
BEGIN:VEVENT
DTSTART;TZID=UTC:20260424T100000
DTEND;TZID=UTC:20260424T140000
DTSTAMP:20260423T164407
CREATED:20250809T043316Z
LAST-MODIFIED:20250809T043350Z
UID:10001337-1777024800-1777039200@gcrcla.org
SUMMARY:Every Friday\, BLOOD PRESSURE SCREENS\, at The Chesterfield
DESCRIPTION:Every Friday\, BLOOD PRESSURE SCREENS\, at The Chesterfield
URL:https://gcrcla.org/event/every-friday-blood-pressure-screens-at-the-chesterfield/2026-04-24/
LOCATION:The Chesterfield\, 4723 So. Normandie Ave.\, Los Angeles\, CA\, 90062\, United States
CATEGORIES:Blood Pressure Screening,Chesterfield,Every Friday
ORGANIZER;CN="GCRCLA":MAILTO:info@gcrcla.org, ywanderson@gcrcla.org
END:VEVENT
BEGIN:VEVENT
DTSTART;TZID=UTC:20260424T100000
DTEND;TZID=UTC:20260424T150000
DTSTAMP:20260423T164407
CREATED:20250809T044320Z
LAST-MODIFIED:20250809T044432Z
UID:10001601-1777024800-1777042800@gcrcla.org
SUMMARY:Every Friday\, Clothing/Houseware Distribution\, at The Chesterfield
DESCRIPTION:Every Friday\, Clothing/Houseware Distribution\, at The Chesterfield
URL:https://gcrcla.org/event/every-friday-clothing-houseware-distribution-at-the-chesterfield/2026-04-24/
LOCATION:The Chesterfield\, 4723 So. Normandie Ave.\, Los Angeles\, CA\, 90062\, United States
CATEGORIES:Chesterfield,Clothing Distribution,Every Friday,Houseware Distribution
ORGANIZER;CN="GCRCLA":MAILTO:info@gcrcla.org, ywanderson@gcrcla.org
END:VEVENT
BEGIN:VEVENT
DTSTART;TZID=UTC:20260427T100000
DTEND;TZID=UTC:20260427T150000
DTSTAMP:20260423T164407
CREATED:20250809T032115Z
LAST-MODIFIED:20250809T032115Z
UID:10000549-1777284000-1777302000@gcrcla.org
SUMMARY:Every Monday\, Blood Pressure Screening\, Food Distribution\, Clothing/Housing Distribution
DESCRIPTION:Every Monday\, Blood Pressure Screening\, Food Distribution\, Clothing/Housing Distribution
URL:https://gcrcla.org/event/every-monday-blood-pressure-screening-food-distribution-clothing-housing-distribution/2026-04-27/
LOCATION:The Wilcox\, 1040 N Kenmore Ave\, Los Angeles\, CA\, 90029\, United States
CATEGORIES:Blood Pressure Screening,Clothing Distribution,Food Distribution,Houseware Distribution,The Wilcox
ORGANIZER;CN="GCRCLA":MAILTO:info@gcrcla.org, ywanderson@gcrcla.org
END:VEVENT
BEGIN:VEVENT
DTSTART;TZID=UTC:20260428T080000
DTEND;TZID=UTC:20260428T170000
DTSTAMP:20260423T164407
CREATED:20250731T202023Z
LAST-MODIFIED:20250809T034013Z
UID:10000811-1777363200-1777395600@gcrcla.org
SUMMARY:Every Tuesday\, Clothing Distribution\, Food Distribution\, Blood Pressure Screens
DESCRIPTION:Every Tuesday\, Clothing Distribution\, Food Distribution\, Blood Pressure Screens\, The Quincy
URL:https://gcrcla.org/event/every-tuesday-clothing-distribution-food-distribution-blood-pressure-screens/2026-04-28/
LOCATION:The Quincy\, 2652 West Pico Blvd\, Los Angeles\, CA\, 90006\, United States
CATEGORIES:Blood Pressure Screening,Clothing Distribution,Every Tuesday,Food Distribution,The Quincy
ORGANIZER;CN="GCRCLA":MAILTO:info@gcrcla.org, ywanderson@gcrcla.org
END:VEVENT
BEGIN:VEVENT
DTSTART;TZID=UTC:20260429T100000
DTEND;TZID=UTC:20260429T150000
DTSTAMP:20260423T164407
CREATED:20250731T210025Z
LAST-MODIFIED:20250809T040032Z
UID:10001073-1777456800-1777474800@gcrcla.org
SUMMARY:Every Wednesday\, BLOOD PRESSURE SCREENS\, CLOTHING & HOUSEWARE DISTRIBUTION\, FOOD BANK LAX FOOD BAG DISTRIBUTION
DESCRIPTION:Every Wednesday\, BLOOD PRESSURE SCREENS\, CLOTHING & HOUSEWARE DISTRIBUTION\, LAX FOOD BAG DISTRIBUTION
URL:https://gcrcla.org/event/every-wednesday-blood-pressure-screens-clothing-houseware-distribution-lax-food-bag-distribution/2026-04-29/
LOCATION:Metro@Buckingham\, 4018 Buckingham Rd\, Los Angeles\, CA\, 90008\, United States
CATEGORIES:Blood Pressure Screening,Clothing Distribution,First Wednesday,LAX Food Bag Distribution,Metro@Buckingham
ORGANIZER;CN="GCRCLA":MAILTO:info@gcrcla.org, ywanderson@gcrcla.org
END:VEVENT
BEGIN:VEVENT
DTSTART;TZID=UTC:20260430T053000
DTEND;TZID=UTC:20260430T193000
DTSTAMP:20260423T164407
CREATED:20260409T185330Z
LAST-MODIFIED:20260409T190259Z
UID:10001844-1777527000-1777577400@gcrcla.org
SUMMARY:BE WELL NEWSLETTER Community Impact | April 2026
DESCRIPTION:BE WELL NEWSLETTER Community Impact | April 2026\,\nFinancial Literacy Workshops\nApril 9\, 16\, 23\, 30\, 2026\n5:30 – 7:30 PM\n4126 Arlington Avenue\, Los Angeles\, CA 90008\nFinancial Literacy Workshops\,\nFinancial Literacy for the Middle Class\,\nCommunity Share\,\nSee’s Candy Fundraiser\,\n 
URL:https://gcrcla.org/event/be-well-newsletter-community-impact-april-2026/2026-04-30/
LOCATION:Lincoln UCC\, 4126 Arlington Ave\, Los Angeles\, CA\, 90008\, United States
CATEGORIES:Community Impact,Event
ATTACH;FMTTYPE=image/jpeg:https://gcrcla.org/wp-content/uploads/2026/04/GCRCs-Newsletter-April-2026-jpg_Page_1.jpg
ORGANIZER;CN="GCRCLA":MAILTO:info@gcrcla.org, ywanderson@gcrcla.org
END:VEVENT
BEGIN:VEVENT
DTSTART;TZID=UTC:20260501T100000
DTEND;TZID=UTC:20260501T140000
DTSTAMP:20260423T164407
CREATED:20250809T043316Z
LAST-MODIFIED:20250809T043350Z
UID:10001338-1777629600-1777644000@gcrcla.org
SUMMARY:Every Friday\, BLOOD PRESSURE SCREENS\, at The Chesterfield
DESCRIPTION:Every Friday\, BLOOD PRESSURE SCREENS\, at The Chesterfield
URL:https://gcrcla.org/event/every-friday-blood-pressure-screens-at-the-chesterfield/2026-05-01/
LOCATION:The Chesterfield\, 4723 So. Normandie Ave.\, Los Angeles\, CA\, 90062\, United States
CATEGORIES:Blood Pressure Screening,Chesterfield,Every Friday
ORGANIZER;CN="GCRCLA":MAILTO:info@gcrcla.org, ywanderson@gcrcla.org
END:VEVENT
BEGIN:VEVENT
DTSTART;TZID=UTC:20260501T100000
DTEND;TZID=UTC:20260501T150000
DTSTAMP:20260423T164407
CREATED:20250809T044320Z
LAST-MODIFIED:20250809T044432Z
UID:10001602-1777629600-1777647600@gcrcla.org
SUMMARY:Every Friday\, Clothing/Houseware Distribution\, at The Chesterfield
DESCRIPTION:Every Friday\, Clothing/Houseware Distribution\, at The Chesterfield
URL:https://gcrcla.org/event/every-friday-clothing-houseware-distribution-at-the-chesterfield/2026-05-01/
LOCATION:The Chesterfield\, 4723 So. Normandie Ave.\, Los Angeles\, CA\, 90062\, United States
CATEGORIES:Chesterfield,Clothing Distribution,Every Friday,Houseware Distribution
ORGANIZER;CN="GCRCLA":MAILTO:info@gcrcla.org, ywanderson@gcrcla.org
END:VEVENT
BEGIN:VEVENT
DTSTART;TZID=UTC:20260504T100000
DTEND;TZID=UTC:20260504T150000
DTSTAMP:20260423T164407
CREATED:20250809T032115Z
LAST-MODIFIED:20250809T032115Z
UID:10000550-1777888800-1777906800@gcrcla.org
SUMMARY:Every Monday\, Blood Pressure Screening\, Food Distribution\, Clothing/Housing Distribution
DESCRIPTION:Every Monday\, Blood Pressure Screening\, Food Distribution\, Clothing/Housing Distribution
URL:https://gcrcla.org/event/every-monday-blood-pressure-screening-food-distribution-clothing-housing-distribution/2026-05-04/
LOCATION:The Wilcox\, 1040 N Kenmore Ave\, Los Angeles\, CA\, 90029\, United States
CATEGORIES:Blood Pressure Screening,Clothing Distribution,Food Distribution,Houseware Distribution,The Wilcox
ORGANIZER;CN="GCRCLA":MAILTO:info@gcrcla.org, ywanderson@gcrcla.org
END:VEVENT
BEGIN:VEVENT
DTSTART;TZID=UTC:20260505T080000
DTEND;TZID=UTC:20260505T170000
DTSTAMP:20260423T164407
CREATED:20250731T202023Z
LAST-MODIFIED:20250809T034013Z
UID:10000812-1777968000-1778000400@gcrcla.org
SUMMARY:Every Tuesday\, Clothing Distribution\, Food Distribution\, Blood Pressure Screens
DESCRIPTION:Every Tuesday\, Clothing Distribution\, Food Distribution\, Blood Pressure Screens\, The Quincy
URL:https://gcrcla.org/event/every-tuesday-clothing-distribution-food-distribution-blood-pressure-screens/2026-05-05/
LOCATION:The Quincy\, 2652 West Pico Blvd\, Los Angeles\, CA\, 90006\, United States
CATEGORIES:Blood Pressure Screening,Clothing Distribution,Every Tuesday,Food Distribution,The Quincy
ORGANIZER;CN="GCRCLA":MAILTO:info@gcrcla.org, ywanderson@gcrcla.org
END:VEVENT
BEGIN:VEVENT
DTSTART;TZID=UTC:20260506T100000
DTEND;TZID=UTC:20260506T150000
DTSTAMP:20260423T164407
CREATED:20250731T210025Z
LAST-MODIFIED:20250809T040032Z
UID:10001074-1778061600-1778079600@gcrcla.org
SUMMARY:Every Wednesday\, BLOOD PRESSURE SCREENS\, CLOTHING & HOUSEWARE DISTRIBUTION\, FOOD BANK LAX FOOD BAG DISTRIBUTION
DESCRIPTION:Every Wednesday\, BLOOD PRESSURE SCREENS\, CLOTHING & HOUSEWARE DISTRIBUTION\, LAX FOOD BAG DISTRIBUTION
URL:https://gcrcla.org/event/every-wednesday-blood-pressure-screens-clothing-houseware-distribution-lax-food-bag-distribution/2026-05-06/
LOCATION:Metro@Buckingham\, 4018 Buckingham Rd\, Los Angeles\, CA\, 90008\, United States
CATEGORIES:Blood Pressure Screening,Clothing Distribution,First Wednesday,LAX Food Bag Distribution,Metro@Buckingham
ORGANIZER;CN="GCRCLA":MAILTO:info@gcrcla.org, ywanderson@gcrcla.org
END:VEVENT
BEGIN:VEVENT
DTSTART;TZID=UTC:20260507T053000
DTEND;TZID=UTC:20260507T193000
DTSTAMP:20260423T164407
CREATED:20260409T185330Z
LAST-MODIFIED:20260409T190259Z
UID:10001845-1778131800-1778182200@gcrcla.org
SUMMARY:BE WELL NEWSLETTER Community Impact | April 2026
DESCRIPTION:BE WELL NEWSLETTER Community Impact | April 2026\,\nFinancial Literacy Workshops\nApril 9\, 16\, 23\, 30\, 2026\n5:30 – 7:30 PM\n4126 Arlington Avenue\, Los Angeles\, CA 90008\nFinancial Literacy Workshops\,\nFinancial Literacy for the Middle Class\,\nCommunity Share\,\nSee’s Candy Fundraiser\,\n 
URL:https://gcrcla.org/event/be-well-newsletter-community-impact-april-2026/2026-05-07/
LOCATION:Lincoln UCC\, 4126 Arlington Ave\, Los Angeles\, CA\, 90008\, United States
CATEGORIES:Community Impact,Event
ATTACH;FMTTYPE=image/jpeg:https://gcrcla.org/wp-content/uploads/2026/04/GCRCs-Newsletter-April-2026-jpg_Page_1.jpg
ORGANIZER;CN="GCRCLA":MAILTO:info@gcrcla.org, ywanderson@gcrcla.org
END:VEVENT
BEGIN:VEVENT
DTSTART;TZID=UTC:20260508T100000
DTEND;TZID=UTC:20260508T140000
DTSTAMP:20260423T164407
CREATED:20250809T043316Z
LAST-MODIFIED:20250809T043350Z
UID:10001339-1778234400-1778248800@gcrcla.org
SUMMARY:Every Friday\, BLOOD PRESSURE SCREENS\, at The Chesterfield
DESCRIPTION:Every Friday\, BLOOD PRESSURE SCREENS\, at The Chesterfield
URL:https://gcrcla.org/event/every-friday-blood-pressure-screens-at-the-chesterfield/2026-05-08/
LOCATION:The Chesterfield\, 4723 So. Normandie Ave.\, Los Angeles\, CA\, 90062\, United States
CATEGORIES:Blood Pressure Screening,Chesterfield,Every Friday
ORGANIZER;CN="GCRCLA":MAILTO:info@gcrcla.org, ywanderson@gcrcla.org
END:VEVENT
BEGIN:VEVENT
DTSTART;TZID=UTC:20260508T100000
DTEND;TZID=UTC:20260508T150000
DTSTAMP:20260423T164407
CREATED:20250809T044320Z
LAST-MODIFIED:20250809T044432Z
UID:10001603-1778234400-1778252400@gcrcla.org
SUMMARY:Every Friday\, Clothing/Houseware Distribution\, at The Chesterfield
DESCRIPTION:Every Friday\, Clothing/Houseware Distribution\, at The Chesterfield
URL:https://gcrcla.org/event/every-friday-clothing-houseware-distribution-at-the-chesterfield/2026-05-08/
LOCATION:The Chesterfield\, 4723 So. Normandie Ave.\, Los Angeles\, CA\, 90062\, United States
CATEGORIES:Chesterfield,Clothing Distribution,Every Friday,Houseware Distribution
ORGANIZER;CN="GCRCLA":MAILTO:info@gcrcla.org, ywanderson@gcrcla.org
END:VEVENT
BEGIN:VEVENT
DTSTART;TZID=UTC:20260511T100000
DTEND;TZID=UTC:20260511T150000
DTSTAMP:20260423T164407
CREATED:20250809T032115Z
LAST-MODIFIED:20250809T032115Z
UID:10000551-1778493600-1778511600@gcrcla.org
SUMMARY:Every Monday\, Blood Pressure Screening\, Food Distribution\, Clothing/Housing Distribution
DESCRIPTION:Every Monday\, Blood Pressure Screening\, Food Distribution\, Clothing/Housing Distribution
URL:https://gcrcla.org/event/every-monday-blood-pressure-screening-food-distribution-clothing-housing-distribution/2026-05-11/
LOCATION:The Wilcox\, 1040 N Kenmore Ave\, Los Angeles\, CA\, 90029\, United States
CATEGORIES:Blood Pressure Screening,Clothing Distribution,Food Distribution,Houseware Distribution,The Wilcox
ORGANIZER;CN="GCRCLA":MAILTO:info@gcrcla.org, ywanderson@gcrcla.org
END:VEVENT
BEGIN:VEVENT
DTSTART;TZID=UTC:20260512T080000
DTEND;TZID=UTC:20260512T170000
DTSTAMP:20260423T164407
CREATED:20250731T202023Z
LAST-MODIFIED:20250809T034013Z
UID:10000813-1778572800-1778605200@gcrcla.org
SUMMARY:Every Tuesday\, Clothing Distribution\, Food Distribution\, Blood Pressure Screens
DESCRIPTION:Every Tuesday\, Clothing Distribution\, Food Distribution\, Blood Pressure Screens\, The Quincy
URL:https://gcrcla.org/event/every-tuesday-clothing-distribution-food-distribution-blood-pressure-screens/2026-05-12/
LOCATION:The Quincy\, 2652 West Pico Blvd\, Los Angeles\, CA\, 90006\, United States
CATEGORIES:Blood Pressure Screening,Clothing Distribution,Every Tuesday,Food Distribution,The Quincy
ORGANIZER;CN="GCRCLA":MAILTO:info@gcrcla.org, ywanderson@gcrcla.org
END:VEVENT
BEGIN:VEVENT
DTSTART;TZID=UTC:20260513T100000
DTEND;TZID=UTC:20260513T150000
DTSTAMP:20260423T164407
CREATED:20250731T210025Z
LAST-MODIFIED:20250809T040032Z
UID:10001075-1778666400-1778684400@gcrcla.org
SUMMARY:Every Wednesday\, BLOOD PRESSURE SCREENS\, CLOTHING & HOUSEWARE DISTRIBUTION\, FOOD BANK LAX FOOD BAG DISTRIBUTION
DESCRIPTION:Every Wednesday\, BLOOD PRESSURE SCREENS\, CLOTHING & HOUSEWARE DISTRIBUTION\, LAX FOOD BAG DISTRIBUTION
URL:https://gcrcla.org/event/every-wednesday-blood-pressure-screens-clothing-houseware-distribution-lax-food-bag-distribution/2026-05-13/
LOCATION:Metro@Buckingham\, 4018 Buckingham Rd\, Los Angeles\, CA\, 90008\, United States
CATEGORIES:Blood Pressure Screening,Clothing Distribution,First Wednesday,LAX Food Bag Distribution,Metro@Buckingham
ORGANIZER;CN="GCRCLA":MAILTO:info@gcrcla.org, ywanderson@gcrcla.org
END:VEVENT
BEGIN:VEVENT
DTSTART;TZID=UTC:20260514T053000
DTEND;TZID=UTC:20260514T193000
DTSTAMP:20260423T164407
CREATED:20260409T185330Z
LAST-MODIFIED:20260409T190259Z
UID:10001846-1778736600-1778787000@gcrcla.org
SUMMARY:BE WELL NEWSLETTER Community Impact | April 2026
DESCRIPTION:BE WELL NEWSLETTER Community Impact | April 2026\,\nFinancial Literacy Workshops\nApril 9\, 16\, 23\, 30\, 2026\n5:30 – 7:30 PM\n4126 Arlington Avenue\, Los Angeles\, CA 90008\nFinancial Literacy Workshops\,\nFinancial Literacy for the Middle Class\,\nCommunity Share\,\nSee’s Candy Fundraiser\,\n 
URL:https://gcrcla.org/event/be-well-newsletter-community-impact-april-2026/2026-05-14/
LOCATION:Lincoln UCC\, 4126 Arlington Ave\, Los Angeles\, CA\, 90008\, United States
CATEGORIES:Community Impact,Event
ATTACH;FMTTYPE=image/jpeg:https://gcrcla.org/wp-content/uploads/2026/04/GCRCs-Newsletter-April-2026-jpg_Page_1.jpg
ORGANIZER;CN="GCRCLA":MAILTO:info@gcrcla.org, ywanderson@gcrcla.org
END:VEVENT
BEGIN:VEVENT
DTSTART;TZID=UTC:20260515T100000
DTEND;TZID=UTC:20260515T140000
DTSTAMP:20260423T164407
CREATED:20250809T043316Z
LAST-MODIFIED:20250809T043350Z
UID:10001340-1778839200-1778853600@gcrcla.org
SUMMARY:Every Friday\, BLOOD PRESSURE SCREENS\, at The Chesterfield
DESCRIPTION:Every Friday\, BLOOD PRESSURE SCREENS\, at The Chesterfield
URL:https://gcrcla.org/event/every-friday-blood-pressure-screens-at-the-chesterfield/2026-05-15/
LOCATION:The Chesterfield\, 4723 So. Normandie Ave.\, Los Angeles\, CA\, 90062\, United States
CATEGORIES:Blood Pressure Screening,Chesterfield,Every Friday
ORGANIZER;CN="GCRCLA":MAILTO:info@gcrcla.org, ywanderson@gcrcla.org
END:VEVENT
BEGIN:VEVENT
DTSTART;TZID=UTC:20260515T100000
DTEND;TZID=UTC:20260515T150000
DTSTAMP:20260423T164407
CREATED:20250809T044320Z
LAST-MODIFIED:20250809T044432Z
UID:10001604-1778839200-1778857200@gcrcla.org
SUMMARY:Every Friday\, Clothing/Houseware Distribution\, at The Chesterfield
DESCRIPTION:Every Friday\, Clothing/Houseware Distribution\, at The Chesterfield
URL:https://gcrcla.org/event/every-friday-clothing-houseware-distribution-at-the-chesterfield/2026-05-15/
LOCATION:The Chesterfield\, 4723 So. Normandie Ave.\, Los Angeles\, CA\, 90062\, United States
CATEGORIES:Chesterfield,Clothing Distribution,Every Friday,Houseware Distribution
ORGANIZER;CN="GCRCLA":MAILTO:info@gcrcla.org, ywanderson@gcrcla.org
END:VEVENT
BEGIN:VEVENT
DTSTART;TZID=UTC:20260518T100000
DTEND;TZID=UTC:20260518T150000
DTSTAMP:20260423T164407
CREATED:20250809T032115Z
LAST-MODIFIED:20250809T032115Z
UID:10000552-1779098400-1779116400@gcrcla.org
SUMMARY:Every Monday\, Blood Pressure Screening\, Food Distribution\, Clothing/Housing Distribution
DESCRIPTION:Every Monday\, Blood Pressure Screening\, Food Distribution\, Clothing/Housing Distribution
URL:https://gcrcla.org/event/every-monday-blood-pressure-screening-food-distribution-clothing-housing-distribution/2026-05-18/
LOCATION:The Wilcox\, 1040 N Kenmore Ave\, Los Angeles\, CA\, 90029\, United States
CATEGORIES:Blood Pressure Screening,Clothing Distribution,Food Distribution,Houseware Distribution,The Wilcox
ORGANIZER;CN="GCRCLA":MAILTO:info@gcrcla.org, ywanderson@gcrcla.org
END:VEVENT
BEGIN:VEVENT
DTSTART;TZID=UTC:20260519T080000
DTEND;TZID=UTC:20260519T170000
DTSTAMP:20260423T164407
CREATED:20250731T202023Z
LAST-MODIFIED:20250809T034013Z
UID:10000814-1779177600-1779210000@gcrcla.org
SUMMARY:Every Tuesday\, Clothing Distribution\, Food Distribution\, Blood Pressure Screens
DESCRIPTION:Every Tuesday\, Clothing Distribution\, Food Distribution\, Blood Pressure Screens\, The Quincy
URL:https://gcrcla.org/event/every-tuesday-clothing-distribution-food-distribution-blood-pressure-screens/2026-05-19/
LOCATION:The Quincy\, 2652 West Pico Blvd\, Los Angeles\, CA\, 90006\, United States
CATEGORIES:Blood Pressure Screening,Clothing Distribution,Every Tuesday,Food Distribution,The Quincy
ORGANIZER;CN="GCRCLA":MAILTO:info@gcrcla.org, ywanderson@gcrcla.org
END:VEVENT
BEGIN:VEVENT
DTSTART;TZID=UTC:20260520T100000
DTEND;TZID=UTC:20260520T150000
DTSTAMP:20260423T164407
CREATED:20250731T210025Z
LAST-MODIFIED:20250809T040032Z
UID:10001076-1779271200-1779289200@gcrcla.org
SUMMARY:Every Wednesday\, BLOOD PRESSURE SCREENS\, CLOTHING & HOUSEWARE DISTRIBUTION\, FOOD BANK LAX FOOD BAG DISTRIBUTION
DESCRIPTION:Every Wednesday\, BLOOD PRESSURE SCREENS\, CLOTHING & HOUSEWARE DISTRIBUTION\, LAX FOOD BAG DISTRIBUTION
URL:https://gcrcla.org/event/every-wednesday-blood-pressure-screens-clothing-houseware-distribution-lax-food-bag-distribution/2026-05-20/
LOCATION:Metro@Buckingham\, 4018 Buckingham Rd\, Los Angeles\, CA\, 90008\, United States
CATEGORIES:Blood Pressure Screening,Clothing Distribution,First Wednesday,LAX Food Bag Distribution,Metro@Buckingham
ORGANIZER;CN="GCRCLA":MAILTO:info@gcrcla.org, ywanderson@gcrcla.org
END:VEVENT
BEGIN:VEVENT
DTSTART;TZID=UTC:20260521T053000
DTEND;TZID=UTC:20260521T193000
DTSTAMP:20260423T164407
CREATED:20260409T185330Z
LAST-MODIFIED:20260409T190259Z
UID:10001847-1779341400-1779391800@gcrcla.org
SUMMARY:BE WELL NEWSLETTER Community Impact | April 2026
DESCRIPTION:BE WELL NEWSLETTER Community Impact | April 2026\,\nFinancial Literacy Workshops\nApril 9\, 16\, 23\, 30\, 2026\n5:30 – 7:30 PM\n4126 Arlington Avenue\, Los Angeles\, CA 90008\nFinancial Literacy Workshops\,\nFinancial Literacy for the Middle Class\,\nCommunity Share\,\nSee’s Candy Fundraiser\,\n 
URL:https://gcrcla.org/event/be-well-newsletter-community-impact-april-2026/2026-05-21/
LOCATION:Lincoln UCC\, 4126 Arlington Ave\, Los Angeles\, CA\, 90008\, United States
CATEGORIES:Community Impact,Event
ATTACH;FMTTYPE=image/jpeg:https://gcrcla.org/wp-content/uploads/2026/04/GCRCs-Newsletter-April-2026-jpg_Page_1.jpg
ORGANIZER;CN="GCRCLA":MAILTO:info@gcrcla.org, ywanderson@gcrcla.org
END:VEVENT
BEGIN:VEVENT
DTSTART;TZID=UTC:20260522T100000
DTEND;TZID=UTC:20260522T140000
DTSTAMP:20260423T164407
CREATED:20250809T043316Z
LAST-MODIFIED:20250809T043350Z
UID:10001341-1779444000-1779458400@gcrcla.org
SUMMARY:Every Friday\, BLOOD PRESSURE SCREENS\, at The Chesterfield
DESCRIPTION:Every Friday\, BLOOD PRESSURE SCREENS\, at The Chesterfield
URL:https://gcrcla.org/event/every-friday-blood-pressure-screens-at-the-chesterfield/2026-05-22/
LOCATION:The Chesterfield\, 4723 So. Normandie Ave.\, Los Angeles\, CA\, 90062\, United States
CATEGORIES:Blood Pressure Screening,Chesterfield,Every Friday
ORGANIZER;CN="GCRCLA":MAILTO:info@gcrcla.org, ywanderson@gcrcla.org
END:VEVENT
BEGIN:VEVENT
DTSTART;TZID=UTC:20260522T100000
DTEND;TZID=UTC:20260522T150000
DTSTAMP:20260423T164407
CREATED:20250809T044320Z
LAST-MODIFIED:20250809T044432Z
UID:10001605-1779444000-1779462000@gcrcla.org
SUMMARY:Every Friday\, Clothing/Houseware Distribution\, at The Chesterfield
DESCRIPTION:Every Friday\, Clothing/Houseware Distribution\, at The Chesterfield
URL:https://gcrcla.org/event/every-friday-clothing-houseware-distribution-at-the-chesterfield/2026-05-22/
LOCATION:The Chesterfield\, 4723 So. Normandie Ave.\, Los Angeles\, CA\, 90062\, United States
CATEGORIES:Chesterfield,Clothing Distribution,Every Friday,Houseware Distribution
ORGANIZER;CN="GCRCLA":MAILTO:info@gcrcla.org, ywanderson@gcrcla.org
END:VEVENT
BEGIN:VEVENT
DTSTART;TZID=UTC:20260525T100000
DTEND;TZID=UTC:20260525T150000
DTSTAMP:20260423T164407
CREATED:20250809T032115Z
LAST-MODIFIED:20250809T032115Z
UID:10000553-1779703200-1779721200@gcrcla.org
SUMMARY:Every Monday\, Blood Pressure Screening\, Food Distribution\, Clothing/Housing Distribution
DESCRIPTION:Every Monday\, Blood Pressure Screening\, Food Distribution\, Clothing/Housing Distribution
URL:https://gcrcla.org/event/every-monday-blood-pressure-screening-food-distribution-clothing-housing-distribution/2026-05-25/
LOCATION:The Wilcox\, 1040 N Kenmore Ave\, Los Angeles\, CA\, 90029\, United States
CATEGORIES:Blood Pressure Screening,Clothing Distribution,Food Distribution,Houseware Distribution,The Wilcox
ORGANIZER;CN="GCRCLA":MAILTO:info@gcrcla.org, ywanderson@gcrcla.org
END:VEVENT
BEGIN:VEVENT
DTSTART;TZID=UTC:20260526T080000
DTEND;TZID=UTC:20260526T170000
DTSTAMP:20260423T164407
CREATED:20250731T202023Z
LAST-MODIFIED:20250809T034013Z
UID:10000815-1779782400-1779814800@gcrcla.org
SUMMARY:Every Tuesday\, Clothing Distribution\, Food Distribution\, Blood Pressure Screens
DESCRIPTION:Every Tuesday\, Clothing Distribution\, Food Distribution\, Blood Pressure Screens\, The Quincy
URL:https://gcrcla.org/event/every-tuesday-clothing-distribution-food-distribution-blood-pressure-screens/2026-05-26/
LOCATION:The Quincy\, 2652 West Pico Blvd\, Los Angeles\, CA\, 90006\, United States
CATEGORIES:Blood Pressure Screening,Clothing Distribution,Every Tuesday,Food Distribution,The Quincy
ORGANIZER;CN="GCRCLA":MAILTO:info@gcrcla.org, ywanderson@gcrcla.org
END:VEVENT
BEGIN:VEVENT
DTSTART;TZID=UTC:20260527T100000
DTEND;TZID=UTC:20260527T150000
DTSTAMP:20260423T164407
CREATED:20250731T210025Z
LAST-MODIFIED:20250809T040032Z
UID:10001077-1779876000-1779894000@gcrcla.org
SUMMARY:Every Wednesday\, BLOOD PRESSURE SCREENS\, CLOTHING & HOUSEWARE DISTRIBUTION\, FOOD BANK LAX FOOD BAG DISTRIBUTION
DESCRIPTION:Every Wednesday\, BLOOD PRESSURE SCREENS\, CLOTHING & HOUSEWARE DISTRIBUTION\, LAX FOOD BAG DISTRIBUTION
URL:https://gcrcla.org/event/every-wednesday-blood-pressure-screens-clothing-houseware-distribution-lax-food-bag-distribution/2026-05-27/
LOCATION:Metro@Buckingham\, 4018 Buckingham Rd\, Los Angeles\, CA\, 90008\, United States
CATEGORIES:Blood Pressure Screening,Clothing Distribution,First Wednesday,LAX Food Bag Distribution,Metro@Buckingham
ORGANIZER;CN="GCRCLA":MAILTO:info@gcrcla.org, ywanderson@gcrcla.org
END:VEVENT
END:VCALENDAR