BEGIN:VCALENDAR
VERSION:2.0
PRODID:-//GCRCLA - ECPv6.15.20//NONSGML v1.0//EN
CALSCALE:GREGORIAN
METHOD:PUBLISH
X-WR-CALNAME:GCRCLA
X-ORIGINAL-URL:https://gcrcla.org
X-WR-CALDESC:Events for GCRCLA
REFRESH-INTERVAL;VALUE=DURATION:PT1H
X-Robots-Tag:noindex
X-PUBLISHED-TTL:PT1H
BEGIN:VTIMEZONE
TZID:UTC
BEGIN:STANDARD
TZOFFSETFROM:+0000
TZOFFSETTO:+0000
TZNAME:UTC
DTSTART:20240101T000000
END:STANDARD
END:VTIMEZONE
BEGIN:VEVENT
DTSTART;TZID=UTC:20250325T100000
DTEND;TZID=UTC:20250325T100000
DTSTAMP:20260424T105525
CREATED:20250222T011505Z
LAST-MODIFIED:20250225T010407Z
UID:10000067-1742896800-1742896800@gcrcla.org
SUMMARY:Fourth Tuesday
DESCRIPTION:(NEW) FOOD BAG DISTRIBUTION – NEW PARTNER
URL:https://gcrcla.org/event/second-tuesday-2/
LOCATION:The Chesterfield\, 4723 So. Normandie Ave.\, Los Angeles\, CA\, 90062\, United States
CATEGORIES:(NEW) FOOD BAG DISTRIBUTION - NEW PARTNER
ATTACH;FMTTYPE=image/jpeg:https://gcrcla.org/wp-content/uploads/2025/02/Fourth-Tuesday-Chesterfield.jpg
ORGANIZER;CN="GCRCLA":MAILTO:info@gcrcla.org, ywanderson@gcrcla.org
END:VEVENT
BEGIN:VEVENT
DTSTART;TZID=UTC:20250321T100000
DTEND;TZID=UTC:20250321T100000
DTSTAMP:20260424T105525
CREATED:20250222T011505Z
LAST-MODIFIED:20250226T001857Z
UID:10000071-1742551200-1742551200@gcrcla.org
SUMMARY:Third Friday
DESCRIPTION:LA REGIONAL FOOD BANK BOX DISTRIBUTION
URL:https://gcrcla.org/event/third-friday-2/
LOCATION:The Chesterfield\, 4723 So. Normandie Ave.\, Los Angeles\, CA\, 90062\, United States
CATEGORIES:LA REGIONAL FOOD BANK BOX DISTRIBUTION
ATTACH;FMTTYPE=image/jpeg:https://gcrcla.org/wp-content/uploads/2025/02/Third-Friday-LA-REGIONAL-FOOD-BANK-BOX-DISTRIBUTION-Chesterfield.jpg
ORGANIZER;CN="GCRCLA":MAILTO:info@gcrcla.org, ywanderson@gcrcla.org
END:VEVENT
BEGIN:VEVENT
DTSTART;TZID=UTC:20250314T100000
DTEND;TZID=UTC:20250314T100000
DTSTAMP:20260424T105525
CREATED:20250222T011505Z
LAST-MODIFIED:20250226T001603Z
UID:10000070-1741946400-1741946400@gcrcla.org
SUMMARY:Second Friday
DESCRIPTION:EXERCISE CLASS
URL:https://gcrcla.org/event/second-friday-2/
LOCATION:The Chesterfield\, 4723 So. Normandie Ave.\, Los Angeles\, CA\, 90062\, United States
CATEGORIES:EXERCISE CLASS
ATTACH;FMTTYPE=image/jpeg:https://gcrcla.org/wp-content/uploads/2025/02/Second-Friday-Exercise-Class-Chesterfiels.jpg
ORGANIZER;CN="GCRCLA":MAILTO:info@gcrcla.org, ywanderson@gcrcla.org
END:VEVENT
BEGIN:VEVENT
DTSTART;TZID=UTC:20250313T100000
DTEND;TZID=UTC:20250313T100000
DTSTAMP:20260424T105525
CREATED:20250222T011505Z
LAST-MODIFIED:20250225T235725Z
UID:10000069-1741860000-1741860000@gcrcla.org
SUMMARY:Second Thursday
DESCRIPTION:PRODUCE\, MEAT\, BEVERAGE\, DRY GOOD BOX DISTRIBUTION
URL:https://gcrcla.org/event/second-thursday-2/
LOCATION:The Chesterfield\, 4723 So. Normandie Ave.\, Los Angeles\, CA\, 90062\, United States
CATEGORIES:BEVERAGE,DRY GOOD BOX DISTRIBUTION,MEAT,PRODUCE
ATTACH;FMTTYPE=image/jpeg:https://gcrcla.org/wp-content/uploads/2025/02/Second-Thursday-PRODUCE-MEAT-BEVERAGE-DRY-GOOD-BOX-DISTRIBUTION.jpg
ORGANIZER;CN="GCRCLA":MAILTO:info@gcrcla.org, ywanderson@gcrcla.org
END:VEVENT
BEGIN:VEVENT
DTSTART;TZID=UTC:20250312T100000
DTEND;TZID=UTC:20250312T100000
DTSTAMP:20260424T105525
CREATED:20250222T011505Z
LAST-MODIFIED:20250225T233954Z
UID:10000068-1741773600-1741773600@gcrcla.org
SUMMARY:Second Wednesday
DESCRIPTION:WAFFLE WEDNESDAY
URL:https://gcrcla.org/event/second-wednesday/
LOCATION:The Chesterfield\, 4723 So. Normandie Ave.\, Los Angeles\, CA\, 90062\, United States
CATEGORIES:WAFFLE WEDNESDAY
ATTACH;FMTTYPE=image/jpeg:https://gcrcla.org/wp-content/uploads/2025/02/Second-Wednesday-WAFFLE-WEDNESDAY.jpg
ORGANIZER;CN="GCRCLA":MAILTO:info@gcrcla.org, ywanderson@gcrcla.org
END:VEVENT
BEGIN:VEVENT
DTSTART;TZID=UTC:20250311T100000
DTEND;TZID=UTC:20250311T100000
DTSTAMP:20260424T105525
CREATED:20250222T011301Z
LAST-MODIFIED:20250225T004218Z
UID:10000054-1741687200-1741687200@gcrcla.org
SUMMARY:Second Tuesday
DESCRIPTION:(NEW) FOOD BAG DISTRIBUTION – NEW PARTNER
URL:https://gcrcla.org/event/second-tuesday/
LOCATION:The Chesterfield\, 4723 So. Normandie Ave.\, Los Angeles\, CA\, 90062\, United States
CATEGORIES:(NEW) FOOD BAG DISTRIBUTION - NEW PARTNER
ATTACH;FMTTYPE=image/jpeg:https://gcrcla.org/wp-content/uploads/2025/02/Second-Tuesday-Chesterfield.jpg
ORGANIZER;CN="GCRCLA":MAILTO:info@gcrcla.org, ywanderson@gcrcla.org
END:VEVENT
BEGIN:VEVENT
DTSTART;TZID=UTC:20250307T100000
DTEND;TZID=UTC:20250307T100000
DTSTAMP:20260424T105525
CREATED:20250222T011417Z
LAST-MODIFIED:20250226T001307Z
UID:10000063-1741341600-1741341600@gcrcla.org
SUMMARY:Every Friday
DESCRIPTION:BLOOD PRESSURE SCREENING\, Clothing Distribution
URL:https://gcrcla.org/event/every-friday-2/
LOCATION:The Chesterfield\, 4723 So. Normandie Ave.\, Los Angeles\, CA\, 90062\, United States
CATEGORIES:Blood Pressure Screening,Clothing Distribution
ATTACH;FMTTYPE=image/jpeg:https://gcrcla.org/wp-content/uploads/2025/02/Every-Friday-BLOOD-PRESSURE-SCREENING-Clothing-Distribution-Chesterfield.jpg
ORGANIZER;CN="GCRCLA":MAILTO:info@gcrcla.org, ywanderson@gcrcla.org
END:VEVENT
BEGIN:VEVENT
DTSTART;TZID=UTC:20250307T100000
DTEND;TZID=UTC:20250307T100000
DTSTAMP:20260424T105525
CREATED:20250222T011417Z
LAST-MODIFIED:20250222T011417Z
UID:10000064-1741341600-1741341600@gcrcla.org
SUMMARY:Every Friday
DESCRIPTION:BLOOD PRESSURE SCREENING\, Clothing Distribution
URL:https://gcrcla.org/event/every-friday-3/
LOCATION:The Chesterfield\, 4723 So. Normandie Ave.\, Los Angeles\, CA\, 90062\, United States
CATEGORIES:Blood Pressure Screening,Clothing Distribution
ORGANIZER;CN="GCRCLA":MAILTO:info@gcrcla.org, ywanderson@gcrcla.org
END:VEVENT
BEGIN:VEVENT
DTSTART;TZID=UTC:20250307T100000
DTEND;TZID=UTC:20250307T100000
DTSTAMP:20260424T105525
CREATED:20250222T011417Z
LAST-MODIFIED:20250222T011417Z
UID:10000065-1741341600-1741341600@gcrcla.org
SUMMARY:Every Friday
DESCRIPTION:BLOOD PRESSURE SCREENING\, Clothing Distribution
URL:https://gcrcla.org/event/every-friday-4/
LOCATION:The Chesterfield\, 4723 So. Normandie Ave.\, Los Angeles\, CA\, 90062\, United States
CATEGORIES:Blood Pressure Screening,Clothing Distribution
ORGANIZER;CN="GCRCLA":MAILTO:info@gcrcla.org, ywanderson@gcrcla.org
END:VEVENT
BEGIN:VEVENT
DTSTART;TZID=UTC:20250307T100000
DTEND;TZID=UTC:20250307T100000
DTSTAMP:20260424T105525
CREATED:20250222T011417Z
LAST-MODIFIED:20250222T011417Z
UID:10000066-1741341600-1741341600@gcrcla.org
SUMMARY:Every Friday
DESCRIPTION:BLOOD PRESSURE SCREENING\, Clothing Distribution
URL:https://gcrcla.org/event/every-friday-5/
LOCATION:The Chesterfield\, 4723 So. Normandie Ave.\, Los Angeles\, CA\, 90062\, United States
CATEGORIES:Blood Pressure Screening,Clothing Distribution
ORGANIZER;CN="GCRCLA":MAILTO:info@gcrcla.org, ywanderson@gcrcla.org
END:VEVENT
BEGIN:VEVENT
DTSTART;TZID=UTC:20250307T100000
DTEND;TZID=UTC:20250307T100000
DTSTAMP:20260424T105525
CREATED:20250222T011201Z
LAST-MODIFIED:20250226T000647Z
UID:10000046-1741341600-1741341600@gcrcla.org
SUMMARY:First Friday
DESCRIPTION:PRODUCE GIVE AWAY
URL:https://gcrcla.org/event/first-friday-3/
LOCATION:The Chesterfield\, 4723 So. Normandie Ave.\, Los Angeles\, CA\, 90062\, United States
CATEGORIES:PRODUCE GIVE AWAY
ATTACH;FMTTYPE=image/jpeg:https://gcrcla.org/wp-content/uploads/2025/02/First-Friday-Produce-Give-Away-The-Wilcox.jpg
ORGANIZER;CN="GCRCLA":MAILTO:info@gcrcla.org, ywanderson@gcrcla.org
END:VEVENT
BEGIN:VEVENT
DTSTART;TZID=UTC:20250228T100000
DTEND;TZID=UTC:20250228T160000
DTSTAMP:20260424T105525
CREATED:20250129T005611Z
LAST-MODIFIED:20250207T015326Z
UID:10000021-1740736800-1740758400@gcrcla.org
SUMMARY:Fourth Friday
DESCRIPTION:Bingo With Prizes\nRaffles For Blood Pressure Participation
URL:https://gcrcla.org/event/fourth-friday/
LOCATION:The Chesterfield\, 4723 So. Normandie Ave.\, Los Angeles\, CA\, 90062\, United States
CATEGORIES:Chesterfield,Fourth Friday
ATTACH;FMTTYPE=image/jpeg:https://gcrcla.org/wp-content/uploads/2025/01/Fourth-Friday.jpg
ORGANIZER;CN="GCRCLA":MAILTO:info@gcrcla.org, ywanderson@gcrcla.org
END:VEVENT
BEGIN:VEVENT
DTSTART;TZID=UTC:20250221T120000
DTEND;TZID=UTC:20250221T150000
DTSTAMP:20260424T105525
CREATED:20250129T005138Z
LAST-MODIFIED:20250207T015203Z
UID:10000020-1740139200-1740150000@gcrcla.org
SUMMARY:Third Friday
DESCRIPTION:LA Regional Food Bank Box Distribution
URL:https://gcrcla.org/event/third-friday/
LOCATION:The Chesterfield\, 4723 So. Normandie Ave.\, Los Angeles\, CA\, 90062\, United States
CATEGORIES:Chesterfield,Event,Third Friday
ATTACH;FMTTYPE=image/jpeg:https://gcrcla.org/wp-content/uploads/2025/01/Third-Friday.jpg
ORGANIZER;CN="GCRCLA":MAILTO:info@gcrcla.org, ywanderson@gcrcla.org
END:VEVENT
BEGIN:VEVENT
DTSTART;TZID=UTC:20250214T100000
DTEND;TZID=UTC:20250214T130000
DTSTAMP:20260424T105525
CREATED:20250129T004019Z
LAST-MODIFIED:20250207T015031Z
UID:10000018-1739527200-1739538000@gcrcla.org
SUMMARY:Second Friday
DESCRIPTION:Exercise Class
URL:https://gcrcla.org/event/second-friday/
LOCATION:The Chesterfield\, 4723 So. Normandie Ave.\, Los Angeles\, CA\, 90062\, United States
CATEGORIES:Chesterfield,Event,Second Friday
ATTACH;FMTTYPE=image/jpeg:https://gcrcla.org/wp-content/uploads/2025/01/Second-Friday.jpg
ORGANIZER;CN="GCRCLA":MAILTO:info@gcrcla.org, ywanderson@gcrcla.org
END:VEVENT
BEGIN:VEVENT
DTSTART;TZID=UTC:20250213T100000
DTEND;TZID=UTC:20250213T150000
DTSTAMP:20260424T105525
CREATED:20250129T000443Z
LAST-MODIFIED:20250207T014700Z
UID:10000015-1739440800-1739458800@gcrcla.org
SUMMARY:Second Thursday
DESCRIPTION:Produce\, Meat\, Beverage\,\nDry Good Box Distribution
URL:https://gcrcla.org/event/second-thursday/
LOCATION:The Chesterfield\, 4723 So. Normandie Ave.\, Los Angeles\, CA\, 90062\, United States
CATEGORIES:Chesterfield,Event,Second Thursday
ATTACH;FMTTYPE=image/jpeg:https://gcrcla.org/wp-content/uploads/2025/01/Second-Thursday.jpg
END:VEVENT
BEGIN:VEVENT
DTSTART;TZID=UTC:20250207T120000
DTEND;TZID=UTC:20250207T150000
DTSTAMP:20260424T105525
CREATED:20250129T004749Z
LAST-MODIFIED:20250207T014942Z
UID:10000019-1738929600-1738940400@gcrcla.org
SUMMARY:Every Friday
DESCRIPTION:Blood Pressure Screenings\nClothing Distribution
URL:https://gcrcla.org/event/every-friday/
LOCATION:The Chesterfield\, 4723 So. Normandie Ave.\, Los Angeles\, CA\, 90062\, United States
CATEGORIES:Chesterfield,Event,Every Friday
ATTACH;FMTTYPE=image/jpeg:https://gcrcla.org/wp-content/uploads/2025/01/Every-Friday.jpg
ORGANIZER;CN="GCRCLA":MAILTO:info@gcrcla.org, ywanderson@gcrcla.org
END:VEVENT
BEGIN:VEVENT
DTSTART;TZID=UTC:20250207T100000
DTEND;TZID=UTC:20250207T150000
DTSTAMP:20260424T105525
CREATED:20250129T003738Z
LAST-MODIFIED:20250207T014912Z
UID:10000017-1738922400-1738940400@gcrcla.org
SUMMARY:First Friday
DESCRIPTION:Produce Give Away
URL:https://gcrcla.org/event/first-friday/
LOCATION:The Chesterfield\, 4723 So. Normandie Ave.\, Los Angeles\, CA\, 90062\, United States
CATEGORIES:Chesterfield,Event,First Friday
ATTACH;FMTTYPE=image/jpeg:https://gcrcla.org/wp-content/uploads/2025/01/First-Friday.jpg
ORGANIZER;CN="GCRCLA":MAILTO:info@gcrcla.org, ywanderson@gcrcla.org
END:VEVENT
END:VCALENDAR