BEGIN:VCALENDAR
VERSION:2.0
PRODID:-//GCRCLA - ECPv6.15.20//NONSGML v1.0//EN
CALSCALE:GREGORIAN
METHOD:PUBLISH
X-WR-CALNAME:GCRCLA
X-ORIGINAL-URL:https://gcrcla.org
X-WR-CALDESC:Events for GCRCLA
REFRESH-INTERVAL;VALUE=DURATION:PT1H
X-Robots-Tag:noindex
X-PUBLISHED-TTL:PT1H
BEGIN:VTIMEZONE
TZID:UTC
BEGIN:STANDARD
TZOFFSETFROM:+0000
TZOFFSETTO:+0000
TZNAME:UTC
DTSTART:20270101T000000
END:STANDARD
END:VTIMEZONE
BEGIN:VEVENT
DTSTART;TZID=UTC:20280707T100000
DTEND;TZID=UTC:20280707T140000
DTSTAMP:20260425T004855
CREATED:20250809T043316Z
LAST-MODIFIED:20250809T043350Z
UID:10001452-1846576800-1846591200@gcrcla.org
SUMMARY:Every Friday\, BLOOD PRESSURE SCREENS\, at The Chesterfield
DESCRIPTION:Every Friday\, BLOOD PRESSURE SCREENS\, at The Chesterfield
URL:https://gcrcla.org/event/every-friday-blood-pressure-screens-at-the-chesterfield/2028-07-07/
LOCATION:The Chesterfield\, 4723 So. Normandie Ave.\, Los Angeles\, CA\, 90062\, United States
CATEGORIES:Blood Pressure Screening,Chesterfield,Every Friday
ORGANIZER;CN="GCRCLA":MAILTO:info@gcrcla.org, ywanderson@gcrcla.org
END:VEVENT
BEGIN:VEVENT
DTSTART;TZID=UTC:20280707T100000
DTEND;TZID=UTC:20280707T150000
DTSTAMP:20260425T004855
CREATED:20250809T044320Z
LAST-MODIFIED:20250809T044432Z
UID:10001716-1846576800-1846594800@gcrcla.org
SUMMARY:Every Friday\, Clothing/Houseware Distribution\, at The Chesterfield
DESCRIPTION:Every Friday\, Clothing/Houseware Distribution\, at The Chesterfield
URL:https://gcrcla.org/event/every-friday-clothing-houseware-distribution-at-the-chesterfield/2028-07-07/
LOCATION:The Chesterfield\, 4723 So. Normandie Ave.\, Los Angeles\, CA\, 90062\, United States
CATEGORIES:Chesterfield,Clothing Distribution,Every Friday,Houseware Distribution
ORGANIZER;CN="GCRCLA":MAILTO:info@gcrcla.org, ywanderson@gcrcla.org
END:VEVENT
BEGIN:VEVENT
DTSTART;TZID=UTC:20280714T100000
DTEND;TZID=UTC:20280714T140000
DTSTAMP:20260425T004855
CREATED:20250809T043316Z
LAST-MODIFIED:20250809T043350Z
UID:10001453-1847181600-1847196000@gcrcla.org
SUMMARY:Every Friday\, BLOOD PRESSURE SCREENS\, at The Chesterfield
DESCRIPTION:Every Friday\, BLOOD PRESSURE SCREENS\, at The Chesterfield
URL:https://gcrcla.org/event/every-friday-blood-pressure-screens-at-the-chesterfield/2028-07-14/
LOCATION:The Chesterfield\, 4723 So. Normandie Ave.\, Los Angeles\, CA\, 90062\, United States
CATEGORIES:Blood Pressure Screening,Chesterfield,Every Friday
ORGANIZER;CN="GCRCLA":MAILTO:info@gcrcla.org, ywanderson@gcrcla.org
END:VEVENT
BEGIN:VEVENT
DTSTART;TZID=UTC:20280714T100000
DTEND;TZID=UTC:20280714T150000
DTSTAMP:20260425T004855
CREATED:20250809T044320Z
LAST-MODIFIED:20250809T044432Z
UID:10001717-1847181600-1847199600@gcrcla.org
SUMMARY:Every Friday\, Clothing/Houseware Distribution\, at The Chesterfield
DESCRIPTION:Every Friday\, Clothing/Houseware Distribution\, at The Chesterfield
URL:https://gcrcla.org/event/every-friday-clothing-houseware-distribution-at-the-chesterfield/2028-07-14/
LOCATION:The Chesterfield\, 4723 So. Normandie Ave.\, Los Angeles\, CA\, 90062\, United States
CATEGORIES:Chesterfield,Clothing Distribution,Every Friday,Houseware Distribution
ORGANIZER;CN="GCRCLA":MAILTO:info@gcrcla.org, ywanderson@gcrcla.org
END:VEVENT
BEGIN:VEVENT
DTSTART;TZID=UTC:20280721T100000
DTEND;TZID=UTC:20280721T140000
DTSTAMP:20260425T004855
CREATED:20250809T043316Z
LAST-MODIFIED:20250809T043350Z
UID:10001454-1847786400-1847800800@gcrcla.org
SUMMARY:Every Friday\, BLOOD PRESSURE SCREENS\, at The Chesterfield
DESCRIPTION:Every Friday\, BLOOD PRESSURE SCREENS\, at The Chesterfield
URL:https://gcrcla.org/event/every-friday-blood-pressure-screens-at-the-chesterfield/2028-07-21/
LOCATION:The Chesterfield\, 4723 So. Normandie Ave.\, Los Angeles\, CA\, 90062\, United States
CATEGORIES:Blood Pressure Screening,Chesterfield,Every Friday
ORGANIZER;CN="GCRCLA":MAILTO:info@gcrcla.org, ywanderson@gcrcla.org
END:VEVENT
BEGIN:VEVENT
DTSTART;TZID=UTC:20280721T100000
DTEND;TZID=UTC:20280721T150000
DTSTAMP:20260425T004855
CREATED:20250809T044320Z
LAST-MODIFIED:20250809T044432Z
UID:10001718-1847786400-1847804400@gcrcla.org
SUMMARY:Every Friday\, Clothing/Houseware Distribution\, at The Chesterfield
DESCRIPTION:Every Friday\, Clothing/Houseware Distribution\, at The Chesterfield
URL:https://gcrcla.org/event/every-friday-clothing-houseware-distribution-at-the-chesterfield/2028-07-21/
LOCATION:The Chesterfield\, 4723 So. Normandie Ave.\, Los Angeles\, CA\, 90062\, United States
CATEGORIES:Chesterfield,Clothing Distribution,Every Friday,Houseware Distribution
ORGANIZER;CN="GCRCLA":MAILTO:info@gcrcla.org, ywanderson@gcrcla.org
END:VEVENT
BEGIN:VEVENT
DTSTART;TZID=UTC:20280728T100000
DTEND;TZID=UTC:20280728T140000
DTSTAMP:20260425T004855
CREATED:20250809T043316Z
LAST-MODIFIED:20250809T043350Z
UID:10001455-1848391200-1848405600@gcrcla.org
SUMMARY:Every Friday\, BLOOD PRESSURE SCREENS\, at The Chesterfield
DESCRIPTION:Every Friday\, BLOOD PRESSURE SCREENS\, at The Chesterfield
URL:https://gcrcla.org/event/every-friday-blood-pressure-screens-at-the-chesterfield/2028-07-28/
LOCATION:The Chesterfield\, 4723 So. Normandie Ave.\, Los Angeles\, CA\, 90062\, United States
CATEGORIES:Blood Pressure Screening,Chesterfield,Every Friday
ORGANIZER;CN="GCRCLA":MAILTO:info@gcrcla.org, ywanderson@gcrcla.org
END:VEVENT
BEGIN:VEVENT
DTSTART;TZID=UTC:20280728T100000
DTEND;TZID=UTC:20280728T150000
DTSTAMP:20260425T004855
CREATED:20250809T044320Z
LAST-MODIFIED:20250809T044432Z
UID:10001719-1848391200-1848409200@gcrcla.org
SUMMARY:Every Friday\, Clothing/Houseware Distribution\, at The Chesterfield
DESCRIPTION:Every Friday\, Clothing/Houseware Distribution\, at The Chesterfield
URL:https://gcrcla.org/event/every-friday-clothing-houseware-distribution-at-the-chesterfield/2028-07-28/
LOCATION:The Chesterfield\, 4723 So. Normandie Ave.\, Los Angeles\, CA\, 90062\, United States
CATEGORIES:Chesterfield,Clothing Distribution,Every Friday,Houseware Distribution
ORGANIZER;CN="GCRCLA":MAILTO:info@gcrcla.org, ywanderson@gcrcla.org
END:VEVENT
BEGIN:VEVENT
DTSTART;TZID=UTC:20280804T100000
DTEND;TZID=UTC:20280804T140000
DTSTAMP:20260425T004855
CREATED:20250809T043316Z
LAST-MODIFIED:20250809T043350Z
UID:10001456-1848996000-1849010400@gcrcla.org
SUMMARY:Every Friday\, BLOOD PRESSURE SCREENS\, at The Chesterfield
DESCRIPTION:Every Friday\, BLOOD PRESSURE SCREENS\, at The Chesterfield
URL:https://gcrcla.org/event/every-friday-blood-pressure-screens-at-the-chesterfield/2028-08-04/
LOCATION:The Chesterfield\, 4723 So. Normandie Ave.\, Los Angeles\, CA\, 90062\, United States
CATEGORIES:Blood Pressure Screening,Chesterfield,Every Friday
ORGANIZER;CN="GCRCLA":MAILTO:info@gcrcla.org, ywanderson@gcrcla.org
END:VEVENT
BEGIN:VEVENT
DTSTART;TZID=UTC:20280804T100000
DTEND;TZID=UTC:20280804T150000
DTSTAMP:20260425T004855
CREATED:20250809T044320Z
LAST-MODIFIED:20250809T044432Z
UID:10001720-1848996000-1849014000@gcrcla.org
SUMMARY:Every Friday\, Clothing/Houseware Distribution\, at The Chesterfield
DESCRIPTION:Every Friday\, Clothing/Houseware Distribution\, at The Chesterfield
URL:https://gcrcla.org/event/every-friday-clothing-houseware-distribution-at-the-chesterfield/2028-08-04/
LOCATION:The Chesterfield\, 4723 So. Normandie Ave.\, Los Angeles\, CA\, 90062\, United States
CATEGORIES:Chesterfield,Clothing Distribution,Every Friday,Houseware Distribution
ORGANIZER;CN="GCRCLA":MAILTO:info@gcrcla.org, ywanderson@gcrcla.org
END:VEVENT
BEGIN:VEVENT
DTSTART;TZID=UTC:20280811T100000
DTEND;TZID=UTC:20280811T140000
DTSTAMP:20260425T004855
CREATED:20250809T043316Z
LAST-MODIFIED:20250809T043350Z
UID:10001457-1849600800-1849615200@gcrcla.org
SUMMARY:Every Friday\, BLOOD PRESSURE SCREENS\, at The Chesterfield
DESCRIPTION:Every Friday\, BLOOD PRESSURE SCREENS\, at The Chesterfield
URL:https://gcrcla.org/event/every-friday-blood-pressure-screens-at-the-chesterfield/2028-08-11/
LOCATION:The Chesterfield\, 4723 So. Normandie Ave.\, Los Angeles\, CA\, 90062\, United States
CATEGORIES:Blood Pressure Screening,Chesterfield,Every Friday
ORGANIZER;CN="GCRCLA":MAILTO:info@gcrcla.org, ywanderson@gcrcla.org
END:VEVENT
BEGIN:VEVENT
DTSTART;TZID=UTC:20280811T100000
DTEND;TZID=UTC:20280811T150000
DTSTAMP:20260425T004855
CREATED:20250809T044320Z
LAST-MODIFIED:20250809T044432Z
UID:10001721-1849600800-1849618800@gcrcla.org
SUMMARY:Every Friday\, Clothing/Houseware Distribution\, at The Chesterfield
DESCRIPTION:Every Friday\, Clothing/Houseware Distribution\, at The Chesterfield
URL:https://gcrcla.org/event/every-friday-clothing-houseware-distribution-at-the-chesterfield/2028-08-11/
LOCATION:The Chesterfield\, 4723 So. Normandie Ave.\, Los Angeles\, CA\, 90062\, United States
CATEGORIES:Chesterfield,Clothing Distribution,Every Friday,Houseware Distribution
ORGANIZER;CN="GCRCLA":MAILTO:info@gcrcla.org, ywanderson@gcrcla.org
END:VEVENT
BEGIN:VEVENT
DTSTART;TZID=UTC:20280818T100000
DTEND;TZID=UTC:20280818T140000
DTSTAMP:20260425T004855
CREATED:20250809T043316Z
LAST-MODIFIED:20250809T043350Z
UID:10001458-1850205600-1850220000@gcrcla.org
SUMMARY:Every Friday\, BLOOD PRESSURE SCREENS\, at The Chesterfield
DESCRIPTION:Every Friday\, BLOOD PRESSURE SCREENS\, at The Chesterfield
URL:https://gcrcla.org/event/every-friday-blood-pressure-screens-at-the-chesterfield/2028-08-18/
LOCATION:The Chesterfield\, 4723 So. Normandie Ave.\, Los Angeles\, CA\, 90062\, United States
CATEGORIES:Blood Pressure Screening,Chesterfield,Every Friday
ORGANIZER;CN="GCRCLA":MAILTO:info@gcrcla.org, ywanderson@gcrcla.org
END:VEVENT
BEGIN:VEVENT
DTSTART;TZID=UTC:20280818T100000
DTEND;TZID=UTC:20280818T150000
DTSTAMP:20260425T004855
CREATED:20250809T044320Z
LAST-MODIFIED:20250809T044432Z
UID:10001722-1850205600-1850223600@gcrcla.org
SUMMARY:Every Friday\, Clothing/Houseware Distribution\, at The Chesterfield
DESCRIPTION:Every Friday\, Clothing/Houseware Distribution\, at The Chesterfield
URL:https://gcrcla.org/event/every-friday-clothing-houseware-distribution-at-the-chesterfield/2028-08-18/
LOCATION:The Chesterfield\, 4723 So. Normandie Ave.\, Los Angeles\, CA\, 90062\, United States
CATEGORIES:Chesterfield,Clothing Distribution,Every Friday,Houseware Distribution
ORGANIZER;CN="GCRCLA":MAILTO:info@gcrcla.org, ywanderson@gcrcla.org
END:VEVENT
BEGIN:VEVENT
DTSTART;TZID=UTC:20280825T100000
DTEND;TZID=UTC:20280825T140000
DTSTAMP:20260425T004855
CREATED:20250809T043316Z
LAST-MODIFIED:20250809T043350Z
UID:10001459-1850810400-1850824800@gcrcla.org
SUMMARY:Every Friday\, BLOOD PRESSURE SCREENS\, at The Chesterfield
DESCRIPTION:Every Friday\, BLOOD PRESSURE SCREENS\, at The Chesterfield
URL:https://gcrcla.org/event/every-friday-blood-pressure-screens-at-the-chesterfield/2028-08-25/
LOCATION:The Chesterfield\, 4723 So. Normandie Ave.\, Los Angeles\, CA\, 90062\, United States
CATEGORIES:Blood Pressure Screening,Chesterfield,Every Friday
ORGANIZER;CN="GCRCLA":MAILTO:info@gcrcla.org, ywanderson@gcrcla.org
END:VEVENT
BEGIN:VEVENT
DTSTART;TZID=UTC:20280825T100000
DTEND;TZID=UTC:20280825T150000
DTSTAMP:20260425T004855
CREATED:20250809T044320Z
LAST-MODIFIED:20250809T044432Z
UID:10001723-1850810400-1850828400@gcrcla.org
SUMMARY:Every Friday\, Clothing/Houseware Distribution\, at The Chesterfield
DESCRIPTION:Every Friday\, Clothing/Houseware Distribution\, at The Chesterfield
URL:https://gcrcla.org/event/every-friday-clothing-houseware-distribution-at-the-chesterfield/2028-08-25/
LOCATION:The Chesterfield\, 4723 So. Normandie Ave.\, Los Angeles\, CA\, 90062\, United States
CATEGORIES:Chesterfield,Clothing Distribution,Every Friday,Houseware Distribution
ORGANIZER;CN="GCRCLA":MAILTO:info@gcrcla.org, ywanderson@gcrcla.org
END:VEVENT
BEGIN:VEVENT
DTSTART;TZID=UTC:20280901T100000
DTEND;TZID=UTC:20280901T140000
DTSTAMP:20260425T004855
CREATED:20250809T043316Z
LAST-MODIFIED:20250809T043350Z
UID:10001460-1851415200-1851429600@gcrcla.org
SUMMARY:Every Friday\, BLOOD PRESSURE SCREENS\, at The Chesterfield
DESCRIPTION:Every Friday\, BLOOD PRESSURE SCREENS\, at The Chesterfield
URL:https://gcrcla.org/event/every-friday-blood-pressure-screens-at-the-chesterfield/2028-09-01/
LOCATION:The Chesterfield\, 4723 So. Normandie Ave.\, Los Angeles\, CA\, 90062\, United States
CATEGORIES:Blood Pressure Screening,Chesterfield,Every Friday
ORGANIZER;CN="GCRCLA":MAILTO:info@gcrcla.org, ywanderson@gcrcla.org
END:VEVENT
BEGIN:VEVENT
DTSTART;TZID=UTC:20280901T100000
DTEND;TZID=UTC:20280901T150000
DTSTAMP:20260425T004855
CREATED:20250809T044320Z
LAST-MODIFIED:20250809T044432Z
UID:10001724-1851415200-1851433200@gcrcla.org
SUMMARY:Every Friday\, Clothing/Houseware Distribution\, at The Chesterfield
DESCRIPTION:Every Friday\, Clothing/Houseware Distribution\, at The Chesterfield
URL:https://gcrcla.org/event/every-friday-clothing-houseware-distribution-at-the-chesterfield/2028-09-01/
LOCATION:The Chesterfield\, 4723 So. Normandie Ave.\, Los Angeles\, CA\, 90062\, United States
CATEGORIES:Chesterfield,Clothing Distribution,Every Friday,Houseware Distribution
ORGANIZER;CN="GCRCLA":MAILTO:info@gcrcla.org, ywanderson@gcrcla.org
END:VEVENT
BEGIN:VEVENT
DTSTART;TZID=UTC:20280908T100000
DTEND;TZID=UTC:20280908T140000
DTSTAMP:20260425T004855
CREATED:20250809T043316Z
LAST-MODIFIED:20250809T043350Z
UID:10001461-1852020000-1852034400@gcrcla.org
SUMMARY:Every Friday\, BLOOD PRESSURE SCREENS\, at The Chesterfield
DESCRIPTION:Every Friday\, BLOOD PRESSURE SCREENS\, at The Chesterfield
URL:https://gcrcla.org/event/every-friday-blood-pressure-screens-at-the-chesterfield/2028-09-08/
LOCATION:The Chesterfield\, 4723 So. Normandie Ave.\, Los Angeles\, CA\, 90062\, United States
CATEGORIES:Blood Pressure Screening,Chesterfield,Every Friday
ORGANIZER;CN="GCRCLA":MAILTO:info@gcrcla.org, ywanderson@gcrcla.org
END:VEVENT
BEGIN:VEVENT
DTSTART;TZID=UTC:20280908T100000
DTEND;TZID=UTC:20280908T150000
DTSTAMP:20260425T004855
CREATED:20250809T044320Z
LAST-MODIFIED:20250809T044432Z
UID:10001725-1852020000-1852038000@gcrcla.org
SUMMARY:Every Friday\, Clothing/Houseware Distribution\, at The Chesterfield
DESCRIPTION:Every Friday\, Clothing/Houseware Distribution\, at The Chesterfield
URL:https://gcrcla.org/event/every-friday-clothing-houseware-distribution-at-the-chesterfield/2028-09-08/
LOCATION:The Chesterfield\, 4723 So. Normandie Ave.\, Los Angeles\, CA\, 90062\, United States
CATEGORIES:Chesterfield,Clothing Distribution,Every Friday,Houseware Distribution
ORGANIZER;CN="GCRCLA":MAILTO:info@gcrcla.org, ywanderson@gcrcla.org
END:VEVENT
BEGIN:VEVENT
DTSTART;TZID=UTC:20280915T100000
DTEND;TZID=UTC:20280915T140000
DTSTAMP:20260425T004855
CREATED:20250809T043316Z
LAST-MODIFIED:20250809T043350Z
UID:10001462-1852624800-1852639200@gcrcla.org
SUMMARY:Every Friday\, BLOOD PRESSURE SCREENS\, at The Chesterfield
DESCRIPTION:Every Friday\, BLOOD PRESSURE SCREENS\, at The Chesterfield
URL:https://gcrcla.org/event/every-friday-blood-pressure-screens-at-the-chesterfield/2028-09-15/
LOCATION:The Chesterfield\, 4723 So. Normandie Ave.\, Los Angeles\, CA\, 90062\, United States
CATEGORIES:Blood Pressure Screening,Chesterfield,Every Friday
ORGANIZER;CN="GCRCLA":MAILTO:info@gcrcla.org, ywanderson@gcrcla.org
END:VEVENT
BEGIN:VEVENT
DTSTART;TZID=UTC:20280915T100000
DTEND;TZID=UTC:20280915T150000
DTSTAMP:20260425T004855
CREATED:20250809T044320Z
LAST-MODIFIED:20250809T044432Z
UID:10001726-1852624800-1852642800@gcrcla.org
SUMMARY:Every Friday\, Clothing/Houseware Distribution\, at The Chesterfield
DESCRIPTION:Every Friday\, Clothing/Houseware Distribution\, at The Chesterfield
URL:https://gcrcla.org/event/every-friday-clothing-houseware-distribution-at-the-chesterfield/2028-09-15/
LOCATION:The Chesterfield\, 4723 So. Normandie Ave.\, Los Angeles\, CA\, 90062\, United States
CATEGORIES:Chesterfield,Clothing Distribution,Every Friday,Houseware Distribution
ORGANIZER;CN="GCRCLA":MAILTO:info@gcrcla.org, ywanderson@gcrcla.org
END:VEVENT
BEGIN:VEVENT
DTSTART;TZID=UTC:20280922T100000
DTEND;TZID=UTC:20280922T140000
DTSTAMP:20260425T004855
CREATED:20250809T043316Z
LAST-MODIFIED:20250809T043350Z
UID:10001463-1853229600-1853244000@gcrcla.org
SUMMARY:Every Friday\, BLOOD PRESSURE SCREENS\, at The Chesterfield
DESCRIPTION:Every Friday\, BLOOD PRESSURE SCREENS\, at The Chesterfield
URL:https://gcrcla.org/event/every-friday-blood-pressure-screens-at-the-chesterfield/2028-09-22/
LOCATION:The Chesterfield\, 4723 So. Normandie Ave.\, Los Angeles\, CA\, 90062\, United States
CATEGORIES:Blood Pressure Screening,Chesterfield,Every Friday
ORGANIZER;CN="GCRCLA":MAILTO:info@gcrcla.org, ywanderson@gcrcla.org
END:VEVENT
BEGIN:VEVENT
DTSTART;TZID=UTC:20280922T100000
DTEND;TZID=UTC:20280922T150000
DTSTAMP:20260425T004855
CREATED:20250809T044320Z
LAST-MODIFIED:20250809T044432Z
UID:10001727-1853229600-1853247600@gcrcla.org
SUMMARY:Every Friday\, Clothing/Houseware Distribution\, at The Chesterfield
DESCRIPTION:Every Friday\, Clothing/Houseware Distribution\, at The Chesterfield
URL:https://gcrcla.org/event/every-friday-clothing-houseware-distribution-at-the-chesterfield/2028-09-22/
LOCATION:The Chesterfield\, 4723 So. Normandie Ave.\, Los Angeles\, CA\, 90062\, United States
CATEGORIES:Chesterfield,Clothing Distribution,Every Friday,Houseware Distribution
ORGANIZER;CN="GCRCLA":MAILTO:info@gcrcla.org, ywanderson@gcrcla.org
END:VEVENT
BEGIN:VEVENT
DTSTART;TZID=UTC:20280929T100000
DTEND;TZID=UTC:20280929T140000
DTSTAMP:20260425T004855
CREATED:20250809T043316Z
LAST-MODIFIED:20250809T043350Z
UID:10001464-1853834400-1853848800@gcrcla.org
SUMMARY:Every Friday\, BLOOD PRESSURE SCREENS\, at The Chesterfield
DESCRIPTION:Every Friday\, BLOOD PRESSURE SCREENS\, at The Chesterfield
URL:https://gcrcla.org/event/every-friday-blood-pressure-screens-at-the-chesterfield/2028-09-29/
LOCATION:The Chesterfield\, 4723 So. Normandie Ave.\, Los Angeles\, CA\, 90062\, United States
CATEGORIES:Blood Pressure Screening,Chesterfield,Every Friday
ORGANIZER;CN="GCRCLA":MAILTO:info@gcrcla.org, ywanderson@gcrcla.org
END:VEVENT
BEGIN:VEVENT
DTSTART;TZID=UTC:20280929T100000
DTEND;TZID=UTC:20280929T150000
DTSTAMP:20260425T004855
CREATED:20250809T044320Z
LAST-MODIFIED:20250809T044432Z
UID:10001728-1853834400-1853852400@gcrcla.org
SUMMARY:Every Friday\, Clothing/Houseware Distribution\, at The Chesterfield
DESCRIPTION:Every Friday\, Clothing/Houseware Distribution\, at The Chesterfield
URL:https://gcrcla.org/event/every-friday-clothing-houseware-distribution-at-the-chesterfield/2028-09-29/
LOCATION:The Chesterfield\, 4723 So. Normandie Ave.\, Los Angeles\, CA\, 90062\, United States
CATEGORIES:Chesterfield,Clothing Distribution,Every Friday,Houseware Distribution
ORGANIZER;CN="GCRCLA":MAILTO:info@gcrcla.org, ywanderson@gcrcla.org
END:VEVENT
BEGIN:VEVENT
DTSTART;TZID=UTC:20281006T100000
DTEND;TZID=UTC:20281006T140000
DTSTAMP:20260425T004855
CREATED:20250809T043316Z
LAST-MODIFIED:20250809T043350Z
UID:10001465-1854439200-1854453600@gcrcla.org
SUMMARY:Every Friday\, BLOOD PRESSURE SCREENS\, at The Chesterfield
DESCRIPTION:Every Friday\, BLOOD PRESSURE SCREENS\, at The Chesterfield
URL:https://gcrcla.org/event/every-friday-blood-pressure-screens-at-the-chesterfield/2028-10-06/
LOCATION:The Chesterfield\, 4723 So. Normandie Ave.\, Los Angeles\, CA\, 90062\, United States
CATEGORIES:Blood Pressure Screening,Chesterfield,Every Friday
ORGANIZER;CN="GCRCLA":MAILTO:info@gcrcla.org, ywanderson@gcrcla.org
END:VEVENT
BEGIN:VEVENT
DTSTART;TZID=UTC:20281006T100000
DTEND;TZID=UTC:20281006T150000
DTSTAMP:20260425T004855
CREATED:20250809T044320Z
LAST-MODIFIED:20250809T044432Z
UID:10001729-1854439200-1854457200@gcrcla.org
SUMMARY:Every Friday\, Clothing/Houseware Distribution\, at The Chesterfield
DESCRIPTION:Every Friday\, Clothing/Houseware Distribution\, at The Chesterfield
URL:https://gcrcla.org/event/every-friday-clothing-houseware-distribution-at-the-chesterfield/2028-10-06/
LOCATION:The Chesterfield\, 4723 So. Normandie Ave.\, Los Angeles\, CA\, 90062\, United States
CATEGORIES:Chesterfield,Clothing Distribution,Every Friday,Houseware Distribution
ORGANIZER;CN="GCRCLA":MAILTO:info@gcrcla.org, ywanderson@gcrcla.org
END:VEVENT
BEGIN:VEVENT
DTSTART;TZID=UTC:20281013T100000
DTEND;TZID=UTC:20281013T140000
DTSTAMP:20260425T004855
CREATED:20250809T043316Z
LAST-MODIFIED:20250809T043350Z
UID:10001466-1855044000-1855058400@gcrcla.org
SUMMARY:Every Friday\, BLOOD PRESSURE SCREENS\, at The Chesterfield
DESCRIPTION:Every Friday\, BLOOD PRESSURE SCREENS\, at The Chesterfield
URL:https://gcrcla.org/event/every-friday-blood-pressure-screens-at-the-chesterfield/2028-10-13/
LOCATION:The Chesterfield\, 4723 So. Normandie Ave.\, Los Angeles\, CA\, 90062\, United States
CATEGORIES:Blood Pressure Screening,Chesterfield,Every Friday
ORGANIZER;CN="GCRCLA":MAILTO:info@gcrcla.org, ywanderson@gcrcla.org
END:VEVENT
BEGIN:VEVENT
DTSTART;TZID=UTC:20281013T100000
DTEND;TZID=UTC:20281013T150000
DTSTAMP:20260425T004855
CREATED:20250809T044320Z
LAST-MODIFIED:20250809T044432Z
UID:10001730-1855044000-1855062000@gcrcla.org
SUMMARY:Every Friday\, Clothing/Houseware Distribution\, at The Chesterfield
DESCRIPTION:Every Friday\, Clothing/Houseware Distribution\, at The Chesterfield
URL:https://gcrcla.org/event/every-friday-clothing-houseware-distribution-at-the-chesterfield/2028-10-13/
LOCATION:The Chesterfield\, 4723 So. Normandie Ave.\, Los Angeles\, CA\, 90062\, United States
CATEGORIES:Chesterfield,Clothing Distribution,Every Friday,Houseware Distribution
ORGANIZER;CN="GCRCLA":MAILTO:info@gcrcla.org, ywanderson@gcrcla.org
END:VEVENT
END:VCALENDAR