BEGIN:VCALENDAR
VERSION:2.0
PRODID:-//GCRCLA - ECPv6.15.20//NONSGML v1.0//EN
CALSCALE:GREGORIAN
METHOD:PUBLISH
X-WR-CALNAME:GCRCLA
X-ORIGINAL-URL:https://gcrcla.org
X-WR-CALDESC:Events for GCRCLA
REFRESH-INTERVAL;VALUE=DURATION:PT1H
X-Robots-Tag:noindex
X-PUBLISHED-TTL:PT1H
BEGIN:VTIMEZONE
TZID:UTC
BEGIN:STANDARD
TZOFFSETFROM:+0000
TZOFFSETTO:+0000
TZNAME:UTC
DTSTART:20240101T000000
END:STANDARD
END:VTIMEZONE
BEGIN:VEVENT
DTSTART;TZID=UTC:20260123T100000
DTEND;TZID=UTC:20260123T150000
DTSTAMP:20260423T215454
CREATED:20250809T044320Z
LAST-MODIFIED:20250809T044432Z
UID:10001588-1769162400-1769180400@gcrcla.org
SUMMARY:Every Friday\, Clothing/Houseware Distribution\, at The Chesterfield
DESCRIPTION:Every Friday\, Clothing/Houseware Distribution\, at The Chesterfield
URL:https://gcrcla.org/event/every-friday-clothing-houseware-distribution-at-the-chesterfield/2026-01-23/
LOCATION:The Chesterfield\, 4723 So. Normandie Ave.\, Los Angeles\, CA\, 90062\, United States
CATEGORIES:Chesterfield,Clothing Distribution,Every Friday,Houseware Distribution
ORGANIZER;CN="GCRCLA":MAILTO:info@gcrcla.org, ywanderson@gcrcla.org
END:VEVENT
BEGIN:VEVENT
DTSTART;TZID=UTC:20260123T100000
DTEND;TZID=UTC:20260123T140000
DTSTAMP:20260423T215454
CREATED:20250809T043316Z
LAST-MODIFIED:20250809T043350Z
UID:10001324-1769162400-1769176800@gcrcla.org
SUMMARY:Every Friday\, BLOOD PRESSURE SCREENS\, at The Chesterfield
DESCRIPTION:Every Friday\, BLOOD PRESSURE SCREENS\, at The Chesterfield
URL:https://gcrcla.org/event/every-friday-blood-pressure-screens-at-the-chesterfield/2026-01-23/
LOCATION:The Chesterfield\, 4723 So. Normandie Ave.\, Los Angeles\, CA\, 90062\, United States
CATEGORIES:Blood Pressure Screening,Chesterfield,Every Friday
ORGANIZER;CN="GCRCLA":MAILTO:info@gcrcla.org, ywanderson@gcrcla.org
END:VEVENT
BEGIN:VEVENT
DTSTART;TZID=UTC:20260116T100000
DTEND;TZID=UTC:20260116T150000
DTSTAMP:20260423T215454
CREATED:20250809T044320Z
LAST-MODIFIED:20250809T044432Z
UID:10001587-1768557600-1768575600@gcrcla.org
SUMMARY:Every Friday\, Clothing/Houseware Distribution\, at The Chesterfield
DESCRIPTION:Every Friday\, Clothing/Houseware Distribution\, at The Chesterfield
URL:https://gcrcla.org/event/every-friday-clothing-houseware-distribution-at-the-chesterfield/2026-01-16/
LOCATION:The Chesterfield\, 4723 So. Normandie Ave.\, Los Angeles\, CA\, 90062\, United States
CATEGORIES:Chesterfield,Clothing Distribution,Every Friday,Houseware Distribution
ORGANIZER;CN="GCRCLA":MAILTO:info@gcrcla.org, ywanderson@gcrcla.org
END:VEVENT
BEGIN:VEVENT
DTSTART;TZID=UTC:20260116T100000
DTEND;TZID=UTC:20260116T140000
DTSTAMP:20260423T215454
CREATED:20250809T043316Z
LAST-MODIFIED:20250809T043350Z
UID:10001323-1768557600-1768572000@gcrcla.org
SUMMARY:Every Friday\, BLOOD PRESSURE SCREENS\, at The Chesterfield
DESCRIPTION:Every Friday\, BLOOD PRESSURE SCREENS\, at The Chesterfield
URL:https://gcrcla.org/event/every-friday-blood-pressure-screens-at-the-chesterfield/2026-01-16/
LOCATION:The Chesterfield\, 4723 So. Normandie Ave.\, Los Angeles\, CA\, 90062\, United States
CATEGORIES:Blood Pressure Screening,Chesterfield,Every Friday
ORGANIZER;CN="GCRCLA":MAILTO:info@gcrcla.org, ywanderson@gcrcla.org
END:VEVENT
BEGIN:VEVENT
DTSTART;TZID=UTC:20260109T100000
DTEND;TZID=UTC:20260109T150000
DTSTAMP:20260423T215454
CREATED:20250809T044320Z
LAST-MODIFIED:20250809T044432Z
UID:10001586-1767952800-1767970800@gcrcla.org
SUMMARY:Every Friday\, Clothing/Houseware Distribution\, at The Chesterfield
DESCRIPTION:Every Friday\, Clothing/Houseware Distribution\, at The Chesterfield
URL:https://gcrcla.org/event/every-friday-clothing-houseware-distribution-at-the-chesterfield/2026-01-09/
LOCATION:The Chesterfield\, 4723 So. Normandie Ave.\, Los Angeles\, CA\, 90062\, United States
CATEGORIES:Chesterfield,Clothing Distribution,Every Friday,Houseware Distribution
ORGANIZER;CN="GCRCLA":MAILTO:info@gcrcla.org, ywanderson@gcrcla.org
END:VEVENT
BEGIN:VEVENT
DTSTART;TZID=UTC:20260109T100000
DTEND;TZID=UTC:20260109T140000
DTSTAMP:20260423T215454
CREATED:20250809T043316Z
LAST-MODIFIED:20250809T043350Z
UID:10001322-1767952800-1767967200@gcrcla.org
SUMMARY:Every Friday\, BLOOD PRESSURE SCREENS\, at The Chesterfield
DESCRIPTION:Every Friday\, BLOOD PRESSURE SCREENS\, at The Chesterfield
URL:https://gcrcla.org/event/every-friday-blood-pressure-screens-at-the-chesterfield/2026-01-09/
LOCATION:The Chesterfield\, 4723 So. Normandie Ave.\, Los Angeles\, CA\, 90062\, United States
CATEGORIES:Blood Pressure Screening,Chesterfield,Every Friday
ORGANIZER;CN="GCRCLA":MAILTO:info@gcrcla.org, ywanderson@gcrcla.org
END:VEVENT
BEGIN:VEVENT
DTSTART;TZID=UTC:20260102T100000
DTEND;TZID=UTC:20260102T150000
DTSTAMP:20260423T215454
CREATED:20250809T044320Z
LAST-MODIFIED:20250809T044432Z
UID:10001585-1767348000-1767366000@gcrcla.org
SUMMARY:Every Friday\, Clothing/Houseware Distribution\, at The Chesterfield
DESCRIPTION:Every Friday\, Clothing/Houseware Distribution\, at The Chesterfield
URL:https://gcrcla.org/event/every-friday-clothing-houseware-distribution-at-the-chesterfield/2026-01-02/
LOCATION:The Chesterfield\, 4723 So. Normandie Ave.\, Los Angeles\, CA\, 90062\, United States
CATEGORIES:Chesterfield,Clothing Distribution,Every Friday,Houseware Distribution
ORGANIZER;CN="GCRCLA":MAILTO:info@gcrcla.org, ywanderson@gcrcla.org
END:VEVENT
BEGIN:VEVENT
DTSTART;TZID=UTC:20260102T100000
DTEND;TZID=UTC:20260102T140000
DTSTAMP:20260423T215454
CREATED:20250809T043316Z
LAST-MODIFIED:20250809T043350Z
UID:10001321-1767348000-1767362400@gcrcla.org
SUMMARY:Every Friday\, BLOOD PRESSURE SCREENS\, at The Chesterfield
DESCRIPTION:Every Friday\, BLOOD PRESSURE SCREENS\, at The Chesterfield
URL:https://gcrcla.org/event/every-friday-blood-pressure-screens-at-the-chesterfield/2026-01-02/
LOCATION:The Chesterfield\, 4723 So. Normandie Ave.\, Los Angeles\, CA\, 90062\, United States
CATEGORIES:Blood Pressure Screening,Chesterfield,Every Friday
ORGANIZER;CN="GCRCLA":MAILTO:info@gcrcla.org, ywanderson@gcrcla.org
END:VEVENT
BEGIN:VEVENT
DTSTART;TZID=UTC:20251226T100000
DTEND;TZID=UTC:20251226T150000
DTSTAMP:20260423T215454
CREATED:20250809T044320Z
LAST-MODIFIED:20250809T044432Z
UID:10001584-1766743200-1766761200@gcrcla.org
SUMMARY:Every Friday\, Clothing/Houseware Distribution\, at The Chesterfield
DESCRIPTION:Every Friday\, Clothing/Houseware Distribution\, at The Chesterfield
URL:https://gcrcla.org/event/every-friday-clothing-houseware-distribution-at-the-chesterfield/2025-12-26/
LOCATION:The Chesterfield\, 4723 So. Normandie Ave.\, Los Angeles\, CA\, 90062\, United States
CATEGORIES:Chesterfield,Clothing Distribution,Every Friday,Houseware Distribution
ORGANIZER;CN="GCRCLA":MAILTO:info@gcrcla.org, ywanderson@gcrcla.org
END:VEVENT
BEGIN:VEVENT
DTSTART;TZID=UTC:20251226T100000
DTEND;TZID=UTC:20251226T140000
DTSTAMP:20260423T215454
CREATED:20250809T043316Z
LAST-MODIFIED:20250809T043350Z
UID:10001320-1766743200-1766757600@gcrcla.org
SUMMARY:Every Friday\, BLOOD PRESSURE SCREENS\, at The Chesterfield
DESCRIPTION:Every Friday\, BLOOD PRESSURE SCREENS\, at The Chesterfield
URL:https://gcrcla.org/event/every-friday-blood-pressure-screens-at-the-chesterfield/2025-12-26/
LOCATION:The Chesterfield\, 4723 So. Normandie Ave.\, Los Angeles\, CA\, 90062\, United States
CATEGORIES:Blood Pressure Screening,Chesterfield,Every Friday
ORGANIZER;CN="GCRCLA":MAILTO:info@gcrcla.org, ywanderson@gcrcla.org
END:VEVENT
BEGIN:VEVENT
DTSTART;TZID=UTC:20251219T100000
DTEND;TZID=UTC:20251219T150000
DTSTAMP:20260423T215454
CREATED:20250809T044320Z
LAST-MODIFIED:20250809T044432Z
UID:10001583-1766138400-1766156400@gcrcla.org
SUMMARY:Every Friday\, Clothing/Houseware Distribution\, at The Chesterfield
DESCRIPTION:Every Friday\, Clothing/Houseware Distribution\, at The Chesterfield
URL:https://gcrcla.org/event/every-friday-clothing-houseware-distribution-at-the-chesterfield/2025-12-19/
LOCATION:The Chesterfield\, 4723 So. Normandie Ave.\, Los Angeles\, CA\, 90062\, United States
CATEGORIES:Chesterfield,Clothing Distribution,Every Friday,Houseware Distribution
ORGANIZER;CN="GCRCLA":MAILTO:info@gcrcla.org, ywanderson@gcrcla.org
END:VEVENT
BEGIN:VEVENT
DTSTART;TZID=UTC:20251219T100000
DTEND;TZID=UTC:20251219T140000
DTSTAMP:20260423T215454
CREATED:20250809T043316Z
LAST-MODIFIED:20250809T043350Z
UID:10001319-1766138400-1766152800@gcrcla.org
SUMMARY:Every Friday\, BLOOD PRESSURE SCREENS\, at The Chesterfield
DESCRIPTION:Every Friday\, BLOOD PRESSURE SCREENS\, at The Chesterfield
URL:https://gcrcla.org/event/every-friday-blood-pressure-screens-at-the-chesterfield/2025-12-19/
LOCATION:The Chesterfield\, 4723 So. Normandie Ave.\, Los Angeles\, CA\, 90062\, United States
CATEGORIES:Blood Pressure Screening,Chesterfield,Every Friday
ORGANIZER;CN="GCRCLA":MAILTO:info@gcrcla.org, ywanderson@gcrcla.org
END:VEVENT
BEGIN:VEVENT
DTSTART;TZID=UTC:20251212T100000
DTEND;TZID=UTC:20251212T150000
DTSTAMP:20260423T215454
CREATED:20250809T044320Z
LAST-MODIFIED:20250809T044432Z
UID:10001582-1765533600-1765551600@gcrcla.org
SUMMARY:Every Friday\, Clothing/Houseware Distribution\, at The Chesterfield
DESCRIPTION:Every Friday\, Clothing/Houseware Distribution\, at The Chesterfield
URL:https://gcrcla.org/event/every-friday-clothing-houseware-distribution-at-the-chesterfield/2025-12-12/
LOCATION:The Chesterfield\, 4723 So. Normandie Ave.\, Los Angeles\, CA\, 90062\, United States
CATEGORIES:Chesterfield,Clothing Distribution,Every Friday,Houseware Distribution
ORGANIZER;CN="GCRCLA":MAILTO:info@gcrcla.org, ywanderson@gcrcla.org
END:VEVENT
BEGIN:VEVENT
DTSTART;TZID=UTC:20251212T100000
DTEND;TZID=UTC:20251212T140000
DTSTAMP:20260423T215454
CREATED:20250809T043316Z
LAST-MODIFIED:20250809T043350Z
UID:10001318-1765533600-1765548000@gcrcla.org
SUMMARY:Every Friday\, BLOOD PRESSURE SCREENS\, at The Chesterfield
DESCRIPTION:Every Friday\, BLOOD PRESSURE SCREENS\, at The Chesterfield
URL:https://gcrcla.org/event/every-friday-blood-pressure-screens-at-the-chesterfield/2025-12-12/
LOCATION:The Chesterfield\, 4723 So. Normandie Ave.\, Los Angeles\, CA\, 90062\, United States
CATEGORIES:Blood Pressure Screening,Chesterfield,Every Friday
ORGANIZER;CN="GCRCLA":MAILTO:info@gcrcla.org, ywanderson@gcrcla.org
END:VEVENT
BEGIN:VEVENT
DTSTART;TZID=UTC:20251205T100000
DTEND;TZID=UTC:20251205T150000
DTSTAMP:20260423T215454
CREATED:20250809T044320Z
LAST-MODIFIED:20250809T044432Z
UID:10001581-1764928800-1764946800@gcrcla.org
SUMMARY:Every Friday\, Clothing/Houseware Distribution\, at The Chesterfield
DESCRIPTION:Every Friday\, Clothing/Houseware Distribution\, at The Chesterfield
URL:https://gcrcla.org/event/every-friday-clothing-houseware-distribution-at-the-chesterfield/2025-12-05/
LOCATION:The Chesterfield\, 4723 So. Normandie Ave.\, Los Angeles\, CA\, 90062\, United States
CATEGORIES:Chesterfield,Clothing Distribution,Every Friday,Houseware Distribution
ORGANIZER;CN="GCRCLA":MAILTO:info@gcrcla.org, ywanderson@gcrcla.org
END:VEVENT
BEGIN:VEVENT
DTSTART;TZID=UTC:20251205T100000
DTEND;TZID=UTC:20251205T140000
DTSTAMP:20260423T215454
CREATED:20250809T043316Z
LAST-MODIFIED:20250809T043350Z
UID:10001317-1764928800-1764943200@gcrcla.org
SUMMARY:Every Friday\, BLOOD PRESSURE SCREENS\, at The Chesterfield
DESCRIPTION:Every Friday\, BLOOD PRESSURE SCREENS\, at The Chesterfield
URL:https://gcrcla.org/event/every-friday-blood-pressure-screens-at-the-chesterfield/2025-12-05/
LOCATION:The Chesterfield\, 4723 So. Normandie Ave.\, Los Angeles\, CA\, 90062\, United States
CATEGORIES:Blood Pressure Screening,Chesterfield,Every Friday
ORGANIZER;CN="GCRCLA":MAILTO:info@gcrcla.org, ywanderson@gcrcla.org
END:VEVENT
BEGIN:VEVENT
DTSTART;TZID=UTC:20251128T100000
DTEND;TZID=UTC:20251128T150000
DTSTAMP:20260423T215454
CREATED:20250809T044320Z
LAST-MODIFIED:20250809T044432Z
UID:10001580-1764324000-1764342000@gcrcla.org
SUMMARY:Every Friday\, Clothing/Houseware Distribution\, at The Chesterfield
DESCRIPTION:Every Friday\, Clothing/Houseware Distribution\, at The Chesterfield
URL:https://gcrcla.org/event/every-friday-clothing-houseware-distribution-at-the-chesterfield/2025-11-28/
LOCATION:The Chesterfield\, 4723 So. Normandie Ave.\, Los Angeles\, CA\, 90062\, United States
CATEGORIES:Chesterfield,Clothing Distribution,Every Friday,Houseware Distribution
ORGANIZER;CN="GCRCLA":MAILTO:info@gcrcla.org, ywanderson@gcrcla.org
END:VEVENT
BEGIN:VEVENT
DTSTART;TZID=UTC:20251128T100000
DTEND;TZID=UTC:20251128T140000
DTSTAMP:20260423T215454
CREATED:20250809T043316Z
LAST-MODIFIED:20250809T043350Z
UID:10001316-1764324000-1764338400@gcrcla.org
SUMMARY:Every Friday\, BLOOD PRESSURE SCREENS\, at The Chesterfield
DESCRIPTION:Every Friday\, BLOOD PRESSURE SCREENS\, at The Chesterfield
URL:https://gcrcla.org/event/every-friday-blood-pressure-screens-at-the-chesterfield/2025-11-28/
LOCATION:The Chesterfield\, 4723 So. Normandie Ave.\, Los Angeles\, CA\, 90062\, United States
CATEGORIES:Blood Pressure Screening,Chesterfield,Every Friday
ORGANIZER;CN="GCRCLA":MAILTO:info@gcrcla.org, ywanderson@gcrcla.org
END:VEVENT
BEGIN:VEVENT
DTSTART;TZID=UTC:20251121T100000
DTEND;TZID=UTC:20251121T150000
DTSTAMP:20260423T215454
CREATED:20250809T044320Z
LAST-MODIFIED:20250809T044432Z
UID:10001579-1763719200-1763737200@gcrcla.org
SUMMARY:Every Friday\, Clothing/Houseware Distribution\, at The Chesterfield
DESCRIPTION:Every Friday\, Clothing/Houseware Distribution\, at The Chesterfield
URL:https://gcrcla.org/event/every-friday-clothing-houseware-distribution-at-the-chesterfield/2025-11-21/
LOCATION:The Chesterfield\, 4723 So. Normandie Ave.\, Los Angeles\, CA\, 90062\, United States
CATEGORIES:Chesterfield,Clothing Distribution,Every Friday,Houseware Distribution
ORGANIZER;CN="GCRCLA":MAILTO:info@gcrcla.org, ywanderson@gcrcla.org
END:VEVENT
BEGIN:VEVENT
DTSTART;TZID=UTC:20251121T100000
DTEND;TZID=UTC:20251121T140000
DTSTAMP:20260423T215454
CREATED:20250809T043316Z
LAST-MODIFIED:20250809T043350Z
UID:10001315-1763719200-1763733600@gcrcla.org
SUMMARY:Every Friday\, BLOOD PRESSURE SCREENS\, at The Chesterfield
DESCRIPTION:Every Friday\, BLOOD PRESSURE SCREENS\, at The Chesterfield
URL:https://gcrcla.org/event/every-friday-blood-pressure-screens-at-the-chesterfield/2025-11-21/
LOCATION:The Chesterfield\, 4723 So. Normandie Ave.\, Los Angeles\, CA\, 90062\, United States
CATEGORIES:Blood Pressure Screening,Chesterfield,Every Friday
ORGANIZER;CN="GCRCLA":MAILTO:info@gcrcla.org, ywanderson@gcrcla.org
END:VEVENT
BEGIN:VEVENT
DTSTART;TZID=UTC:20251114T100000
DTEND;TZID=UTC:20251114T150000
DTSTAMP:20260423T215454
CREATED:20250809T044320Z
LAST-MODIFIED:20250809T044432Z
UID:10001578-1763114400-1763132400@gcrcla.org
SUMMARY:Every Friday\, Clothing/Houseware Distribution\, at The Chesterfield
DESCRIPTION:Every Friday\, Clothing/Houseware Distribution\, at The Chesterfield
URL:https://gcrcla.org/event/every-friday-clothing-houseware-distribution-at-the-chesterfield/2025-11-14/
LOCATION:The Chesterfield\, 4723 So. Normandie Ave.\, Los Angeles\, CA\, 90062\, United States
CATEGORIES:Chesterfield,Clothing Distribution,Every Friday,Houseware Distribution
ORGANIZER;CN="GCRCLA":MAILTO:info@gcrcla.org, ywanderson@gcrcla.org
END:VEVENT
BEGIN:VEVENT
DTSTART;TZID=UTC:20251114T100000
DTEND;TZID=UTC:20251114T140000
DTSTAMP:20260423T215454
CREATED:20250809T043316Z
LAST-MODIFIED:20250809T043350Z
UID:10001314-1763114400-1763128800@gcrcla.org
SUMMARY:Every Friday\, BLOOD PRESSURE SCREENS\, at The Chesterfield
DESCRIPTION:Every Friday\, BLOOD PRESSURE SCREENS\, at The Chesterfield
URL:https://gcrcla.org/event/every-friday-blood-pressure-screens-at-the-chesterfield/2025-11-14/
LOCATION:The Chesterfield\, 4723 So. Normandie Ave.\, Los Angeles\, CA\, 90062\, United States
CATEGORIES:Blood Pressure Screening,Chesterfield,Every Friday
ORGANIZER;CN="GCRCLA":MAILTO:info@gcrcla.org, ywanderson@gcrcla.org
END:VEVENT
BEGIN:VEVENT
DTSTART;TZID=UTC:20251107T100000
DTEND;TZID=UTC:20251107T150000
DTSTAMP:20260423T215454
CREATED:20250809T044320Z
LAST-MODIFIED:20250809T044432Z
UID:10001577-1762509600-1762527600@gcrcla.org
SUMMARY:Every Friday\, Clothing/Houseware Distribution\, at The Chesterfield
DESCRIPTION:Every Friday\, Clothing/Houseware Distribution\, at The Chesterfield
URL:https://gcrcla.org/event/every-friday-clothing-houseware-distribution-at-the-chesterfield/2025-11-07/
LOCATION:The Chesterfield\, 4723 So. Normandie Ave.\, Los Angeles\, CA\, 90062\, United States
CATEGORIES:Chesterfield,Clothing Distribution,Every Friday,Houseware Distribution
ORGANIZER;CN="GCRCLA":MAILTO:info@gcrcla.org, ywanderson@gcrcla.org
END:VEVENT
BEGIN:VEVENT
DTSTART;TZID=UTC:20251107T100000
DTEND;TZID=UTC:20251107T140000
DTSTAMP:20260423T215454
CREATED:20250809T043316Z
LAST-MODIFIED:20250809T043350Z
UID:10001313-1762509600-1762524000@gcrcla.org
SUMMARY:Every Friday\, BLOOD PRESSURE SCREENS\, at The Chesterfield
DESCRIPTION:Every Friday\, BLOOD PRESSURE SCREENS\, at The Chesterfield
URL:https://gcrcla.org/event/every-friday-blood-pressure-screens-at-the-chesterfield/2025-11-07/
LOCATION:The Chesterfield\, 4723 So. Normandie Ave.\, Los Angeles\, CA\, 90062\, United States
CATEGORIES:Blood Pressure Screening,Chesterfield,Every Friday
ORGANIZER;CN="GCRCLA":MAILTO:info@gcrcla.org, ywanderson@gcrcla.org
END:VEVENT
BEGIN:VEVENT
DTSTART;TZID=UTC:20251031T100000
DTEND;TZID=UTC:20251031T150000
DTSTAMP:20260423T215454
CREATED:20250809T044320Z
LAST-MODIFIED:20250809T044432Z
UID:10001576-1761904800-1761922800@gcrcla.org
SUMMARY:Every Friday\, Clothing/Houseware Distribution\, at The Chesterfield
DESCRIPTION:Every Friday\, Clothing/Houseware Distribution\, at The Chesterfield
URL:https://gcrcla.org/event/every-friday-clothing-houseware-distribution-at-the-chesterfield/2025-10-31/
LOCATION:The Chesterfield\, 4723 So. Normandie Ave.\, Los Angeles\, CA\, 90062\, United States
CATEGORIES:Chesterfield,Clothing Distribution,Every Friday,Houseware Distribution
ORGANIZER;CN="GCRCLA":MAILTO:info@gcrcla.org, ywanderson@gcrcla.org
END:VEVENT
BEGIN:VEVENT
DTSTART;TZID=UTC:20251031T100000
DTEND;TZID=UTC:20251031T140000
DTSTAMP:20260423T215454
CREATED:20250809T043316Z
LAST-MODIFIED:20250809T043350Z
UID:10001312-1761904800-1761919200@gcrcla.org
SUMMARY:Every Friday\, BLOOD PRESSURE SCREENS\, at The Chesterfield
DESCRIPTION:Every Friday\, BLOOD PRESSURE SCREENS\, at The Chesterfield
URL:https://gcrcla.org/event/every-friday-blood-pressure-screens-at-the-chesterfield/2025-10-31/
LOCATION:The Chesterfield\, 4723 So. Normandie Ave.\, Los Angeles\, CA\, 90062\, United States
CATEGORIES:Blood Pressure Screening,Chesterfield,Every Friday
ORGANIZER;CN="GCRCLA":MAILTO:info@gcrcla.org, ywanderson@gcrcla.org
END:VEVENT
BEGIN:VEVENT
DTSTART;TZID=UTC:20251024T100000
DTEND;TZID=UTC:20251024T150000
DTSTAMP:20260423T215454
CREATED:20250809T044320Z
LAST-MODIFIED:20250809T044432Z
UID:10001575-1761300000-1761318000@gcrcla.org
SUMMARY:Every Friday\, Clothing/Houseware Distribution\, at The Chesterfield
DESCRIPTION:Every Friday\, Clothing/Houseware Distribution\, at The Chesterfield
URL:https://gcrcla.org/event/every-friday-clothing-houseware-distribution-at-the-chesterfield/2025-10-24/
LOCATION:The Chesterfield\, 4723 So. Normandie Ave.\, Los Angeles\, CA\, 90062\, United States
CATEGORIES:Chesterfield,Clothing Distribution,Every Friday,Houseware Distribution
ORGANIZER;CN="GCRCLA":MAILTO:info@gcrcla.org, ywanderson@gcrcla.org
END:VEVENT
BEGIN:VEVENT
DTSTART;TZID=UTC:20251024T100000
DTEND;TZID=UTC:20251024T140000
DTSTAMP:20260423T215454
CREATED:20250809T043316Z
LAST-MODIFIED:20250809T043350Z
UID:10001311-1761300000-1761314400@gcrcla.org
SUMMARY:Every Friday\, BLOOD PRESSURE SCREENS\, at The Chesterfield
DESCRIPTION:Every Friday\, BLOOD PRESSURE SCREENS\, at The Chesterfield
URL:https://gcrcla.org/event/every-friday-blood-pressure-screens-at-the-chesterfield/2025-10-24/
LOCATION:The Chesterfield\, 4723 So. Normandie Ave.\, Los Angeles\, CA\, 90062\, United States
CATEGORIES:Blood Pressure Screening,Chesterfield,Every Friday
ORGANIZER;CN="GCRCLA":MAILTO:info@gcrcla.org, ywanderson@gcrcla.org
END:VEVENT
BEGIN:VEVENT
DTSTART;TZID=UTC:20251017T100000
DTEND;TZID=UTC:20251017T150000
DTSTAMP:20260423T215454
CREATED:20250809T044320Z
LAST-MODIFIED:20250809T044432Z
UID:10001574-1760695200-1760713200@gcrcla.org
SUMMARY:Every Friday\, Clothing/Houseware Distribution\, at The Chesterfield
DESCRIPTION:Every Friday\, Clothing/Houseware Distribution\, at The Chesterfield
URL:https://gcrcla.org/event/every-friday-clothing-houseware-distribution-at-the-chesterfield/2025-10-17/
LOCATION:The Chesterfield\, 4723 So. Normandie Ave.\, Los Angeles\, CA\, 90062\, United States
CATEGORIES:Chesterfield,Clothing Distribution,Every Friday,Houseware Distribution
ORGANIZER;CN="GCRCLA":MAILTO:info@gcrcla.org, ywanderson@gcrcla.org
END:VEVENT
BEGIN:VEVENT
DTSTART;TZID=UTC:20251017T100000
DTEND;TZID=UTC:20251017T140000
DTSTAMP:20260423T215454
CREATED:20250809T043316Z
LAST-MODIFIED:20250809T043350Z
UID:10001310-1760695200-1760709600@gcrcla.org
SUMMARY:Every Friday\, BLOOD PRESSURE SCREENS\, at The Chesterfield
DESCRIPTION:Every Friday\, BLOOD PRESSURE SCREENS\, at The Chesterfield
URL:https://gcrcla.org/event/every-friday-blood-pressure-screens-at-the-chesterfield/2025-10-17/
LOCATION:The Chesterfield\, 4723 So. Normandie Ave.\, Los Angeles\, CA\, 90062\, United States
CATEGORIES:Blood Pressure Screening,Chesterfield,Every Friday
ORGANIZER;CN="GCRCLA":MAILTO:info@gcrcla.org, ywanderson@gcrcla.org
END:VEVENT
END:VCALENDAR