BEGIN:VCALENDAR
VERSION:2.0
PRODID:-//GCRCLA - ECPv6.15.20//NONSGML v1.0//EN
CALSCALE:GREGORIAN
METHOD:PUBLISH
X-ORIGINAL-URL:https://gcrcla.org
X-WR-CALDESC:Events for GCRCLA
REFRESH-INTERVAL;VALUE=DURATION:PT1H
X-Robots-Tag:noindex
X-PUBLISHED-TTL:PT1H
BEGIN:VTIMEZONE
TZID:UTC
BEGIN:STANDARD
TZOFFSETFROM:+0000
TZOFFSETTO:+0000
TZNAME:UTC
DTSTART:20240101T000000
END:STANDARD
END:VTIMEZONE
BEGIN:VEVENT
DTSTART;TZID=UTC:20250919T100000
DTEND;TZID=UTC:20250919T150000
DTSTAMP:20260424T024410
CREATED:20250809T044320Z
LAST-MODIFIED:20250809T044432Z
UID:10001570-1758276000-1758294000@gcrcla.org
SUMMARY:Every Friday\, Clothing/Houseware Distribution\, at The Chesterfield
DESCRIPTION:Every Friday\, Clothing/Houseware Distribution\, at The Chesterfield
URL:https://gcrcla.org/event/every-friday-clothing-houseware-distribution-at-the-chesterfield/2025-09-19/
LOCATION:The Chesterfield\, 4723 So. Normandie Ave.\, Los Angeles\, CA\, 90062\, United States
CATEGORIES:Chesterfield,Clothing Distribution,Every Friday,Houseware Distribution
ORGANIZER;CN="GCRCLA":MAILTO:info@gcrcla.org, ywanderson@gcrcla.org
END:VEVENT
BEGIN:VEVENT
DTSTART;TZID=UTC:20250919T100000
DTEND;TZID=UTC:20250919T140000
DTSTAMP:20260424T024410
CREATED:20250809T043316Z
LAST-MODIFIED:20250809T043350Z
UID:10001306-1758276000-1758290400@gcrcla.org
SUMMARY:Every Friday\, BLOOD PRESSURE SCREENS\, at The Chesterfield
DESCRIPTION:Every Friday\, BLOOD PRESSURE SCREENS\, at The Chesterfield
URL:https://gcrcla.org/event/every-friday-blood-pressure-screens-at-the-chesterfield/2025-09-19/
LOCATION:The Chesterfield\, 4723 So. Normandie Ave.\, Los Angeles\, CA\, 90062\, United States
CATEGORIES:Blood Pressure Screening,Chesterfield,Every Friday
ORGANIZER;CN="GCRCLA":MAILTO:info@gcrcla.org, ywanderson@gcrcla.org
END:VEVENT
BEGIN:VEVENT
DTSTART;TZID=UTC:20250912T100000
DTEND;TZID=UTC:20250912T150000
DTSTAMP:20260424T024410
CREATED:20250809T044320Z
LAST-MODIFIED:20250809T044432Z
UID:10001569-1757671200-1757689200@gcrcla.org
SUMMARY:Every Friday\, Clothing/Houseware Distribution\, at The Chesterfield
DESCRIPTION:Every Friday\, Clothing/Houseware Distribution\, at The Chesterfield
URL:https://gcrcla.org/event/every-friday-clothing-houseware-distribution-at-the-chesterfield/2025-09-12/
LOCATION:The Chesterfield\, 4723 So. Normandie Ave.\, Los Angeles\, CA\, 90062\, United States
CATEGORIES:Chesterfield,Clothing Distribution,Every Friday,Houseware Distribution
ORGANIZER;CN="GCRCLA":MAILTO:info@gcrcla.org, ywanderson@gcrcla.org
END:VEVENT
BEGIN:VEVENT
DTSTART;TZID=UTC:20250912T100000
DTEND;TZID=UTC:20250912T140000
DTSTAMP:20260424T024410
CREATED:20250809T043316Z
LAST-MODIFIED:20250809T043350Z
UID:10001305-1757671200-1757685600@gcrcla.org
SUMMARY:Every Friday\, BLOOD PRESSURE SCREENS\, at The Chesterfield
DESCRIPTION:Every Friday\, BLOOD PRESSURE SCREENS\, at The Chesterfield
URL:https://gcrcla.org/event/every-friday-blood-pressure-screens-at-the-chesterfield/2025-09-12/
LOCATION:The Chesterfield\, 4723 So. Normandie Ave.\, Los Angeles\, CA\, 90062\, United States
CATEGORIES:Blood Pressure Screening,Chesterfield,Every Friday
ORGANIZER;CN="GCRCLA":MAILTO:info@gcrcla.org, ywanderson@gcrcla.org
END:VEVENT
BEGIN:VEVENT
DTSTART;TZID=UTC:20250905T100000
DTEND;TZID=UTC:20250905T150000
DTSTAMP:20260424T024410
CREATED:20250809T044320Z
LAST-MODIFIED:20250809T044432Z
UID:10001568-1757066400-1757084400@gcrcla.org
SUMMARY:Every Friday\, Clothing/Houseware Distribution\, at The Chesterfield
DESCRIPTION:Every Friday\, Clothing/Houseware Distribution\, at The Chesterfield
URL:https://gcrcla.org/event/every-friday-clothing-houseware-distribution-at-the-chesterfield/2025-09-05/
LOCATION:The Chesterfield\, 4723 So. Normandie Ave.\, Los Angeles\, CA\, 90062\, United States
CATEGORIES:Chesterfield,Clothing Distribution,Every Friday,Houseware Distribution
ORGANIZER;CN="GCRCLA":MAILTO:info@gcrcla.org, ywanderson@gcrcla.org
END:VEVENT
BEGIN:VEVENT
DTSTART;TZID=UTC:20250905T100000
DTEND;TZID=UTC:20250905T140000
DTSTAMP:20260424T024410
CREATED:20250809T043316Z
LAST-MODIFIED:20250809T043350Z
UID:10001304-1757066400-1757080800@gcrcla.org
SUMMARY:Every Friday\, BLOOD PRESSURE SCREENS\, at The Chesterfield
DESCRIPTION:Every Friday\, BLOOD PRESSURE SCREENS\, at The Chesterfield
URL:https://gcrcla.org/event/every-friday-blood-pressure-screens-at-the-chesterfield/2025-09-05/
LOCATION:The Chesterfield\, 4723 So. Normandie Ave.\, Los Angeles\, CA\, 90062\, United States
CATEGORIES:Blood Pressure Screening,Chesterfield,Every Friday
ORGANIZER;CN="GCRCLA":MAILTO:info@gcrcla.org, ywanderson@gcrcla.org
END:VEVENT
BEGIN:VEVENT
DTSTART;TZID=UTC:20250829T100000
DTEND;TZID=UTC:20250829T150000
DTSTAMP:20260424T024410
CREATED:20250809T044320Z
LAST-MODIFIED:20250809T044432Z
UID:10001567-1756461600-1756479600@gcrcla.org
SUMMARY:Every Friday\, Clothing/Houseware Distribution\, at The Chesterfield
DESCRIPTION:Every Friday\, Clothing/Houseware Distribution\, at The Chesterfield
URL:https://gcrcla.org/event/every-friday-clothing-houseware-distribution-at-the-chesterfield/2025-08-29/
LOCATION:The Chesterfield\, 4723 So. Normandie Ave.\, Los Angeles\, CA\, 90062\, United States
CATEGORIES:Chesterfield,Clothing Distribution,Every Friday,Houseware Distribution
ORGANIZER;CN="GCRCLA":MAILTO:info@gcrcla.org, ywanderson@gcrcla.org
END:VEVENT
BEGIN:VEVENT
DTSTART;TZID=UTC:20250829T100000
DTEND;TZID=UTC:20250829T150000
DTSTAMP:20260424T024410
CREATED:20250801T132226Z
LAST-MODIFIED:20250801T132416Z
UID:10000244-1756461600-1756479600@gcrcla.org
SUMMARY:Fourth Friday\, MOVIE DAY
DESCRIPTION:Fourth Friday\, MOVIE DAY
URL:https://gcrcla.org/event/fourth-friday-movie-day/
LOCATION:The Chesterfield\, 4723 So. Normandie Ave.\, Los Angeles\, CA\, 90062\, United States
CATEGORIES:Fourth Friday,MOVIE DAY
ORGANIZER;CN="GCRCLA":MAILTO:info@gcrcla.org, ywanderson@gcrcla.org
END:VEVENT
BEGIN:VEVENT
DTSTART;TZID=UTC:20250829T100000
DTEND;TZID=UTC:20250829T140000
DTSTAMP:20260424T024410
CREATED:20250809T043316Z
LAST-MODIFIED:20250809T043350Z
UID:10001303-1756461600-1756476000@gcrcla.org
SUMMARY:Every Friday\, BLOOD PRESSURE SCREENS\, at The Chesterfield
DESCRIPTION:Every Friday\, BLOOD PRESSURE SCREENS\, at The Chesterfield
URL:https://gcrcla.org/event/every-friday-blood-pressure-screens-at-the-chesterfield/2025-08-29/
LOCATION:The Chesterfield\, 4723 So. Normandie Ave.\, Los Angeles\, CA\, 90062\, United States
CATEGORIES:Blood Pressure Screening,Chesterfield,Every Friday
ORGANIZER;CN="GCRCLA":MAILTO:info@gcrcla.org, ywanderson@gcrcla.org
END:VEVENT
BEGIN:VEVENT
DTSTART;TZID=UTC:20250828T100000
DTEND;TZID=UTC:20250828T150000
DTSTAMP:20260424T024410
CREATED:20250809T042537Z
LAST-MODIFIED:20250809T042932Z
UID:10001298-1756375200-1756393200@gcrcla.org
SUMMARY:Fourth Thursday\, PRODUCE\, MEAT\, BEVERAGE\, DRY GOOD BOX DISTRIBUTION
DESCRIPTION:Fourth Thursday\, PRODUCE\, MEAT\, BEVERAGE\, DRY GOOD BOX DISTRIBUTION\, The Chesterfield
URL:https://gcrcla.org/event/fourth-thursday-produce-meat-beverage-dry-good-box-distribution/
LOCATION:The Chesterfield\, 4723 So. Normandie Ave.\, Los Angeles\, CA\, 90062\, United States
CATEGORIES:BEVERAGE,Chesterfield,DRY GOOD BOX DISTRIBUTION,Fourth Thursday,MEAT,PRODUCE
ORGANIZER;CN="GCRCLA":MAILTO:info@gcrcla.org, ywanderson@gcrcla.org
END:VEVENT
BEGIN:VEVENT
DTSTART;TZID=UTC:20250822T100000
DTEND;TZID=UTC:20250822T150000
DTSTAMP:20260424T024410
CREATED:20250809T044320Z
LAST-MODIFIED:20250809T044432Z
UID:10001566-1755856800-1755874800@gcrcla.org
SUMMARY:Every Friday\, Clothing/Houseware Distribution\, at The Chesterfield
DESCRIPTION:Every Friday\, Clothing/Houseware Distribution\, at The Chesterfield
URL:https://gcrcla.org/event/every-friday-clothing-houseware-distribution-at-the-chesterfield/2025-08-22/
LOCATION:The Chesterfield\, 4723 So. Normandie Ave.\, Los Angeles\, CA\, 90062\, United States
CATEGORIES:Chesterfield,Clothing Distribution,Every Friday,Houseware Distribution
ORGANIZER;CN="GCRCLA":MAILTO:info@gcrcla.org, ywanderson@gcrcla.org
END:VEVENT
BEGIN:VEVENT
DTSTART;TZID=UTC:20250822T100000
DTEND;TZID=UTC:20250822T140000
DTSTAMP:20260424T024410
CREATED:20250809T043316Z
LAST-MODIFIED:20250809T043350Z
UID:10001302-1755856800-1755871200@gcrcla.org
SUMMARY:Every Friday\, BLOOD PRESSURE SCREENS\, at The Chesterfield
DESCRIPTION:Every Friday\, BLOOD PRESSURE SCREENS\, at The Chesterfield
URL:https://gcrcla.org/event/every-friday-blood-pressure-screens-at-the-chesterfield/2025-08-22/
LOCATION:The Chesterfield\, 4723 So. Normandie Ave.\, Los Angeles\, CA\, 90062\, United States
CATEGORIES:Blood Pressure Screening,Chesterfield,Every Friday
ORGANIZER;CN="GCRCLA":MAILTO:info@gcrcla.org, ywanderson@gcrcla.org
END:VEVENT
BEGIN:VEVENT
DTSTART;TZID=UTC:20250821T100000
DTEND;TZID=UTC:20250821T150000
DTSTAMP:20260424T024410
CREATED:20250801T124036Z
LAST-MODIFIED:20250801T124153Z
UID:10000239-1755770400-1755788400@gcrcla.org
SUMMARY:Third Thursday\, PRODUCE\, MEAT\, BEVERAGE\, DRY GOOD\, BOX DISTRIBUTION
DESCRIPTION:Third Thursday\, PRODUCE\, MEAT\, BEVERAGE\, DRY GOOD\, BOX DISTRIBUTION
URL:https://gcrcla.org/event/third-thursday-produce-meat-beverage-dry-good-box-distribution-3/
LOCATION:The Chesterfield\, 4723 So. Normandie Ave.\, Los Angeles\, CA\, 90062\, United States
CATEGORIES:BEVERAGE,Chesterfield,DRY GOOD BOX DISTRIBUTION,MEAT,PRODUCE,Third Thursday
ORGANIZER;CN="GCRCLA":MAILTO:info@gcrcla.org, ywanderson@gcrcla.org
END:VEVENT
BEGIN:VEVENT
DTSTART;TZID=UTC:20250815T100000
DTEND;TZID=UTC:20250815T150000
DTSTAMP:20260424T024410
CREATED:20250809T044320Z
LAST-MODIFIED:20250809T044432Z
UID:10001565-1755252000-1755270000@gcrcla.org
SUMMARY:Every Friday\, Clothing/Houseware Distribution\, at The Chesterfield
DESCRIPTION:Every Friday\, Clothing/Houseware Distribution\, at The Chesterfield
URL:https://gcrcla.org/event/every-friday-clothing-houseware-distribution-at-the-chesterfield/2025-08-15/
LOCATION:The Chesterfield\, 4723 So. Normandie Ave.\, Los Angeles\, CA\, 90062\, United States
CATEGORIES:Chesterfield,Clothing Distribution,Every Friday,Houseware Distribution
ORGANIZER;CN="GCRCLA":MAILTO:info@gcrcla.org, ywanderson@gcrcla.org
END:VEVENT
BEGIN:VEVENT
DTSTART;TZID=UTC:20250815T100000
DTEND;TZID=UTC:20250815T140000
DTSTAMP:20260424T024410
CREATED:20250809T043316Z
LAST-MODIFIED:20250809T043350Z
UID:10001301-1755252000-1755266400@gcrcla.org
SUMMARY:Every Friday\, BLOOD PRESSURE SCREENS\, at The Chesterfield
DESCRIPTION:Every Friday\, BLOOD PRESSURE SCREENS\, at The Chesterfield
URL:https://gcrcla.org/event/every-friday-blood-pressure-screens-at-the-chesterfield/2025-08-15/
LOCATION:The Chesterfield\, 4723 So. Normandie Ave.\, Los Angeles\, CA\, 90062\, United States
CATEGORIES:Blood Pressure Screening,Chesterfield,Every Friday
ORGANIZER;CN="GCRCLA":MAILTO:info@gcrcla.org, ywanderson@gcrcla.org
END:VEVENT
BEGIN:VEVENT
DTSTART;TZID=UTC:20250808T100000
DTEND;TZID=UTC:20250808T150000
DTSTAMP:20260424T024410
CREATED:20250809T044320Z
LAST-MODIFIED:20250809T044432Z
UID:10001564-1754647200-1754665200@gcrcla.org
SUMMARY:Every Friday\, Clothing/Houseware Distribution\, at The Chesterfield
DESCRIPTION:Every Friday\, Clothing/Houseware Distribution\, at The Chesterfield
URL:https://gcrcla.org/event/every-friday-clothing-houseware-distribution-at-the-chesterfield/2025-08-08/
LOCATION:The Chesterfield\, 4723 So. Normandie Ave.\, Los Angeles\, CA\, 90062\, United States
CATEGORIES:Chesterfield,Clothing Distribution,Every Friday,Houseware Distribution
ORGANIZER;CN="GCRCLA":MAILTO:info@gcrcla.org, ywanderson@gcrcla.org
END:VEVENT
BEGIN:VEVENT
DTSTART;TZID=UTC:20250808T100000
DTEND;TZID=UTC:20250808T150000
DTSTAMP:20260424T024410
CREATED:20250801T130013Z
LAST-MODIFIED:20250801T130214Z
UID:10000241-1754647200-1754665200@gcrcla.org
SUMMARY:Second Friday\, EXERCISE CLASS
DESCRIPTION:Second Friday\, EXERCISE CLASS
URL:https://gcrcla.org/event/second-friday-exercise-class-3/
LOCATION:The Chesterfield\, 4723 So. Normandie Ave.\, Los Angeles\, CA\, 90062\, United States
CATEGORIES:Chesterfield,EXERCISE CLASS,Second Friday
ORGANIZER;CN="GCRCLA":MAILTO:info@gcrcla.org, ywanderson@gcrcla.org
END:VEVENT
BEGIN:VEVENT
DTSTART;TZID=UTC:20250808T100000
DTEND;TZID=UTC:20250808T140000
DTSTAMP:20260424T024410
CREATED:20250809T043316Z
LAST-MODIFIED:20250809T043350Z
UID:10001300-1754647200-1754661600@gcrcla.org
SUMMARY:Every Friday\, BLOOD PRESSURE SCREENS\, at The Chesterfield
DESCRIPTION:Every Friday\, BLOOD PRESSURE SCREENS\, at The Chesterfield
URL:https://gcrcla.org/event/every-friday-blood-pressure-screens-at-the-chesterfield/2025-08-08/
LOCATION:The Chesterfield\, 4723 So. Normandie Ave.\, Los Angeles\, CA\, 90062\, United States
CATEGORIES:Blood Pressure Screening,Chesterfield,Every Friday
ORGANIZER;CN="GCRCLA":MAILTO:info@gcrcla.org, ywanderson@gcrcla.org
END:VEVENT
BEGIN:VEVENT
DTSTART;TZID=UTC:20250808T100000
DTEND;TZID=UTC:20250808T130000
DTSTAMP:20260424T024410
CREATED:20250801T124930Z
LAST-MODIFIED:20250801T125801Z
UID:10000240-1754647200-1754658000@gcrcla.org
SUMMARY:Second\, Third\, & Fourth Friday\, PRODUCE GIVE AWAY\, BLOOD PRESSURE SCREENS
DESCRIPTION:Second\, Third\, & Fourth Friday\, PRODUCE GIVE AWAY\, BLOOD PRESSURE SCREENS
URL:https://gcrcla.org/event/second-third-fourth-friday-produce-give-away-blood-pressure-screens-2/
LOCATION:The Chesterfield\, 4723 So. Normandie Ave.\, Los Angeles\, CA\, 90062\, United States
CATEGORIES:Blood Pressure Screening,Fourth Friday,PRODUCE GIVE AWAY,Second Friday,Third Friday
ORGANIZER;CN="GCRCLA":MAILTO:info@gcrcla.org, ywanderson@gcrcla.org
END:VEVENT
BEGIN:VEVENT
DTSTART;TZID=UTC:20250801T100000
DTEND;TZID=UTC:20250801T150000
DTSTAMP:20260424T024410
CREATED:20250809T044320Z
LAST-MODIFIED:20250809T044432Z
UID:10001563-1754042400-1754060400@gcrcla.org
SUMMARY:Every Friday\, Clothing/Houseware Distribution\, at The Chesterfield
DESCRIPTION:Every Friday\, Clothing/Houseware Distribution\, at The Chesterfield
URL:https://gcrcla.org/event/every-friday-clothing-houseware-distribution-at-the-chesterfield/2025-08-01/
LOCATION:The Chesterfield\, 4723 So. Normandie Ave.\, Los Angeles\, CA\, 90062\, United States
CATEGORIES:Chesterfield,Clothing Distribution,Every Friday,Houseware Distribution
ORGANIZER;CN="GCRCLA":MAILTO:info@gcrcla.org, ywanderson@gcrcla.org
END:VEVENT
BEGIN:VEVENT
DTSTART;TZID=UTC:20250801T100000
DTEND;TZID=UTC:20250801T150000
DTSTAMP:20260424T024410
CREATED:20250809T042201Z
LAST-MODIFIED:20250809T042322Z
UID:10001297-1754042400-1754060400@gcrcla.org
SUMMARY:Friday\, Produce GiveAway\, at The Chesterfield
DESCRIPTION:Friday\, Produce GiveAway\, The Chesterfield
URL:https://gcrcla.org/event/friday-produce-giveaway-at-the-chesterfield/
LOCATION:The Chesterfield\, 4723 So. Normandie Ave.\, Los Angeles\, CA\, 90062\, United States
CATEGORIES:Chesterfield,First Friday,PRODUCE GIVE AWAY
ORGANIZER;CN="GCRCLA":MAILTO:info@gcrcla.org, ywanderson@gcrcla.org
END:VEVENT
BEGIN:VEVENT
DTSTART;TZID=UTC:20250801T100000
DTEND;TZID=UTC:20250801T140000
DTSTAMP:20260424T024410
CREATED:20250809T043316Z
LAST-MODIFIED:20250809T043350Z
UID:10001299-1754042400-1754056800@gcrcla.org
SUMMARY:Every Friday\, BLOOD PRESSURE SCREENS\, at The Chesterfield
DESCRIPTION:Every Friday\, BLOOD PRESSURE SCREENS\, at The Chesterfield
URL:https://gcrcla.org/event/every-friday-blood-pressure-screens-at-the-chesterfield/2025-08-01/
LOCATION:The Chesterfield\, 4723 So. Normandie Ave.\, Los Angeles\, CA\, 90062\, United States
CATEGORIES:Blood Pressure Screening,Chesterfield,Every Friday
ORGANIZER;CN="GCRCLA":MAILTO:info@gcrcla.org, ywanderson@gcrcla.org
END:VEVENT
BEGIN:VEVENT
DTSTART;TZID=UTC:20250723T100000
DTEND;TZID=UTC:20250723T150000
DTSTAMP:20260424T024410
CREATED:20250704T142452Z
LAST-MODIFIED:20250704T150441Z
UID:10000220-1753264800-1753282800@gcrcla.org
SUMMARY:Fourth Wednesday\, MOVIE DAY
DESCRIPTION:Fourth Wednesday\, MOVIE DAY
URL:https://gcrcla.org/event/fourth-wednesday-movie-day/
LOCATION:The Chesterfield\, 4723 So. Normandie Ave.\, Los Angeles\, CA\, 90062\, United States
CATEGORIES:Fourth Wednesday,MOVIE DAY
ORGANIZER;CN="GCRCLA":MAILTO:info@gcrcla.org, ywanderson@gcrcla.org
END:VEVENT
BEGIN:VEVENT
DTSTART;TZID=UTC:20250711T100000
DTEND;TZID=UTC:20250711T150000
DTSTAMP:20260424T024410
CREATED:20250702T162935Z
LAST-MODIFIED:20250702T163055Z
UID:10000207-1752228000-1752246000@gcrcla.org
SUMMARY:Second Friday EXERCISE CLASS
DESCRIPTION:Second Friday\, EXERCISE CLASS
URL:https://gcrcla.org/event/second-friday-exercise-class-2/
LOCATION:The Chesterfield\, 4723 So. Normandie Ave.\, Los Angeles\, CA\, 90062\, United States
CATEGORIES:Chesterfield,EXERCISE CLASS,Second Friday
ORGANIZER;CN="GCRCLA":MAILTO:info@gcrcla.org, ywanderson@gcrcla.org
END:VEVENT
BEGIN:VEVENT
DTSTART;TZID=UTC:20250711T100000
DTEND;TZID=UTC:20250711T130000
DTSTAMP:20260424T024410
CREATED:20250702T161838Z
LAST-MODIFIED:20250704T142245Z
UID:10000205-1752228000-1752238800@gcrcla.org
SUMMARY:Second\, Third & Fourth Friday\, PRODUCE GIVE AWAY\, BLOOD PRESSURE SCREENS
DESCRIPTION:Second\, Third & Fourth Friday\, PRODUCE GIVE AWAY\, BLOOD PRESSURE SCREENS\, CLOTHING & HOUSEWARE DISTRIBUTION
URL:https://gcrcla.org/event/second-third-fourth-friday-produce-give-away-blood-pressure-screens/
LOCATION:The Chesterfield\, 4723 So. Normandie Ave.\, Los Angeles\, CA\, 90062\, United States
CATEGORIES:Chesterfield,Fourth Friday,PRODUCE GIVE AWAY,Second Friday,Third Friday
END:VEVENT
BEGIN:VEVENT
DTSTART;TZID=UTC:20250711T100000
DTEND;TZID=UTC:20250711T120000
DTSTAMP:20260424T024410
CREATED:20250704T125046Z
LAST-MODIFIED:20250704T141003Z
UID:10000211-1752228000-1752235200@gcrcla.org
SUMMARY:Friday's Produce GiveAway
DESCRIPTION:Friday’s Produce GiveAway
URL:https://gcrcla.org/event/fridays-produce-giveaway/
LOCATION:The Chesterfield\, 4723 So. Normandie Ave.\, Los Angeles\, CA\, 90062\, United States
CATEGORIES:Chesterfield,PRODUCE GIVE AWAY,Second Friday
ORGANIZER;CN="GCRCLA":MAILTO:info@gcrcla.org, ywanderson@gcrcla.org
END:VEVENT
BEGIN:VEVENT
DTSTART;TZID=UTC:20250709T100000
DTEND;TZID=UTC:20250709T140000
DTSTAMP:20260424T024410
CREATED:20250702T160714Z
LAST-MODIFIED:20250702T161939Z
UID:10000203-1752055200-1752069600@gcrcla.org
SUMMARY:Second Wednesday | WAFFLE WEDNESDAY
DESCRIPTION:Second Wednesday | WAFFLE WEDNESDAY
URL:https://gcrcla.org/event/second-wednesday-waffle-wednesday-2/
LOCATION:The Chesterfield\, 4723 So. Normandie Ave.\, Los Angeles\, CA\, 90062\, United States
CATEGORIES:Chesterfield,Second Wednesday,WAFFLE WEDNESDAY
ORGANIZER;CN="GCRCLA":MAILTO:info@gcrcla.org, ywanderson@gcrcla.org
END:VEVENT
BEGIN:VEVENT
DTSTART;TZID=UTC:20250703T100000
DTEND;TZID=UTC:20250703T150000
DTSTAMP:20260424T024410
CREATED:20250702T161250Z
LAST-MODIFIED:20250702T161301Z
UID:10000204-1751536800-1751554800@gcrcla.org
SUMMARY:First Thursday\, PRODUCE\, MEAT\, BEVERAGE
DESCRIPTION:First Thursday\, PRODUCE\, MEAT\, BEVERAGE\, DRY GOOD\, BOX DISTRIBUTION
URL:https://gcrcla.org/event/first-thursday-produce-meat-beverage/
LOCATION:The Chesterfield\, 4723 So. Normandie Ave.\, Los Angeles\, CA\, 90062\, United States
CATEGORIES:Chesterfield,First Thursday,PRODUCE,PRODUCE GIVE AWAY
ORGANIZER;CN="GCRCLA":MAILTO:info@gcrcla.org, ywanderson@gcrcla.org
END:VEVENT
BEGIN:VEVENT
DTSTART;TZID=UTC:20250626T100000
DTEND;TZID=UTC:20250626T150000
DTSTAMP:20260424T024410
CREATED:20250602T153343Z
LAST-MODIFIED:20250602T153343Z
UID:10000189-1750932000-1750950000@gcrcla.org
SUMMARY:Every Thursday\, BLOOD PRESSURE SCREENING\, Clothing Distribution
DESCRIPTION:Every Thursday\, BLOOD PRESSURE SCREENING\, Clothing Distribution
URL:https://gcrcla.org/event/every-thursday-blood-pressure-screening-clothing-distribution-3/
LOCATION:The Chesterfield\, 4723 So. Normandie Ave.\, Los Angeles\, CA\, 90062\, United States
CATEGORIES:Blood Pressure Screening,Chesterfield,Clothing Distribution,Every Thursday
ORGANIZER;CN="GCRCLA":MAILTO:info@gcrcla.org, ywanderson@gcrcla.org
END:VEVENT
BEGIN:VEVENT
DTSTART;TZID=UTC:20250624T110000
DTEND;TZID=UTC:20250624T150000
DTSTAMP:20260424T024410
CREATED:20250602T140551Z
LAST-MODIFIED:20250602T141454Z
UID:10000170-1750762800-1750777200@gcrcla.org
SUMMARY:Fourth Tuesday (NEW) FOOD BAG DISTRIBUTION – NEW PARTNER
DESCRIPTION:Fourth Tuesday FOOD BAG DISTRIBUTION – NEW PARTNER
URL:https://gcrcla.org/event/fourth-tuesday-new-food-bag-distribution/
LOCATION:The Chesterfield\, 4723 So. Normandie Ave.\, Los Angeles\, CA\, 90062\, United States
CATEGORIES:(NEW) FOOD BAG DISTRIBUTION - NEW PARTNER,Fourth Tuesday
ORGANIZER;CN="GCRCLA":MAILTO:info@gcrcla.org, ywanderson@gcrcla.org
END:VEVENT
END:VCALENDAR