BEGIN:VCALENDAR
VERSION:2.0
PRODID:-//GCRCLA - ECPv6.15.20//NONSGML v1.0//EN
CALSCALE:GREGORIAN
METHOD:PUBLISH
X-WR-CALNAME:GCRCLA
X-ORIGINAL-URL:https://gcrcla.org
X-WR-CALDESC:Events for GCRCLA
REFRESH-INTERVAL;VALUE=DURATION:PT1H
X-Robots-Tag:noindex
X-PUBLISHED-TTL:PT1H
BEGIN:VTIMEZONE
TZID:UTC
BEGIN:STANDARD
TZOFFSETFROM:+0000
TZOFFSETTO:+0000
TZNAME:UTC
DTSTART:20240101T000000
END:STANDARD
END:VTIMEZONE
BEGIN:VEVENT
DTSTART;TZID=UTC:20250711T100000
DTEND;TZID=UTC:20250711T130000
DTSTAMP:20260424T051930
CREATED:20250702T161838Z
LAST-MODIFIED:20250704T142245Z
UID:10000205-1752228000-1752238800@gcrcla.org
SUMMARY:Second\, Third & Fourth Friday\, PRODUCE GIVE AWAY\, BLOOD PRESSURE SCREENS
DESCRIPTION:Second\, Third & Fourth Friday\, PRODUCE GIVE AWAY\, BLOOD PRESSURE SCREENS\, CLOTHING & HOUSEWARE DISTRIBUTION
URL:https://gcrcla.org/event/second-third-fourth-friday-produce-give-away-blood-pressure-screens/
LOCATION:The Chesterfield\, 4723 So. Normandie Ave.\, Los Angeles\, CA\, 90062\, United States
CATEGORIES:Chesterfield,Fourth Friday,PRODUCE GIVE AWAY,Second Friday,Third Friday
END:VEVENT
BEGIN:VEVENT
DTSTART;TZID=UTC:20250711T100000
DTEND;TZID=UTC:20250711T120000
DTSTAMP:20260424T051930
CREATED:20250704T125046Z
LAST-MODIFIED:20250704T141003Z
UID:10000211-1752228000-1752235200@gcrcla.org
SUMMARY:Friday's Produce GiveAway
DESCRIPTION:Friday’s Produce GiveAway
URL:https://gcrcla.org/event/fridays-produce-giveaway/
LOCATION:The Chesterfield\, 4723 So. Normandie Ave.\, Los Angeles\, CA\, 90062\, United States
CATEGORIES:Chesterfield,PRODUCE GIVE AWAY,Second Friday
ORGANIZER;CN="GCRCLA":MAILTO:info@gcrcla.org, ywanderson@gcrcla.org
END:VEVENT
BEGIN:VEVENT
DTSTART;TZID=UTC:20250709T100000
DTEND;TZID=UTC:20250709T140000
DTSTAMP:20260424T051930
CREATED:20250702T160714Z
LAST-MODIFIED:20250702T161939Z
UID:10000203-1752055200-1752069600@gcrcla.org
SUMMARY:Second Wednesday | WAFFLE WEDNESDAY
DESCRIPTION:Second Wednesday | WAFFLE WEDNESDAY
URL:https://gcrcla.org/event/second-wednesday-waffle-wednesday-2/
LOCATION:The Chesterfield\, 4723 So. Normandie Ave.\, Los Angeles\, CA\, 90062\, United States
CATEGORIES:Chesterfield,Second Wednesday,WAFFLE WEDNESDAY
ORGANIZER;CN="GCRCLA":MAILTO:info@gcrcla.org, ywanderson@gcrcla.org
END:VEVENT
BEGIN:VEVENT
DTSTART;TZID=UTC:20250703T100000
DTEND;TZID=UTC:20250703T150000
DTSTAMP:20260424T051930
CREATED:20250702T161250Z
LAST-MODIFIED:20250702T161301Z
UID:10000204-1751536800-1751554800@gcrcla.org
SUMMARY:First Thursday\, PRODUCE\, MEAT\, BEVERAGE
DESCRIPTION:First Thursday\, PRODUCE\, MEAT\, BEVERAGE\, DRY GOOD\, BOX DISTRIBUTION
URL:https://gcrcla.org/event/first-thursday-produce-meat-beverage/
LOCATION:The Chesterfield\, 4723 So. Normandie Ave.\, Los Angeles\, CA\, 90062\, United States
CATEGORIES:Chesterfield,First Thursday,PRODUCE,PRODUCE GIVE AWAY
ORGANIZER;CN="GCRCLA":MAILTO:info@gcrcla.org, ywanderson@gcrcla.org
END:VEVENT
BEGIN:VEVENT
DTSTART;TZID=UTC:20250626T100000
DTEND;TZID=UTC:20250626T150000
DTSTAMP:20260424T051930
CREATED:20250602T153343Z
LAST-MODIFIED:20250602T153343Z
UID:10000189-1750932000-1750950000@gcrcla.org
SUMMARY:Every Thursday\, BLOOD PRESSURE SCREENING\, Clothing Distribution
DESCRIPTION:Every Thursday\, BLOOD PRESSURE SCREENING\, Clothing Distribution
URL:https://gcrcla.org/event/every-thursday-blood-pressure-screening-clothing-distribution-3/
LOCATION:The Chesterfield\, 4723 So. Normandie Ave.\, Los Angeles\, CA\, 90062\, United States
CATEGORIES:Blood Pressure Screening,Chesterfield,Clothing Distribution,Every Thursday
ORGANIZER;CN="GCRCLA":MAILTO:info@gcrcla.org, ywanderson@gcrcla.org
END:VEVENT
BEGIN:VEVENT
DTSTART;TZID=UTC:20250624T110000
DTEND;TZID=UTC:20250624T150000
DTSTAMP:20260424T051930
CREATED:20250602T140551Z
LAST-MODIFIED:20250602T141454Z
UID:10000170-1750762800-1750777200@gcrcla.org
SUMMARY:Fourth Tuesday (NEW) FOOD BAG DISTRIBUTION – NEW PARTNER
DESCRIPTION:Fourth Tuesday FOOD BAG DISTRIBUTION – NEW PARTNER
URL:https://gcrcla.org/event/fourth-tuesday-new-food-bag-distribution/
LOCATION:The Chesterfield\, 4723 So. Normandie Ave.\, Los Angeles\, CA\, 90062\, United States
CATEGORIES:(NEW) FOOD BAG DISTRIBUTION - NEW PARTNER,Fourth Tuesday
ORGANIZER;CN="GCRCLA":MAILTO:info@gcrcla.org, ywanderson@gcrcla.org
END:VEVENT
BEGIN:VEVENT
DTSTART;TZID=UTC:20250620T100000
DTEND;TZID=UTC:20250620T150000
DTSTAMP:20260424T051930
CREATED:20250602T161012Z
LAST-MODIFIED:20250602T161012Z
UID:10000199-1750413600-1750431600@gcrcla.org
SUMMARY:Third Friday\, BINGO WITH PRIZES\, Raffles For Blood Pressure Participation
DESCRIPTION:Third Friday\, BINGO WITH PRIZES\, Raffles For Blood Pressure Participation
URL:https://gcrcla.org/event/third-friday-bingo-with-prizes-raffles-for-blood-pressure-participation-2/
LOCATION:The Chesterfield\, 4723 So. Normandie Ave.\, Los Angeles\, CA\, 90062\, United States
CATEGORIES:BINGO WITH PRIZES,Chesterfield,RAFFLES FOR BLOOD PRESSURE PARTICIPATION,Third Friday
ORGANIZER;CN="GCRCLA":MAILTO:info@gcrcla.org, ywanderson@gcrcla.org
END:VEVENT
BEGIN:VEVENT
DTSTART;TZID=UTC:20250620T100000
DTEND;TZID=UTC:20250620T150000
DTSTAMP:20260424T051930
CREATED:20250602T160731Z
LAST-MODIFIED:20250602T160731Z
UID:10000198-1750413600-1750431600@gcrcla.org
SUMMARY:Every Friday\, BLOOD PRESSURE SCREENING\, Clothing Distribution
DESCRIPTION:Every Friday\, BLOOD PRESSURE SCREENING\, Clothing Distribution
URL:https://gcrcla.org/event/every-friday-blood-pressure-screening-clothing-distribution-4/
LOCATION:The Chesterfield\, 4723 So. Normandie Ave.\, Los Angeles\, CA\, 90062\, United States
CATEGORIES:Blood Pressure Screening,Chesterfield,Clothing Distribution,Every Friday
ORGANIZER;CN="GCRCLA":MAILTO:info@gcrcla.org, ywanderson@gcrcla.org
END:VEVENT
BEGIN:VEVENT
DTSTART;TZID=UTC:20250620T100000
DTEND;TZID=UTC:20250620T150000
DTSTAMP:20260424T051930
CREATED:20250602T155917Z
LAST-MODIFIED:20250602T155917Z
UID:10000196-1750413600-1750431600@gcrcla.org
SUMMARY:Third Friday\, BINGO WITH PRIZES\, Raffles For Blood Pressure Participation
DESCRIPTION:Third Friday\, BINGO WITH PRIZES\, Raffles For Blood Pressure Participation
URL:https://gcrcla.org/event/third-friday-bingo-with-prizes-raffles-for-blood-pressure-participation/
LOCATION:The Chesterfield\, 4723 So. Normandie Ave.\, Los Angeles\, CA\, 90062\, United States
CATEGORIES:BINGO WITH PRIZES,Chesterfield,RAFFLES FOR BLOOD PRESSURE PARTICIPATION,Third Friday
ORGANIZER;CN="GCRCLA":MAILTO:info@gcrcla.org, ywanderson@gcrcla.org
END:VEVENT
BEGIN:VEVENT
DTSTART;TZID=UTC:20250620T080000
DTEND;TZID=UTC:20250620T170000
DTSTAMP:20260424T051930
CREATED:20250602T155703Z
LAST-MODIFIED:20250602T155703Z
UID:10000195-1750406400-1750438800@gcrcla.org
SUMMARY:Every Friday\, BLOOD PRESSURE SCREENING\, Clothing Distribution
DESCRIPTION:Every Friday\, BLOOD PRESSURE SCREENING\, Clothing Distribution
URL:https://gcrcla.org/event/every-friday-blood-pressure-screening-clothing-distribution-3/
LOCATION:The Chesterfield\, 4723 So. Normandie Ave.\, Los Angeles\, CA\, 90062\, United States
CATEGORIES:Blood Pressure Screening,Chesterfield,Clothing Distribution,Every Friday
END:VEVENT
BEGIN:VEVENT
DTSTART;TZID=UTC:20250619T100000
DTEND;TZID=UTC:20250619T150000
DTSTAMP:20260424T051930
CREATED:20250602T152932Z
LAST-MODIFIED:20250602T152932Z
UID:10000188-1750327200-1750345200@gcrcla.org
SUMMARY:Every Thursday\, BLOOD PRESSURE SCREENING\, Clothing Distribution
DESCRIPTION:Every Thursday\, BLOOD PRESSURE SCREENING\, Clothing Distribution
URL:https://gcrcla.org/event/every-thursday-blood-pressure-screening-clothing-distribution-2/
LOCATION:The Chesterfield\, 4723 So. Normandie Ave.\, Los Angeles\, CA\, 90062\, United States
CATEGORIES:Blood Pressure Screening,Chesterfield,Clothing Distribution,Every Thursday
ORGANIZER;CN="GCRCLA":MAILTO:info@gcrcla.org, ywanderson@gcrcla.org
END:VEVENT
BEGIN:VEVENT
DTSTART;TZID=UTC:20250613T100000
DTEND;TZID=UTC:20250613T150000
DTSTAMP:20260424T051930
CREATED:20250602T155222Z
LAST-MODIFIED:20250602T155237Z
UID:10000194-1749808800-1749826800@gcrcla.org
SUMMARY:Secnd Friday\, LA REGIONAL FOOD BANK\, BOX DISTRIBUTION
DESCRIPTION:Secnd Friday\, LA REGIONAL FOOD BANK\, BOX DISTRIBUTION
URL:https://gcrcla.org/event/secnd-friday-la-regional-food-bank-box-distribution/
LOCATION:The Chesterfield\, 4723 So. Normandie Ave.\, Los Angeles\, CA\, 90062\, United States
CATEGORIES:Chesterfield,LA REGIONAL FOOD BANK BOX DISTRIBUTION,Second Friday
ORGANIZER;CN="GCRCLA":MAILTO:info@gcrcla.org, ywanderson@gcrcla.org
END:VEVENT
BEGIN:VEVENT
DTSTART;TZID=UTC:20250613T100000
DTEND;TZID=UTC:20250613T150000
DTSTAMP:20260424T051930
CREATED:20250602T154812Z
LAST-MODIFIED:20250602T154812Z
UID:10000193-1749808800-1749826800@gcrcla.org
SUMMARY:Every Friday\, BLOOD PRESSURE SCREENING\, Clothing Distribution
DESCRIPTION:Every Friday\, BLOOD PRESSURE SCREENING\, Clothing Distribution
URL:https://gcrcla.org/event/every-friday-blood-pressure-screening-clothing-distribution-2/
LOCATION:The Chesterfield\, 4723 So. Normandie Ave.\, Los Angeles\, CA\, 90062\, United States
CATEGORIES:Blood Pressure Screening,Chesterfield,Clothing Distribution,Every Friday
ORGANIZER;CN="GCRCLA":MAILTO:info@gcrcla.org, ywanderson@gcrcla.org
END:VEVENT
BEGIN:VEVENT
DTSTART;TZID=UTC:20250611T100000
DTEND;TZID=UTC:20250611T140000
DTSTAMP:20260424T051930
CREATED:20250602T143407Z
LAST-MODIFIED:20250602T143514Z
UID:10000176-1749636000-1749650400@gcrcla.org
SUMMARY:Second Wednesday WAFFLE WEDNESDAY
DESCRIPTION:Second Wednesday\, WAFFLE WEDNESDAY
URL:https://gcrcla.org/event/second-wednesday-waffle-wednesday/
LOCATION:The Chesterfield\, 4723 So. Normandie Ave.\, Los Angeles\, CA\, 90062\, United States
CATEGORIES:Chesterfield,Second Wednesday,WAFFLE WEDNESDAY
ORGANIZER;CN="GCRCLA":MAILTO:info@gcrcla.org, ywanderson@gcrcla.org
END:VEVENT
BEGIN:VEVENT
DTSTART;TZID=UTC:20250610T100000
DTEND;TZID=UTC:20250610T150000
DTSTAMP:20260424T051930
CREATED:20250602T134409Z
LAST-MODIFIED:20250602T134519Z
UID:10000165-1749549600-1749567600@gcrcla.org
SUMMARY:Second Tuesday FOOD BAG DISTRIBUTION – NEW PARTNER
DESCRIPTION:Second Tuesday\nFOOD BAG DISTRIBUTION – NEW PARTNER
URL:https://gcrcla.org/event/second-tuesday-food-bag-distribution-new-partner/
LOCATION:The Chesterfield\, 4723 So. Normandie Ave.\, Los Angeles\, CA\, 90062\, United States
CATEGORIES:(NEW) FOOD BAG DISTRIBUTION - NEW PARTNER,Second Tuesday
ORGANIZER;CN="GCRCLA":MAILTO:info@gcrcla.org, ywanderson@gcrcla.org
END:VEVENT
BEGIN:VEVENT
DTSTART;TZID=UTC:20250606T100000
DTEND;TZID=UTC:20250606T150000
DTSTAMP:20260424T051930
CREATED:20250602T154028Z
LAST-MODIFIED:20250704T122120Z
UID:10000191-1749204000-1749222000@gcrcla.org
SUMMARY:Second Friday EXERCISE CLASS
DESCRIPTION:Second Friday\, EXERCISE CLASS
URL:https://gcrcla.org/event/second-friday-exercise-class/
LOCATION:The Chesterfield\, 4723 So. Normandie Ave.\, Los Angeles\, CA\, 90062\, United States
CATEGORIES:Chesterfield,EXERCISE CLASS,Second Friday
ORGANIZER;CN="GCRCLA":MAILTO:info@gcrcla.org, ywanderson@gcrcla.org
END:VEVENT
BEGIN:VEVENT
DTSTART;TZID=UTC:20250606T100000
DTEND;TZID=UTC:20250606T150000
DTSTAMP:20260424T051930
CREATED:20250602T153726Z
LAST-MODIFIED:20250602T153726Z
UID:10000190-1749204000-1749222000@gcrcla.org
SUMMARY:Every Friday\, BLOOD PRESSURE SCREENING\, Clothing Distribution
DESCRIPTION:Every Friday\, BLOOD PRESSURE SCREENING\, Clothing Distribution
URL:https://gcrcla.org/event/every-friday-blood-pressure-screening-clothing-distribution/
LOCATION:The Chesterfield\, 4723 So. Normandie Ave.\, Los Angeles\, CA\, 90062\, United States
CATEGORIES:Blood Pressure Screening,Chesterfield,Clothing Distribution,Every Friday
ORGANIZER;CN="GCRCLA":MAILTO:info@gcrcla.org, ywanderson@gcrcla.org
END:VEVENT
BEGIN:VEVENT
DTSTART;TZID=UTC:20250605T100000
DTEND;TZID=UTC:20250605T150000
DTSTAMP:20260424T051930
CREATED:20250602T151425Z
LAST-MODIFIED:20250602T151425Z
UID:10000184-1749117600-1749135600@gcrcla.org
SUMMARY:First Thursday PRODUCE\, MEAT\, BEVERAGE\, DRY GOOD BOX DISTRIBUTION
DESCRIPTION:First Thursday\, PRODUCE\, MEAT\, BEVERAGE\, DRY GOOD BOX DISTRIBUTION
URL:https://gcrcla.org/event/first-thursday-produce-meat-beverage-dry-good-box-distribution/
LOCATION:The Chesterfield\, 4723 So. Normandie Ave.\, Los Angeles\, CA\, 90062\, United States
CATEGORIES:BEVERAGE,DRY GOOD BOX DISTRIBUTION,First Thursday,MEAT,PRODUCE
ORGANIZER;CN="GCRCLA":MAILTO:info@gcrcla.org, ywanderson@gcrcla.org
END:VEVENT
BEGIN:VEVENT
DTSTART;TZID=UTC:20250605T100000
DTEND;TZID=UTC:20250605T150000
DTSTAMP:20260424T051930
CREATED:20250602T151031Z
LAST-MODIFIED:20250602T151031Z
UID:10000183-1749117600-1749135600@gcrcla.org
SUMMARY:Every Thursday BLOOD PRESSURE SCREENING\, Clothing Distribution
DESCRIPTION:Every Thursday\, BLOOD PRESSURE SCREENING\, Clothing Distribution
URL:https://gcrcla.org/event/every-thursday-blood-pressure-screening-clothing-distribution/
LOCATION:The Chesterfield\, 4723 So. Normandie Ave.\, Los Angeles\, CA\, 90062\, United States
CATEGORIES:Blood Pressure Screening,Clothing Distribution,Every Thursday
ORGANIZER;CN="GCRCLA":MAILTO:info@gcrcla.org, ywanderson@gcrcla.org
END:VEVENT
BEGIN:VEVENT
DTSTART;TZID=UTC:20250530T100000
DTEND;TZID=UTC:20250530T100000
DTSTAMP:20260424T051930
CREATED:20250429T160922Z
LAST-MODIFIED:20250429T160922Z
UID:10000152-1748599200-1748599200@gcrcla.org
SUMMARY:Every Friday
DESCRIPTION:BLOOD PRESSURE SCREENING\, Clothing Distribution
URL:https://gcrcla.org/event/every-friday-14/
LOCATION:The Chesterfield\, 4723 So. Normandie Ave.\, Los Angeles\, CA\, 90062\, United States
CATEGORIES:Blood Pressure Screening,Clothing Distribution
ORGANIZER;CN="GCRCLA":MAILTO:info@gcrcla.org, ywanderson@gcrcla.org
END:VEVENT
BEGIN:VEVENT
DTSTART;TZID=UTC:20250529T100000
DTEND;TZID=UTC:20250529T100000
DTSTAMP:20260424T051930
CREATED:20250429T160908Z
LAST-MODIFIED:20250429T160908Z
UID:10000151-1748512800-1748512800@gcrcla.org
SUMMARY:Every Thursday
DESCRIPTION:BLOOD PRESSURE SCREENING\, Clothing Distribution
URL:https://gcrcla.org/event/every-thursday-5/
LOCATION:The Chesterfield\, 4723 So. Normandie Ave.\, Los Angeles\, CA\, 90062\, United States
CATEGORIES:Blood Pressure Screening,Clothing Distribution
ORGANIZER;CN="GCRCLA":MAILTO:info@gcrcla.org, ywanderson@gcrcla.org
END:VEVENT
BEGIN:VEVENT
DTSTART;TZID=UTC:20250527T100000
DTEND;TZID=UTC:20250527T100000
DTSTAMP:20260424T051930
CREATED:20250429T160852Z
LAST-MODIFIED:20250429T160852Z
UID:10000145-1748340000-1748340000@gcrcla.org
SUMMARY:Fourth Tuesday
DESCRIPTION:(NEW) FOOD BAG DISTRIBUTION – NEW PARTNER
URL:https://gcrcla.org/event/fourth-tuesday-5/
LOCATION:The Chesterfield\, 4723 So. Normandie Ave.\, Los Angeles\, CA\, 90062\, United States
CATEGORIES:(NEW) FOOD BAG DISTRIBUTION - NEW PARTNER
ORGANIZER;CN="GCRCLA":MAILTO:info@gcrcla.org, ywanderson@gcrcla.org
END:VEVENT
BEGIN:VEVENT
DTSTART;TZID=UTC:20250523T100000
DTEND;TZID=UTC:20250523T100000
DTSTAMP:20260424T051930
CREATED:20250429T160837Z
LAST-MODIFIED:20250429T160837Z
UID:10000140-1747994400-1747994400@gcrcla.org
SUMMARY:Every Friday
DESCRIPTION:BLOOD PRESSURE SCREENING\, Clothing Distribution
URL:https://gcrcla.org/event/every-friday-13/
LOCATION:The Chesterfield\, 4723 So. Normandie Ave.\, Los Angeles\, CA\, 90062\, United States
CATEGORIES:Blood Pressure Screening,Clothing Distribution
ORGANIZER;CN="GCRCLA":MAILTO:info@gcrcla.org, ywanderson@gcrcla.org
END:VEVENT
BEGIN:VEVENT
DTSTART;TZID=UTC:20250523T100000
DTEND;TZID=UTC:20250523T100000
DTSTAMP:20260424T051930
CREATED:20250429T160837Z
LAST-MODIFIED:20250429T160837Z
UID:10000141-1747994400-1747994400@gcrcla.org
SUMMARY:Fourth Friday
DESCRIPTION:BINGO WITH PRIZES\, Raffles For Blood Pressure Participation
URL:https://gcrcla.org/event/fourth-friday-4/
LOCATION:The Chesterfield\, 4723 So. Normandie Ave.\, Los Angeles\, CA\, 90062\, United States
CATEGORIES:BINGO WITH PRIZES,RAFFLES FOR BLOOD PRESSURE PARTICIPATION
ORGANIZER;CN="GCRCLA":MAILTO:info@gcrcla.org, ywanderson@gcrcla.org
END:VEVENT
BEGIN:VEVENT
DTSTART;TZID=UTC:20250522T100000
DTEND;TZID=UTC:20250522T100000
DTSTAMP:20260424T051930
CREATED:20250429T160837Z
LAST-MODIFIED:20250429T160837Z
UID:10000139-1747908000-1747908000@gcrcla.org
SUMMARY:Every Thursday
DESCRIPTION:BLOOD PRESSURE SCREENING\, Clothing Distribution
URL:https://gcrcla.org/event/every-thursday-4/
LOCATION:The Chesterfield\, 4723 So. Normandie Ave.\, Los Angeles\, CA\, 90062\, United States
CATEGORIES:Blood Pressure Screening,Clothing Distribution
ORGANIZER;CN="GCRCLA":MAILTO:info@gcrcla.org, ywanderson@gcrcla.org
END:VEVENT
BEGIN:VEVENT
DTSTART;TZID=UTC:20250516T100000
DTEND;TZID=UTC:20250516T100000
DTSTAMP:20260424T051930
CREATED:20250429T160807Z
LAST-MODIFIED:20250429T160807Z
UID:10000131-1747389600-1747389600@gcrcla.org
SUMMARY:Third Friday
DESCRIPTION:LA REGIONAL FOOD BANK BOX DISTRIBUTION
URL:https://gcrcla.org/event/third-friday-4/
LOCATION:The Chesterfield\, 4723 So. Normandie Ave.\, Los Angeles\, CA\, 90062\, United States
CATEGORIES:LA REGIONAL FOOD BANK BOX DISTRIBUTION
ORGANIZER;CN="GCRCLA":MAILTO:info@gcrcla.org, ywanderson@gcrcla.org
END:VEVENT
BEGIN:VEVENT
DTSTART;TZID=UTC:20250516T100000
DTEND;TZID=UTC:20250516T100000
DTSTAMP:20260424T051930
CREATED:20250429T160753Z
LAST-MODIFIED:20250429T160753Z
UID:10000130-1747389600-1747389600@gcrcla.org
SUMMARY:Every Friday
DESCRIPTION:BLOOD PRESSURE SCREENING\, Clothing Distribution
URL:https://gcrcla.org/event/every-friday-12/
LOCATION:The Chesterfield\, 4723 So. Normandie Ave.\, Los Angeles\, CA\, 90062\, United States
CATEGORIES:Blood Pressure Screening,Clothing Distribution
ORGANIZER;CN="GCRCLA":MAILTO:info@gcrcla.org, ywanderson@gcrcla.org
END:VEVENT
BEGIN:VEVENT
DTSTART;TZID=UTC:20250515T100000
DTEND;TZID=UTC:20250515T100000
DTSTAMP:20260424T051930
CREATED:20250429T160752Z
LAST-MODIFIED:20250429T160752Z
UID:10000129-1747303200-1747303200@gcrcla.org
SUMMARY:Every Thursday
DESCRIPTION:BLOOD PRESSURE SCREENING\, Clothing Distribution
URL:https://gcrcla.org/event/every-thursday-3/
LOCATION:The Chesterfield\, 4723 So. Normandie Ave.\, Los Angeles\, CA\, 90062\, United States
CATEGORIES:Blood Pressure Screening,Clothing Distribution
ORGANIZER;CN="GCRCLA":MAILTO:info@gcrcla.org, ywanderson@gcrcla.org
END:VEVENT
BEGIN:VEVENT
DTSTART;TZID=UTC:20250514T100000
DTEND;TZID=UTC:20250514T100000
DTSTAMP:20260424T051930
CREATED:20250429T160752Z
LAST-MODIFIED:20250429T160752Z
UID:10000127-1747216800-1747216800@gcrcla.org
SUMMARY:Second Wednesday
DESCRIPTION:WAFFLE WEDNESDAY
URL:https://gcrcla.org/event/second-wednesday-3/
LOCATION:The Chesterfield\, 4723 So. Normandie Ave.\, Los Angeles\, CA\, 90062\, United States
CATEGORIES:WAFFLE WEDNESDAY
ORGANIZER;CN="GCRCLA":MAILTO:info@gcrcla.org, ywanderson@gcrcla.org
END:VEVENT
BEGIN:VEVENT
DTSTART;TZID=UTC:20250513T100000
DTEND;TZID=UTC:20250513T100000
DTSTAMP:20260424T051930
CREATED:20250429T160737Z
LAST-MODIFIED:20250429T160737Z
UID:10000123-1747130400-1747130400@gcrcla.org
SUMMARY:Second Tuesday
DESCRIPTION:(NEW) FOOD BAG DISTRIBUTION – NEW PARTNER
URL:https://gcrcla.org/event/second-tuesday-4/
LOCATION:The Chesterfield\, 4723 So. Normandie Ave.\, Los Angeles\, CA\, 90062\, United States
CATEGORIES:(NEW) FOOD BAG DISTRIBUTION - NEW PARTNER
ORGANIZER;CN="GCRCLA":MAILTO:info@gcrcla.org, ywanderson@gcrcla.org
END:VEVENT
END:VCALENDAR