BEGIN:VCALENDAR
VERSION:2.0
PRODID:-//GCRCLA - ECPv6.15.20//NONSGML v1.0//EN
CALSCALE:GREGORIAN
METHOD:PUBLISH
X-ORIGINAL-URL:https://gcrcla.org
X-WR-CALDESC:Events for GCRCLA
REFRESH-INTERVAL;VALUE=DURATION:PT1H
X-Robots-Tag:noindex
X-PUBLISHED-TTL:PT1H
BEGIN:VTIMEZONE
TZID:UTC
BEGIN:STANDARD
TZOFFSETFROM:+0000
TZOFFSETTO:+0000
TZNAME:UTC
DTSTART:20240101T000000
END:STANDARD
END:VTIMEZONE
BEGIN:VEVENT
DTSTART;TZID=UTC:20260416T053000
DTEND;TZID=UTC:20260416T193000
DTSTAMP:20260423T182130
CREATED:20260409T185330Z
LAST-MODIFIED:20260409T190259Z
UID:10001842-1776317400-1776367800@gcrcla.org
SUMMARY:BE WELL NEWSLETTER Community Impact | April 2026
DESCRIPTION:BE WELL NEWSLETTER Community Impact | April 2026\,\nFinancial Literacy Workshops\nApril 9\, 16\, 23\, 30\, 2026\n5:30 – 7:30 PM\n4126 Arlington Avenue\, Los Angeles\, CA 90008\nFinancial Literacy Workshops\,\nFinancial Literacy for the Middle Class\,\nCommunity Share\,\nSee’s Candy Fundraiser\,\n 
URL:https://gcrcla.org/event/be-well-newsletter-community-impact-april-2026/2026-04-16/
LOCATION:Lincoln UCC\, 4126 Arlington Ave\, Los Angeles\, CA\, 90008\, United States
CATEGORIES:Community Impact,Event
ATTACH;FMTTYPE=image/jpeg:https://gcrcla.org/wp-content/uploads/2026/04/GCRCs-Newsletter-April-2026-jpg_Page_1.jpg
ORGANIZER;CN="GCRCLA":MAILTO:info@gcrcla.org, ywanderson@gcrcla.org
END:VEVENT
BEGIN:VEVENT
DTSTART;TZID=UTC:20260409T053000
DTEND;TZID=UTC:20260409T193000
DTSTAMP:20260423T182130
CREATED:20260409T185330Z
LAST-MODIFIED:20260409T190259Z
UID:10001841-1775712600-1775763000@gcrcla.org
SUMMARY:BE WELL NEWSLETTER Community Impact | April 2026
DESCRIPTION:BE WELL NEWSLETTER Community Impact | April 2026\,\nFinancial Literacy Workshops\nApril 9\, 16\, 23\, 30\, 2026\n5:30 – 7:30 PM\n4126 Arlington Avenue\, Los Angeles\, CA 90008\nFinancial Literacy Workshops\,\nFinancial Literacy for the Middle Class\,\nCommunity Share\,\nSee’s Candy Fundraiser\,\n 
URL:https://gcrcla.org/event/be-well-newsletter-community-impact-april-2026/2026-04-09/
LOCATION:Lincoln UCC\, 4126 Arlington Ave\, Los Angeles\, CA\, 90008\, United States
CATEGORIES:Community Impact,Event
ATTACH;FMTTYPE=image/jpeg:https://gcrcla.org/wp-content/uploads/2026/04/GCRCs-Newsletter-April-2026-jpg_Page_1.jpg
ORGANIZER;CN="GCRCLA":MAILTO:info@gcrcla.org, ywanderson@gcrcla.org
END:VEVENT
BEGIN:VEVENT
DTSTART;TZID=UTC:20260118T123000
DTEND;TZID=UTC:20260118T133000
DTSTAMP:20260423T182130
CREATED:20260105T222546Z
LAST-MODIFIED:20260105T222659Z
UID:10001838-1768739400-1768743000@gcrcla.org
SUMMARY:How to Save Your Life While Saving Your Soul
DESCRIPTION:How to Save Your Life\, While Saving Your Soul
URL:https://gcrcla.org/event/how-to-save-your-life-while-saving-your-soul-3-2-3/
LOCATION:Lincoln UCC\, 4126 Arlington Ave\, Los Angeles\, CA\, 90008\, United States
CATEGORIES:Event,Healthy Liviing
ATTACH;FMTTYPE=image/png:https://gcrcla.org/wp-content/uploads/2026/01/Jan-18-2026-Health-presentation.png
ORGANIZER;CN="GCRCLA":MAILTO:info@gcrcla.org, ywanderson@gcrcla.org
END:VEVENT
BEGIN:VEVENT
DTSTART;TZID=UTC:20251018T100000
DTEND;TZID=UTC:20251018T120000
DTSTAMP:20260423T182130
CREATED:20250930T005651Z
LAST-MODIFIED:20250930T234120Z
UID:10001831-1760781600-1760788800@gcrcla.org
SUMMARY:Fresh Produce and Gently Used Clothes | Distribution from  10 PM to12 PM
DESCRIPTION:We distribute Fresh Produce and Gently Used Clothes\, Distribution frm 10 PM to 12 PM​
URL:https://gcrcla.org/event/community-share/
LOCATION:Lincoln UCC\, 4126 Arlington Ave\, Los Angeles\, CA\, 90008\, United States
CATEGORIES:Clothing Distribution,PRODUCE,Third Saturday
ORGANIZER;CN="GCRCLA":MAILTO:info@gcrcla.org, ywanderson@gcrcla.org
END:VEVENT
BEGIN:VEVENT
DTSTART;TZID=UTC:20251011T090000
DTEND;TZID=UTC:20251011T120000
DTSTAMP:20260423T182131
CREATED:20250926T005212Z
LAST-MODIFIED:20250926T005212Z
UID:10001830-1760173200-1760184000@gcrcla.org
SUMMARY:Living With Intention | Mental Health Workshop
DESCRIPTION:Living With Intention | Mental Health Workshop
URL:https://gcrcla.org/event/living-with-intention-mental-health-workshop/
LOCATION:Lincoln UCC\, 4126 Arlington Ave\, Los Angeles\, CA\, 90008\, United States
CATEGORIES:Event,Lincoln UCC
ATTACH;FMTTYPE=image/jpeg:https://gcrcla.org/wp-content/uploads/2025/09/Living-With-Intention-8-5.jpg
ORGANIZER;CN="GCRCLA":MAILTO:info@gcrcla.org, ywanderson@gcrcla.org
END:VEVENT
BEGIN:VEVENT
DTSTART;TZID=UTC:20250719T100000
DTEND;TZID=UTC:20250719T120000
DTSTAMP:20260423T182131
CREATED:20250704T174404Z
LAST-MODIFIED:20250704T174404Z
UID:10000221-1752919200-1752926400@gcrcla.org
SUMMARY:Saturday Produce Giveaway
DESCRIPTION:Saturday Produce Giveaway
URL:https://gcrcla.org/event/saturday-produce-giveaway/
LOCATION:Lincoln UCC\, 4126 Arlington Ave\, Los Angeles\, CA\, 90008\, United States
CATEGORIES:Lincoln UCC,PRODUCE GIVE AWAY,Saturdays
ORGANIZER;CN="GCRCLA":MAILTO:info@gcrcla.org, ywanderson@gcrcla.org
END:VEVENT
BEGIN:VEVENT
DTSTART;TZID=UTC:20250504T123000
DTEND;TZID=UTC:20250504T140000
DTSTAMP:20260423T182131
CREATED:20250411T024440Z
LAST-MODIFIED:20250411T025102Z
UID:10000109-1746361800-1746367200@gcrcla.org
SUMMARY:Live! An In-Person Health Equity Presentation!
DESCRIPTION:Sunday\, My 4\, 2025\, 12:45 PM to 2:00 PM\n“Promoting Black Women’s Brain Health:\nInsights from the Black Women’s Inflammation and Tau Study (B-WITS)”\nRegister Here: https://bit.ly/3RDbTvZ
URL:https://gcrcla.org/event/live-an-in-person-health-equity-presentation/
LOCATION:Lincoln UCC\, 4126 Arlington Ave\, Los Angeles\, CA\, 90008\, United States
CATEGORIES:In-Person Health Equity Presentation
ATTACH;FMTTYPE=image/jpeg:https://gcrcla.org/wp-content/uploads/2025/04/Health-Equity-Presentation-New.jpg
ORGANIZER;CN="GCRCLA":MAILTO:info@gcrcla.org, ywanderson@gcrcla.org
END:VEVENT
BEGIN:VEVENT
DTSTART;TZID=UTC:20250315T100000
DTEND;TZID=UTC:20250315T120000
DTSTAMP:20260423T182131
CREATED:20250301T020657Z
LAST-MODIFIED:20250301T020657Z
UID:10000073-1742032800-1742040000@gcrcla.org
SUMMARY:Produce GiveAway
DESCRIPTION:Produce GiveAway
URL:https://gcrcla.org/event/produce-giveaway/
LOCATION:Lincoln UCC\, 4126 Arlington Ave\, Los Angeles\, CA\, 90008\, United States
CATEGORIES:PRODUCE GIVE AWAY,Saturdays
ATTACH;FMTTYPE=image/jpeg:https://gcrcla.org/wp-content/uploads/2025/03/Saturdays-Produce-Giveaway-Lincoln-UCC.jpg
ORGANIZER;CN="GCRCLA":MAILTO:info@gcrcla.org, ywanderson@gcrcla.org
END:VEVENT
BEGIN:VEVENT
DTSTART;TZID=UTC:20250222T090000
DTEND;TZID=UTC:20250222T160000
DTSTAMP:20260423T182131
CREATED:20250206T144519Z
LAST-MODIFIED:20250207T015540Z
UID:10000025-1740214800-1740240000@gcrcla.org
SUMMARY:Third Saturday
DESCRIPTION:Third Saturday
URL:https://gcrcla.org/event/third-saturday/
LOCATION:Lincoln UCC\, 4126 Arlington Ave\, Los Angeles\, CA\, 90008\, United States
CATEGORIES:Event,Lincoln UCC,Third Saturday
ATTACH;FMTTYPE=image/jpeg:https://gcrcla.org/wp-content/uploads/2025/02/Saturdays.jpg
ORGANIZER;CN="GCRCLA":MAILTO:info@gcrcla.org, ywanderson@gcrcla.org
END:VEVENT
BEGIN:VEVENT
DTSTART;TZID=UTC:20250215T090000
DTEND;TZID=UTC:20250215T160000
DTSTAMP:20260423T182131
CREATED:20250206T144229Z
LAST-MODIFIED:20250207T015700Z
UID:10000024-1739610000-1739635200@gcrcla.org
SUMMARY:Second Saturday
DESCRIPTION:Second Saturday
URL:https://gcrcla.org/event/second-saturday/
LOCATION:Lincoln UCC\, 4126 Arlington Ave\, Los Angeles\, CA\, 90008\, United States
CATEGORIES:Event,Lincoln UCC,Second Saturday
ATTACH;FMTTYPE=image/jpeg:https://gcrcla.org/wp-content/uploads/2025/02/Saturdays.jpg
ORGANIZER;CN="GCRCLA":MAILTO:info@gcrcla.org, ywanderson@gcrcla.org
END:VEVENT
BEGIN:VEVENT
DTSTART;TZID=UTC:20250208T090000
DTEND;TZID=UTC:20250208T160000
DTSTAMP:20260423T182131
CREATED:20250206T142943Z
LAST-MODIFIED:20250207T015801Z
UID:10000022-1739005200-1739030400@gcrcla.org
SUMMARY:First Saturday
DESCRIPTION:Gardening at Lincoln UCC
URL:https://gcrcla.org/event/saturdays/
LOCATION:Lincoln UCC\, 4126 Arlington Ave\, Los Angeles\, CA\, 90008\, United States
CATEGORIES:Event,First Saturdays,Lincoln UCC
ATTACH;FMTTYPE=image/jpeg:https://gcrcla.org/wp-content/uploads/2025/02/Saturdays.jpg
ORGANIZER;CN="GCRCLA":MAILTO:info@gcrcla.org, ywanderson@gcrcla.org
END:VEVENT
END:VCALENDAR