BEGIN:VCALENDAR
VERSION:2.0
PRODID:-//GCRCLA - ECPv6.15.20//NONSGML v1.0//EN
CALSCALE:GREGORIAN
METHOD:PUBLISH
X-ORIGINAL-URL:https://gcrcla.org
X-WR-CALDESC:Events for GCRCLA
REFRESH-INTERVAL;VALUE=DURATION:PT1H
X-Robots-Tag:noindex
X-PUBLISHED-TTL:PT1H
BEGIN:VTIMEZONE
TZID:UTC
BEGIN:STANDARD
TZOFFSETFROM:+0000
TZOFFSETTO:+0000
TZNAME:UTC
DTSTART:20240101T000000
END:STANDARD
END:VTIMEZONE
BEGIN:VEVENT
DTSTART;TZID=UTC:20260412T133000
DTEND;TZID=UTC:20260412T143000
DTSTAMP:20260423T181456
CREATED:20260403T142628Z
LAST-MODIFIED:20260403T142628Z
UID:10001840-1776000600-1776004200@gcrcla.org
SUMMARY:Health Care for All California Citizens (AB 1900)
DESCRIPTION:“Health Care for All California Citizens (AB 1900)”
URL:https://gcrcla.org/event/health-care-for-all-california-citizens-ab-1900/
LOCATION:VIrtual
CATEGORIES:Event,for All California Citizens
ATTACH;FMTTYPE=image/jpeg:https://gcrcla.org/wp-content/uploads/2026/04/CalCare.jpg
END:VEVENT
BEGIN:VEVENT
DTSTART;TZID=UTC:20251117T180000
DTEND;TZID=UTC:20251117T190000
DTSTAMP:20260423T181456
CREATED:20251113T062945Z
LAST-MODIFIED:20251113T063133Z
UID:10001833-1763402400-1763406000@gcrcla.org
SUMMARY:Healthy Living: Let's Thrive in 2025
DESCRIPTION:A Virtual Presentation Healthy Living: Let’s Thrive in 2025\n 
URL:https://gcrcla.org/event/healthy-living-lets-thrive-in-2025-2/
LOCATION:VIrtual
CATEGORIES:Virtual Event
ATTACH;FMTTYPE=image/png:https://gcrcla.org/wp-content/uploads/2025/11/Healthy-Living-Nov-2025-2.png
ORGANIZER;CN="GCRCLA":MAILTO:info@gcrcla.org, ywanderson@gcrcla.org
END:VEVENT
BEGIN:VEVENT
DTSTART;TZID=UTC:20251116T140000
DTEND;TZID=UTC:20251116T150000
DTSTAMP:20260423T181456
CREATED:20251009T202219Z
LAST-MODIFIED:20251009T205021Z
UID:10001832-1763301600-1763305200@gcrcla.org
SUMMARY:Health Equity Presentation
DESCRIPTION:Health Equity Presentation\nJoin us for a Virtual Health Equity Presentation\n“Alzheimer’s and Black Women – Getting Ahead of the Projections”
URL:https://gcrcla.org/event/health-equity-presentation/
LOCATION:VIrtual
CATEGORIES:Health Equity Presentation
ATTACH;FMTTYPE=image/jpeg:https://gcrcla.org/wp-content/uploads/2025/10/Health-Equity-Presentation-J.jpg
ORGANIZER;CN="GCRCLA":MAILTO:info@gcrcla.org, ywanderson@gcrcla.org
END:VEVENT
BEGIN:VEVENT
DTSTART;TZID=UTC:20250921T140000
DTEND;TZID=UTC:20250921T150000
DTSTAMP:20260423T181456
CREATED:20250914T202543Z
LAST-MODIFIED:20250914T210454Z
UID:10001829-1758463200-1758466800@gcrcla.org
SUMMARY:Turning Toward Mental Health
DESCRIPTION:Turning Toward Mental Health
URL:https://gcrcla.org/event/turning-toward-mental-health/
LOCATION:VIrtual
CATEGORIES:Turning Toward Mental Health
ATTACH;FMTTYPE=image/jpeg:https://gcrcla.org/wp-content/uploads/2025/09/Turning-Toward-Mental-Health.jpg
ORGANIZER;CN="GCRCLA":MAILTO:info@gcrcla.org, ywanderson@gcrcla.org
END:VEVENT
BEGIN:VEVENT
DTSTART;TZID=UTC:20250427T140000
DTEND;TZID=UTC:20250427T150000
DTSTAMP:20260423T181456
CREATED:20250403T234952Z
LAST-MODIFIED:20250403T235358Z
UID:10000108-1745762400-1745766000@gcrcla.org
SUMMARY:Wellnes Sunday | A Virtual Event | Participate in Groundbreaking Nutrition Research
DESCRIPTION:A Virtual Presentation\nUnlock Nutrition’s Potential: Join the Movement for Inclusive Trials.\nYour Voice Matters: Participate in Groundbreaking Nutrition Research\nRegistration Required
URL:https://gcrcla.org/event/11572/
LOCATION:VIrtual
ATTACH;FMTTYPE=image/jpeg:https://gcrcla.org/wp-content/uploads/2025/04/Wellness-Sunday-5125-scaled.jpg
ORGANIZER;CN="GCRCLA":MAILTO:info@gcrcla.org, ywanderson@gcrcla.org
END:VEVENT
BEGIN:VEVENT
DTSTART;TZID=UTC:20250317T180000
DTEND;TZID=UTC:20250317T193000
DTSTAMP:20260423T181456
CREATED:20250306T222319Z
LAST-MODIFIED:20250306T222340Z
UID:10000074-1742234400-1742239800@gcrcla.org
SUMMARY:Healthy Living | Lets Thrive in 2025
DESCRIPTION:Healthy Living: Lets Thrive in 2025\nEmotional Intelligence\nModay\, March 17\, 2025\n6:00 PM – 7:30 PM\n\nRegister Today
URL:https://gcrcla.org/event/healthy-living-lets-thrive-in-2025/
LOCATION:VIrtual
CATEGORIES:Event,Healthy Liviing
ATTACH;FMTTYPE=image/jpeg:https://gcrcla.org/wp-content/uploads/2025/03/Lets-Thrive-in-2025.jpg
ORGANIZER;CN="GCRCLA":MAILTO:info@gcrcla.org, ywanderson@gcrcla.org
END:VEVENT
END:VCALENDAR