BEGIN:VCALENDAR
VERSION:2.0
PRODID:-//GCRCLA - ECPv6.15.20//NONSGML v1.0//EN
CALSCALE:GREGORIAN
METHOD:PUBLISH
X-ORIGINAL-URL:https://gcrcla.org
X-WR-CALDESC:Events for GCRCLA
REFRESH-INTERVAL;VALUE=DURATION:PT1H
X-Robots-Tag:noindex
X-PUBLISHED-TTL:PT1H
BEGIN:VTIMEZONE
TZID:UTC
BEGIN:STANDARD
TZOFFSETFROM:+0000
TZOFFSETTO:+0000
TZNAME:UTC
DTSTART:20250101T000000
END:STANDARD
END:VTIMEZONE
BEGIN:VEVENT
DTSTART;TZID=UTC:20261012T100000
DTEND;TZID=UTC:20261012T150000
DTSTAMP:20260423T204917
CREATED:20250809T032115Z
LAST-MODIFIED:20250809T032115Z
UID:10000573-1791799200-1791817200@gcrcla.org
SUMMARY:Every Monday\, Blood Pressure Screening\, Food Distribution\, Clothing/Housing Distribution
DESCRIPTION:Every Monday\, Blood Pressure Screening\, Food Distribution\, Clothing/Housing Distribution
URL:https://gcrcla.org/event/every-monday-blood-pressure-screening-food-distribution-clothing-housing-distribution/2026-10-12/
LOCATION:The Wilcox\, 1040 N Kenmore Ave\, Los Angeles\, CA\, 90029\, United States
CATEGORIES:Blood Pressure Screening,Clothing Distribution,Food Distribution,Houseware Distribution,The Wilcox
ORGANIZER;CN="GCRCLA":MAILTO:info@gcrcla.org, ywanderson@gcrcla.org
END:VEVENT
BEGIN:VEVENT
DTSTART;TZID=UTC:20261019T100000
DTEND;TZID=UTC:20261019T150000
DTSTAMP:20260423T204917
CREATED:20250809T032115Z
LAST-MODIFIED:20250809T032115Z
UID:10000574-1792404000-1792422000@gcrcla.org
SUMMARY:Every Monday\, Blood Pressure Screening\, Food Distribution\, Clothing/Housing Distribution
DESCRIPTION:Every Monday\, Blood Pressure Screening\, Food Distribution\, Clothing/Housing Distribution
URL:https://gcrcla.org/event/every-monday-blood-pressure-screening-food-distribution-clothing-housing-distribution/2026-10-19/
LOCATION:The Wilcox\, 1040 N Kenmore Ave\, Los Angeles\, CA\, 90029\, United States
CATEGORIES:Blood Pressure Screening,Clothing Distribution,Food Distribution,Houseware Distribution,The Wilcox
ORGANIZER;CN="GCRCLA":MAILTO:info@gcrcla.org, ywanderson@gcrcla.org
END:VEVENT
BEGIN:VEVENT
DTSTART;TZID=UTC:20261026T100000
DTEND;TZID=UTC:20261026T150000
DTSTAMP:20260423T204917
CREATED:20250809T032115Z
LAST-MODIFIED:20250809T032115Z
UID:10000575-1793008800-1793026800@gcrcla.org
SUMMARY:Every Monday\, Blood Pressure Screening\, Food Distribution\, Clothing/Housing Distribution
DESCRIPTION:Every Monday\, Blood Pressure Screening\, Food Distribution\, Clothing/Housing Distribution
URL:https://gcrcla.org/event/every-monday-blood-pressure-screening-food-distribution-clothing-housing-distribution/2026-10-26/
LOCATION:The Wilcox\, 1040 N Kenmore Ave\, Los Angeles\, CA\, 90029\, United States
CATEGORIES:Blood Pressure Screening,Clothing Distribution,Food Distribution,Houseware Distribution,The Wilcox
ORGANIZER;CN="GCRCLA":MAILTO:info@gcrcla.org, ywanderson@gcrcla.org
END:VEVENT
BEGIN:VEVENT
DTSTART;TZID=UTC:20261102T100000
DTEND;TZID=UTC:20261102T150000
DTSTAMP:20260423T204917
CREATED:20250809T032115Z
LAST-MODIFIED:20250809T032115Z
UID:10000576-1793613600-1793631600@gcrcla.org
SUMMARY:Every Monday\, Blood Pressure Screening\, Food Distribution\, Clothing/Housing Distribution
DESCRIPTION:Every Monday\, Blood Pressure Screening\, Food Distribution\, Clothing/Housing Distribution
URL:https://gcrcla.org/event/every-monday-blood-pressure-screening-food-distribution-clothing-housing-distribution/2026-11-02/
LOCATION:The Wilcox\, 1040 N Kenmore Ave\, Los Angeles\, CA\, 90029\, United States
CATEGORIES:Blood Pressure Screening,Clothing Distribution,Food Distribution,Houseware Distribution,The Wilcox
ORGANIZER;CN="GCRCLA":MAILTO:info@gcrcla.org, ywanderson@gcrcla.org
END:VEVENT
BEGIN:VEVENT
DTSTART;TZID=UTC:20261109T100000
DTEND;TZID=UTC:20261109T150000
DTSTAMP:20260423T204917
CREATED:20250809T032115Z
LAST-MODIFIED:20250809T032115Z
UID:10000577-1794218400-1794236400@gcrcla.org
SUMMARY:Every Monday\, Blood Pressure Screening\, Food Distribution\, Clothing/Housing Distribution
DESCRIPTION:Every Monday\, Blood Pressure Screening\, Food Distribution\, Clothing/Housing Distribution
URL:https://gcrcla.org/event/every-monday-blood-pressure-screening-food-distribution-clothing-housing-distribution/2026-11-09/
LOCATION:The Wilcox\, 1040 N Kenmore Ave\, Los Angeles\, CA\, 90029\, United States
CATEGORIES:Blood Pressure Screening,Clothing Distribution,Food Distribution,Houseware Distribution,The Wilcox
ORGANIZER;CN="GCRCLA":MAILTO:info@gcrcla.org, ywanderson@gcrcla.org
END:VEVENT
BEGIN:VEVENT
DTSTART;TZID=UTC:20261116T100000
DTEND;TZID=UTC:20261116T150000
DTSTAMP:20260423T204917
CREATED:20250809T032115Z
LAST-MODIFIED:20250809T032115Z
UID:10000578-1794823200-1794841200@gcrcla.org
SUMMARY:Every Monday\, Blood Pressure Screening\, Food Distribution\, Clothing/Housing Distribution
DESCRIPTION:Every Monday\, Blood Pressure Screening\, Food Distribution\, Clothing/Housing Distribution
URL:https://gcrcla.org/event/every-monday-blood-pressure-screening-food-distribution-clothing-housing-distribution/2026-11-16/
LOCATION:The Wilcox\, 1040 N Kenmore Ave\, Los Angeles\, CA\, 90029\, United States
CATEGORIES:Blood Pressure Screening,Clothing Distribution,Food Distribution,Houseware Distribution,The Wilcox
ORGANIZER;CN="GCRCLA":MAILTO:info@gcrcla.org, ywanderson@gcrcla.org
END:VEVENT
BEGIN:VEVENT
DTSTART;TZID=UTC:20261123T100000
DTEND;TZID=UTC:20261123T150000
DTSTAMP:20260423T204917
CREATED:20250809T032115Z
LAST-MODIFIED:20250809T032115Z
UID:10000579-1795428000-1795446000@gcrcla.org
SUMMARY:Every Monday\, Blood Pressure Screening\, Food Distribution\, Clothing/Housing Distribution
DESCRIPTION:Every Monday\, Blood Pressure Screening\, Food Distribution\, Clothing/Housing Distribution
URL:https://gcrcla.org/event/every-monday-blood-pressure-screening-food-distribution-clothing-housing-distribution/2026-11-23/
LOCATION:The Wilcox\, 1040 N Kenmore Ave\, Los Angeles\, CA\, 90029\, United States
CATEGORIES:Blood Pressure Screening,Clothing Distribution,Food Distribution,Houseware Distribution,The Wilcox
ORGANIZER;CN="GCRCLA":MAILTO:info@gcrcla.org, ywanderson@gcrcla.org
END:VEVENT
BEGIN:VEVENT
DTSTART;TZID=UTC:20261130T100000
DTEND;TZID=UTC:20261130T150000
DTSTAMP:20260423T204917
CREATED:20250809T032115Z
LAST-MODIFIED:20250809T032115Z
UID:10000580-1796032800-1796050800@gcrcla.org
SUMMARY:Every Monday\, Blood Pressure Screening\, Food Distribution\, Clothing/Housing Distribution
DESCRIPTION:Every Monday\, Blood Pressure Screening\, Food Distribution\, Clothing/Housing Distribution
URL:https://gcrcla.org/event/every-monday-blood-pressure-screening-food-distribution-clothing-housing-distribution/2026-11-30/
LOCATION:The Wilcox\, 1040 N Kenmore Ave\, Los Angeles\, CA\, 90029\, United States
CATEGORIES:Blood Pressure Screening,Clothing Distribution,Food Distribution,Houseware Distribution,The Wilcox
ORGANIZER;CN="GCRCLA":MAILTO:info@gcrcla.org, ywanderson@gcrcla.org
END:VEVENT
BEGIN:VEVENT
DTSTART;TZID=UTC:20261207T100000
DTEND;TZID=UTC:20261207T150000
DTSTAMP:20260423T204917
CREATED:20250809T032115Z
LAST-MODIFIED:20250809T032115Z
UID:10000581-1796637600-1796655600@gcrcla.org
SUMMARY:Every Monday\, Blood Pressure Screening\, Food Distribution\, Clothing/Housing Distribution
DESCRIPTION:Every Monday\, Blood Pressure Screening\, Food Distribution\, Clothing/Housing Distribution
URL:https://gcrcla.org/event/every-monday-blood-pressure-screening-food-distribution-clothing-housing-distribution/2026-12-07/
LOCATION:The Wilcox\, 1040 N Kenmore Ave\, Los Angeles\, CA\, 90029\, United States
CATEGORIES:Blood Pressure Screening,Clothing Distribution,Food Distribution,Houseware Distribution,The Wilcox
ORGANIZER;CN="GCRCLA":MAILTO:info@gcrcla.org, ywanderson@gcrcla.org
END:VEVENT
BEGIN:VEVENT
DTSTART;TZID=UTC:20261214T100000
DTEND;TZID=UTC:20261214T150000
DTSTAMP:20260423T204917
CREATED:20250809T032115Z
LAST-MODIFIED:20250809T032115Z
UID:10000582-1797242400-1797260400@gcrcla.org
SUMMARY:Every Monday\, Blood Pressure Screening\, Food Distribution\, Clothing/Housing Distribution
DESCRIPTION:Every Monday\, Blood Pressure Screening\, Food Distribution\, Clothing/Housing Distribution
URL:https://gcrcla.org/event/every-monday-blood-pressure-screening-food-distribution-clothing-housing-distribution/2026-12-14/
LOCATION:The Wilcox\, 1040 N Kenmore Ave\, Los Angeles\, CA\, 90029\, United States
CATEGORIES:Blood Pressure Screening,Clothing Distribution,Food Distribution,Houseware Distribution,The Wilcox
ORGANIZER;CN="GCRCLA":MAILTO:info@gcrcla.org, ywanderson@gcrcla.org
END:VEVENT
BEGIN:VEVENT
DTSTART;TZID=UTC:20261221T100000
DTEND;TZID=UTC:20261221T150000
DTSTAMP:20260423T204917
CREATED:20250809T032115Z
LAST-MODIFIED:20250809T032115Z
UID:10000583-1797847200-1797865200@gcrcla.org
SUMMARY:Every Monday\, Blood Pressure Screening\, Food Distribution\, Clothing/Housing Distribution
DESCRIPTION:Every Monday\, Blood Pressure Screening\, Food Distribution\, Clothing/Housing Distribution
URL:https://gcrcla.org/event/every-monday-blood-pressure-screening-food-distribution-clothing-housing-distribution/2026-12-21/
LOCATION:The Wilcox\, 1040 N Kenmore Ave\, Los Angeles\, CA\, 90029\, United States
CATEGORIES:Blood Pressure Screening,Clothing Distribution,Food Distribution,Houseware Distribution,The Wilcox
ORGANIZER;CN="GCRCLA":MAILTO:info@gcrcla.org, ywanderson@gcrcla.org
END:VEVENT
BEGIN:VEVENT
DTSTART;TZID=UTC:20261228T100000
DTEND;TZID=UTC:20261228T150000
DTSTAMP:20260423T204917
CREATED:20250809T032115Z
LAST-MODIFIED:20250809T032115Z
UID:10000584-1798452000-1798470000@gcrcla.org
SUMMARY:Every Monday\, Blood Pressure Screening\, Food Distribution\, Clothing/Housing Distribution
DESCRIPTION:Every Monday\, Blood Pressure Screening\, Food Distribution\, Clothing/Housing Distribution
URL:https://gcrcla.org/event/every-monday-blood-pressure-screening-food-distribution-clothing-housing-distribution/2026-12-28/
LOCATION:The Wilcox\, 1040 N Kenmore Ave\, Los Angeles\, CA\, 90029\, United States
CATEGORIES:Blood Pressure Screening,Clothing Distribution,Food Distribution,Houseware Distribution,The Wilcox
ORGANIZER;CN="GCRCLA":MAILTO:info@gcrcla.org, ywanderson@gcrcla.org
END:VEVENT
BEGIN:VEVENT
DTSTART;TZID=UTC:20270104T100000
DTEND;TZID=UTC:20270104T150000
DTSTAMP:20260423T204917
CREATED:20250809T032115Z
LAST-MODIFIED:20250809T032115Z
UID:10000585-1799056800-1799074800@gcrcla.org
SUMMARY:Every Monday\, Blood Pressure Screening\, Food Distribution\, Clothing/Housing Distribution
DESCRIPTION:Every Monday\, Blood Pressure Screening\, Food Distribution\, Clothing/Housing Distribution
URL:https://gcrcla.org/event/every-monday-blood-pressure-screening-food-distribution-clothing-housing-distribution/2027-01-04/
LOCATION:The Wilcox\, 1040 N Kenmore Ave\, Los Angeles\, CA\, 90029\, United States
CATEGORIES:Blood Pressure Screening,Clothing Distribution,Food Distribution,Houseware Distribution,The Wilcox
ORGANIZER;CN="GCRCLA":MAILTO:info@gcrcla.org, ywanderson@gcrcla.org
END:VEVENT
BEGIN:VEVENT
DTSTART;TZID=UTC:20270111T100000
DTEND;TZID=UTC:20270111T150000
DTSTAMP:20260423T204917
CREATED:20250809T032115Z
LAST-MODIFIED:20250809T032115Z
UID:10000586-1799661600-1799679600@gcrcla.org
SUMMARY:Every Monday\, Blood Pressure Screening\, Food Distribution\, Clothing/Housing Distribution
DESCRIPTION:Every Monday\, Blood Pressure Screening\, Food Distribution\, Clothing/Housing Distribution
URL:https://gcrcla.org/event/every-monday-blood-pressure-screening-food-distribution-clothing-housing-distribution/2027-01-11/
LOCATION:The Wilcox\, 1040 N Kenmore Ave\, Los Angeles\, CA\, 90029\, United States
CATEGORIES:Blood Pressure Screening,Clothing Distribution,Food Distribution,Houseware Distribution,The Wilcox
ORGANIZER;CN="GCRCLA":MAILTO:info@gcrcla.org, ywanderson@gcrcla.org
END:VEVENT
BEGIN:VEVENT
DTSTART;TZID=UTC:20270118T100000
DTEND;TZID=UTC:20270118T150000
DTSTAMP:20260423T204917
CREATED:20250809T032115Z
LAST-MODIFIED:20250809T032115Z
UID:10000587-1800266400-1800284400@gcrcla.org
SUMMARY:Every Monday\, Blood Pressure Screening\, Food Distribution\, Clothing/Housing Distribution
DESCRIPTION:Every Monday\, Blood Pressure Screening\, Food Distribution\, Clothing/Housing Distribution
URL:https://gcrcla.org/event/every-monday-blood-pressure-screening-food-distribution-clothing-housing-distribution/2027-01-18/
LOCATION:The Wilcox\, 1040 N Kenmore Ave\, Los Angeles\, CA\, 90029\, United States
CATEGORIES:Blood Pressure Screening,Clothing Distribution,Food Distribution,Houseware Distribution,The Wilcox
ORGANIZER;CN="GCRCLA":MAILTO:info@gcrcla.org, ywanderson@gcrcla.org
END:VEVENT
BEGIN:VEVENT
DTSTART;TZID=UTC:20270125T100000
DTEND;TZID=UTC:20270125T150000
DTSTAMP:20260423T204917
CREATED:20250809T032115Z
LAST-MODIFIED:20250809T032115Z
UID:10000588-1800871200-1800889200@gcrcla.org
SUMMARY:Every Monday\, Blood Pressure Screening\, Food Distribution\, Clothing/Housing Distribution
DESCRIPTION:Every Monday\, Blood Pressure Screening\, Food Distribution\, Clothing/Housing Distribution
URL:https://gcrcla.org/event/every-monday-blood-pressure-screening-food-distribution-clothing-housing-distribution/2027-01-25/
LOCATION:The Wilcox\, 1040 N Kenmore Ave\, Los Angeles\, CA\, 90029\, United States
CATEGORIES:Blood Pressure Screening,Clothing Distribution,Food Distribution,Houseware Distribution,The Wilcox
ORGANIZER;CN="GCRCLA":MAILTO:info@gcrcla.org, ywanderson@gcrcla.org
END:VEVENT
BEGIN:VEVENT
DTSTART;TZID=UTC:20270201T100000
DTEND;TZID=UTC:20270201T150000
DTSTAMP:20260423T204917
CREATED:20250809T032115Z
LAST-MODIFIED:20250809T032115Z
UID:10000589-1801476000-1801494000@gcrcla.org
SUMMARY:Every Monday\, Blood Pressure Screening\, Food Distribution\, Clothing/Housing Distribution
DESCRIPTION:Every Monday\, Blood Pressure Screening\, Food Distribution\, Clothing/Housing Distribution
URL:https://gcrcla.org/event/every-monday-blood-pressure-screening-food-distribution-clothing-housing-distribution/2027-02-01/
LOCATION:The Wilcox\, 1040 N Kenmore Ave\, Los Angeles\, CA\, 90029\, United States
CATEGORIES:Blood Pressure Screening,Clothing Distribution,Food Distribution,Houseware Distribution,The Wilcox
ORGANIZER;CN="GCRCLA":MAILTO:info@gcrcla.org, ywanderson@gcrcla.org
END:VEVENT
BEGIN:VEVENT
DTSTART;TZID=UTC:20270208T100000
DTEND;TZID=UTC:20270208T150000
DTSTAMP:20260423T204917
CREATED:20250809T032115Z
LAST-MODIFIED:20250809T032115Z
UID:10000590-1802080800-1802098800@gcrcla.org
SUMMARY:Every Monday\, Blood Pressure Screening\, Food Distribution\, Clothing/Housing Distribution
DESCRIPTION:Every Monday\, Blood Pressure Screening\, Food Distribution\, Clothing/Housing Distribution
URL:https://gcrcla.org/event/every-monday-blood-pressure-screening-food-distribution-clothing-housing-distribution/2027-02-08/
LOCATION:The Wilcox\, 1040 N Kenmore Ave\, Los Angeles\, CA\, 90029\, United States
CATEGORIES:Blood Pressure Screening,Clothing Distribution,Food Distribution,Houseware Distribution,The Wilcox
ORGANIZER;CN="GCRCLA":MAILTO:info@gcrcla.org, ywanderson@gcrcla.org
END:VEVENT
BEGIN:VEVENT
DTSTART;TZID=UTC:20270215T100000
DTEND;TZID=UTC:20270215T150000
DTSTAMP:20260423T204917
CREATED:20250809T032115Z
LAST-MODIFIED:20250809T032115Z
UID:10000591-1802685600-1802703600@gcrcla.org
SUMMARY:Every Monday\, Blood Pressure Screening\, Food Distribution\, Clothing/Housing Distribution
DESCRIPTION:Every Monday\, Blood Pressure Screening\, Food Distribution\, Clothing/Housing Distribution
URL:https://gcrcla.org/event/every-monday-blood-pressure-screening-food-distribution-clothing-housing-distribution/2027-02-15/
LOCATION:The Wilcox\, 1040 N Kenmore Ave\, Los Angeles\, CA\, 90029\, United States
CATEGORIES:Blood Pressure Screening,Clothing Distribution,Food Distribution,Houseware Distribution,The Wilcox
ORGANIZER;CN="GCRCLA":MAILTO:info@gcrcla.org, ywanderson@gcrcla.org
END:VEVENT
BEGIN:VEVENT
DTSTART;TZID=UTC:20270222T100000
DTEND;TZID=UTC:20270222T150000
DTSTAMP:20260423T204917
CREATED:20250809T032115Z
LAST-MODIFIED:20250809T032115Z
UID:10000592-1803290400-1803308400@gcrcla.org
SUMMARY:Every Monday\, Blood Pressure Screening\, Food Distribution\, Clothing/Housing Distribution
DESCRIPTION:Every Monday\, Blood Pressure Screening\, Food Distribution\, Clothing/Housing Distribution
URL:https://gcrcla.org/event/every-monday-blood-pressure-screening-food-distribution-clothing-housing-distribution/2027-02-22/
LOCATION:The Wilcox\, 1040 N Kenmore Ave\, Los Angeles\, CA\, 90029\, United States
CATEGORIES:Blood Pressure Screening,Clothing Distribution,Food Distribution,Houseware Distribution,The Wilcox
ORGANIZER;CN="GCRCLA":MAILTO:info@gcrcla.org, ywanderson@gcrcla.org
END:VEVENT
BEGIN:VEVENT
DTSTART;TZID=UTC:20270301T100000
DTEND;TZID=UTC:20270301T150000
DTSTAMP:20260423T204917
CREATED:20250809T032115Z
LAST-MODIFIED:20250809T032115Z
UID:10000593-1803895200-1803913200@gcrcla.org
SUMMARY:Every Monday\, Blood Pressure Screening\, Food Distribution\, Clothing/Housing Distribution
DESCRIPTION:Every Monday\, Blood Pressure Screening\, Food Distribution\, Clothing/Housing Distribution
URL:https://gcrcla.org/event/every-monday-blood-pressure-screening-food-distribution-clothing-housing-distribution/2027-03-01/
LOCATION:The Wilcox\, 1040 N Kenmore Ave\, Los Angeles\, CA\, 90029\, United States
CATEGORIES:Blood Pressure Screening,Clothing Distribution,Food Distribution,Houseware Distribution,The Wilcox
ORGANIZER;CN="GCRCLA":MAILTO:info@gcrcla.org, ywanderson@gcrcla.org
END:VEVENT
BEGIN:VEVENT
DTSTART;TZID=UTC:20270308T100000
DTEND;TZID=UTC:20270308T150000
DTSTAMP:20260423T204917
CREATED:20250809T032115Z
LAST-MODIFIED:20250809T032115Z
UID:10000594-1804500000-1804518000@gcrcla.org
SUMMARY:Every Monday\, Blood Pressure Screening\, Food Distribution\, Clothing/Housing Distribution
DESCRIPTION:Every Monday\, Blood Pressure Screening\, Food Distribution\, Clothing/Housing Distribution
URL:https://gcrcla.org/event/every-monday-blood-pressure-screening-food-distribution-clothing-housing-distribution/2027-03-08/
LOCATION:The Wilcox\, 1040 N Kenmore Ave\, Los Angeles\, CA\, 90029\, United States
CATEGORIES:Blood Pressure Screening,Clothing Distribution,Food Distribution,Houseware Distribution,The Wilcox
ORGANIZER;CN="GCRCLA":MAILTO:info@gcrcla.org, ywanderson@gcrcla.org
END:VEVENT
BEGIN:VEVENT
DTSTART;TZID=UTC:20270315T100000
DTEND;TZID=UTC:20270315T150000
DTSTAMP:20260423T204917
CREATED:20250809T032115Z
LAST-MODIFIED:20250809T032115Z
UID:10000595-1805104800-1805122800@gcrcla.org
SUMMARY:Every Monday\, Blood Pressure Screening\, Food Distribution\, Clothing/Housing Distribution
DESCRIPTION:Every Monday\, Blood Pressure Screening\, Food Distribution\, Clothing/Housing Distribution
URL:https://gcrcla.org/event/every-monday-blood-pressure-screening-food-distribution-clothing-housing-distribution/2027-03-15/
LOCATION:The Wilcox\, 1040 N Kenmore Ave\, Los Angeles\, CA\, 90029\, United States
CATEGORIES:Blood Pressure Screening,Clothing Distribution,Food Distribution,Houseware Distribution,The Wilcox
ORGANIZER;CN="GCRCLA":MAILTO:info@gcrcla.org, ywanderson@gcrcla.org
END:VEVENT
BEGIN:VEVENT
DTSTART;TZID=UTC:20270322T100000
DTEND;TZID=UTC:20270322T150000
DTSTAMP:20260423T204917
CREATED:20250809T032115Z
LAST-MODIFIED:20250809T032115Z
UID:10000596-1805709600-1805727600@gcrcla.org
SUMMARY:Every Monday\, Blood Pressure Screening\, Food Distribution\, Clothing/Housing Distribution
DESCRIPTION:Every Monday\, Blood Pressure Screening\, Food Distribution\, Clothing/Housing Distribution
URL:https://gcrcla.org/event/every-monday-blood-pressure-screening-food-distribution-clothing-housing-distribution/2027-03-22/
LOCATION:The Wilcox\, 1040 N Kenmore Ave\, Los Angeles\, CA\, 90029\, United States
CATEGORIES:Blood Pressure Screening,Clothing Distribution,Food Distribution,Houseware Distribution,The Wilcox
ORGANIZER;CN="GCRCLA":MAILTO:info@gcrcla.org, ywanderson@gcrcla.org
END:VEVENT
BEGIN:VEVENT
DTSTART;TZID=UTC:20270329T100000
DTEND;TZID=UTC:20270329T150000
DTSTAMP:20260423T204917
CREATED:20250809T032115Z
LAST-MODIFIED:20250809T032115Z
UID:10000597-1806314400-1806332400@gcrcla.org
SUMMARY:Every Monday\, Blood Pressure Screening\, Food Distribution\, Clothing/Housing Distribution
DESCRIPTION:Every Monday\, Blood Pressure Screening\, Food Distribution\, Clothing/Housing Distribution
URL:https://gcrcla.org/event/every-monday-blood-pressure-screening-food-distribution-clothing-housing-distribution/2027-03-29/
LOCATION:The Wilcox\, 1040 N Kenmore Ave\, Los Angeles\, CA\, 90029\, United States
CATEGORIES:Blood Pressure Screening,Clothing Distribution,Food Distribution,Houseware Distribution,The Wilcox
ORGANIZER;CN="GCRCLA":MAILTO:info@gcrcla.org, ywanderson@gcrcla.org
END:VEVENT
BEGIN:VEVENT
DTSTART;TZID=UTC:20270405T100000
DTEND;TZID=UTC:20270405T150000
DTSTAMP:20260423T204917
CREATED:20250809T032115Z
LAST-MODIFIED:20250809T032115Z
UID:10000598-1806919200-1806937200@gcrcla.org
SUMMARY:Every Monday\, Blood Pressure Screening\, Food Distribution\, Clothing/Housing Distribution
DESCRIPTION:Every Monday\, Blood Pressure Screening\, Food Distribution\, Clothing/Housing Distribution
URL:https://gcrcla.org/event/every-monday-blood-pressure-screening-food-distribution-clothing-housing-distribution/2027-04-05/
LOCATION:The Wilcox\, 1040 N Kenmore Ave\, Los Angeles\, CA\, 90029\, United States
CATEGORIES:Blood Pressure Screening,Clothing Distribution,Food Distribution,Houseware Distribution,The Wilcox
ORGANIZER;CN="GCRCLA":MAILTO:info@gcrcla.org, ywanderson@gcrcla.org
END:VEVENT
BEGIN:VEVENT
DTSTART;TZID=UTC:20270412T100000
DTEND;TZID=UTC:20270412T150000
DTSTAMP:20260423T204917
CREATED:20250809T032115Z
LAST-MODIFIED:20250809T032115Z
UID:10000599-1807524000-1807542000@gcrcla.org
SUMMARY:Every Monday\, Blood Pressure Screening\, Food Distribution\, Clothing/Housing Distribution
DESCRIPTION:Every Monday\, Blood Pressure Screening\, Food Distribution\, Clothing/Housing Distribution
URL:https://gcrcla.org/event/every-monday-blood-pressure-screening-food-distribution-clothing-housing-distribution/2027-04-12/
LOCATION:The Wilcox\, 1040 N Kenmore Ave\, Los Angeles\, CA\, 90029\, United States
CATEGORIES:Blood Pressure Screening,Clothing Distribution,Food Distribution,Houseware Distribution,The Wilcox
ORGANIZER;CN="GCRCLA":MAILTO:info@gcrcla.org, ywanderson@gcrcla.org
END:VEVENT
BEGIN:VEVENT
DTSTART;TZID=UTC:20270419T100000
DTEND;TZID=UTC:20270419T150000
DTSTAMP:20260423T204917
CREATED:20250809T032115Z
LAST-MODIFIED:20250809T032115Z
UID:10000600-1808128800-1808146800@gcrcla.org
SUMMARY:Every Monday\, Blood Pressure Screening\, Food Distribution\, Clothing/Housing Distribution
DESCRIPTION:Every Monday\, Blood Pressure Screening\, Food Distribution\, Clothing/Housing Distribution
URL:https://gcrcla.org/event/every-monday-blood-pressure-screening-food-distribution-clothing-housing-distribution/2027-04-19/
LOCATION:The Wilcox\, 1040 N Kenmore Ave\, Los Angeles\, CA\, 90029\, United States
CATEGORIES:Blood Pressure Screening,Clothing Distribution,Food Distribution,Houseware Distribution,The Wilcox
ORGANIZER;CN="GCRCLA":MAILTO:info@gcrcla.org, ywanderson@gcrcla.org
END:VEVENT
BEGIN:VEVENT
DTSTART;TZID=UTC:20270426T100000
DTEND;TZID=UTC:20270426T150000
DTSTAMP:20260423T204917
CREATED:20250809T032115Z
LAST-MODIFIED:20250809T032115Z
UID:10000601-1808733600-1808751600@gcrcla.org
SUMMARY:Every Monday\, Blood Pressure Screening\, Food Distribution\, Clothing/Housing Distribution
DESCRIPTION:Every Monday\, Blood Pressure Screening\, Food Distribution\, Clothing/Housing Distribution
URL:https://gcrcla.org/event/every-monday-blood-pressure-screening-food-distribution-clothing-housing-distribution/2027-04-26/
LOCATION:The Wilcox\, 1040 N Kenmore Ave\, Los Angeles\, CA\, 90029\, United States
CATEGORIES:Blood Pressure Screening,Clothing Distribution,Food Distribution,Houseware Distribution,The Wilcox
ORGANIZER;CN="GCRCLA":MAILTO:info@gcrcla.org, ywanderson@gcrcla.org
END:VEVENT
BEGIN:VEVENT
DTSTART;TZID=UTC:20270503T100000
DTEND;TZID=UTC:20270503T150000
DTSTAMP:20260423T204917
CREATED:20250809T032115Z
LAST-MODIFIED:20250809T032115Z
UID:10000602-1809338400-1809356400@gcrcla.org
SUMMARY:Every Monday\, Blood Pressure Screening\, Food Distribution\, Clothing/Housing Distribution
DESCRIPTION:Every Monday\, Blood Pressure Screening\, Food Distribution\, Clothing/Housing Distribution
URL:https://gcrcla.org/event/every-monday-blood-pressure-screening-food-distribution-clothing-housing-distribution/2027-05-03/
LOCATION:The Wilcox\, 1040 N Kenmore Ave\, Los Angeles\, CA\, 90029\, United States
CATEGORIES:Blood Pressure Screening,Clothing Distribution,Food Distribution,Houseware Distribution,The Wilcox
ORGANIZER;CN="GCRCLA":MAILTO:info@gcrcla.org, ywanderson@gcrcla.org
END:VEVENT
END:VCALENDAR